Workbook

Sheet ZBIORCZO
U3: Miesiąc | V3: Liczba
U4: 2015
U5: Grudzień | V5: =N28 -> 1639
U6: 2016
U7: Styczeń | V7: =C29 -> 774
U8: Luty | V8: =D29 -> 1324
U9: Marzec | V9: =E29 -> 2098
U10: Kwiecień | V10: =F29 -> 4468
U11: Maj | V11: =G29 -> 9302
U12: Czerwiec | V12: =H29 -> 8834
U13: Lipiec | V13: =I29 -> 9284
U14: Sierpień | V14: =J29 -> 9051
U15: Wrzesień | V15: =K29 -> 7977
U16: Październik | V16: =L29 -> 3224
U17: Listopad | V17: =M29 -> 1979
U18: Grudzień | V18: =N29 -> 1489
U19: 2017
U20: Styczeń | V20: =C30 -> 674
U21: Luty | V21: =D30 -> 764
U22: Marzec | V22: =E30 -> 2846
U23: Kwiecień | V23: =F30 -> 3772
U24: Maj | V24: =G30 -> 9927
U25: Czerwiec | V25: =H30 -> 9216
U26: Lipiec | V26: =I30 -> 10300
C27: styczeń | D27: luty | E27: marzec | F27: kwiecień | G27: maj | H27: czerwiec | I27: lipiec | J27: sierpień | K27: wrzesień | L27: październik | M27: listopad | N27: grudzień | O27: suma | P27: dynamika | U27: Sierpień | V27: =J30 -> 10405
B28: 2015 | N28: =grudzień!S37 -> 1639 | P28: n/d | U28: Wrzesień | V28: =K30 -> 5471
B29: 2016 | C29: =styczeń!S37 -> 774 | D29: =luty!S35 -> 1324 | E29: =marzec!S37 -> 2098 | F29: =kwiecień!$S$36 -> 4468 | G29: =maj!S37 -> 9302 | H29: =czerwiec!S36 -> 8834 | I29: =lipiec!S37 -> 9284 | J29: =sierpień!S37 -> 9051 | K29: =wrzesień!$S$36 -> 7977 | L29: =październik!$S$37 -> 3224 | M29: =listopad!S36 -> 1979 | N29: =grudzień!U37 -> 1489 | O29: =SUM(C29:N29) -> 59804 | P29: n/d | U29: Październik | V29: =L30 -> 3804
B30: 2017 | C30: =styczeń!U37 -> 674 | D30: =luty!U35 -> 764 | E30: =marzec!$U$37 -> 2846 | F30: =kwiecień!U36 -> 3772 | G30: =maj!$U$37 -> 9927 | H30: =czerwiec!U36 -> 9216 | I30: =lipiec!U37 -> 10300 | J30: =sierpień!U37 -> 10405 | K30: =wrzesień!U36 -> 5471 | L30: =październik!U37 -> 3804 | M30: =V30 -> 2180 | N30: =V31 -> 1396 | O30: =SUM(C30:N30) -> 60755 | P30: =O30/O29 -> 1.0159019 | U30: Listopad | V30: =listopad!U36 -> 2180
B31: 2018 | C31: =V33 -> 1153 | D31: =luty!W35 -> 841 | E31: =marzec!W37 -> 1639 | F31: =kwiecień!W36 -> 6157 | G31: =maj!W37 -> 10713 | H31: =czerwiec!W36 -> 9892 | I31: =lipiec!W37 -> 10837 | J31: =sierpień!$W$37 -> 10424 | K31: =wrzesień!W36 -> 8923 | L31: =październik!W37 -> 6460 | M31: =V43 -> 2178 | N31: =V44 -> 1472 | O31: =SUM(C31:N31) -> 70689 | P31: =O31/O30 -> 1.1635092 | U31: Grudzień | V31: =grudzień!W37 -> 1396
B32: 2019 | C32: =V46 -> 1209 | D32: =V47 -> 1834 | E32: =V48 -> 3366 | F32: =V49 -> 6653 | G32: =V50 -> 7855 | H32: =V51 -> 12436 | I32: =V52 -> 11946 | J32: =V53 -> 12494 | K32: =V54 -> 8309 | L32: =V55 -> 5594 | M32: =V56 -> 2678 | N32: =V57 -> 1938 | O32: =SUM(C32:N32) -> 76312 | P32: =O32/O31 -> 1.0795456 | U32: 2018
B33: 2020 | C33: =V59 -> 2145 | D33: =luty!AA35 -> 2255 | E33: =V61 -> 3624 | F33: =kwiecień!AA36 -> 5605 | G33: =V63 -> 9991 | H33: =V64 -> 14704 | I33: =V65 -> 16821 | J33: =V66 -> 17217 | K33: =V67 -> 12314 | L33: =V68 -> 7800 | M33: =V69 -> 5157 | N33: 3073 | O33: =SUM(C33:N33) -> 100706 | P33: =O33/O32 -> 1.3196614 | U33: Styczeń | V33: =styczeń!W37 -> 1153
B34: 2021 | C34: =V72 -> 1907 | D34: =V73 -> 1906 | E34: =V74 -> 4673 | F34: =V75 -> 6402 | G34: =V76 -> 10686 | H34: 16789 | I34: =V78 -> 18322 | J34: 14848 | K34: 10836 | L34: =V81 -> 7424 | M34: =V82 -> 3482 | N34: =V83 -> 1799 | O34: =SUM(C34:N34) -> 99074 | P34: =O34/O33 -> 0.98379441 | U34: Luty | V34: =D31 -> 841
B35: 2022 | C35: ='[1]eco-counter'!$Z$36 -> 1755 | D35: =V86 -> 2004 | E35: ='[2]eco-counter'!$Y$36 -> 4785 | F35: ='[3]eco-counter'!$T$35 -> 5070 | G35: ='[4]eco-counter'!$S$36 -> 9541 | H35: ='[5]eco-counter'!$Z$35 -> 14305 | I35: 15574 | J35: 15404 | K35: 9042 | L35: 7537 | M35: 4475 | N35: 2062 | O35: =SUM(C35:N35) -> 91554 | P35: =O35/O34 -> 0.92409714 | U35: Marzec | V35: =E31 -> 1639
B36: 2023 | C36: 2631 | D36: 1988 | E36: 3701 | F36: =V101 -> 6977 | G36: 14653 | H36: 16138 | I36: 16284 | J36: 14783 | K36: 15103 | L36: 6706 | M36: 3888 | N36: 2015 | O36: =SUM(C36:N36) -> 104867 | P36: =O36/O35 -> 1.1454115 | U36: Kwiecień | V36: =F31 -> 6157
B37: 2024 | C37: 1788 | D37: 2810 | E37: 5279 | F37: 8255 | G37: 16313 | H37: 15059 | I37: 18011 | J37: 18682 | K37: 13297 | L37: 7437 | M37: 4615 | N37: 3332 | O37: =SUM(C37:N37) -> 114878 | P37: =O37/O36 -> 1.0954638 | U37: Maj | V37: =G31 -> 10713
B38: 2025 | C38: ='[6]eco-counter'!$Y$35 -> 2821 | D38: ='[6]eco-counter'!$Y$64 -> 2659 | E38: ='[7]eco-counter'!$AA$36 -> 6266 | F38: ='[8]eco-counter'!$R$34 -> 8106 | G38: ='[9]eco-counter'!$Q$36 -> 11619 | H38: ='[9]eco-counter'!$Q$71 -> 15273 | I38: ='[11]eco-counter'!$R$36 -> 16429 | J38: ='[11]eco-counter'!$R$71 -> 17239 | O38: =SUM(C38:N38) -> 80412 | P38: =O38/O37 -> 0.69997737 | U38: Czerwiec | V38: =H31 -> 9892
U39: Lipiec | V39: =I31 -> 10837
U40: Sierpień | V40: =J31 -> 10424
U41: Wrzesień | V41: =K31 -> 8923
U42: Październik | V42: =L31 -> 6460
U43: Listopad | V43: =listopad!W36 -> 2178
U44: Grudzień | V44: =grudzień!Y37 -> 1472
U45: 2019
U46: Styczeń | V46: =styczeń!Y37 -> 1209
U47: Luty | V47: =luty!Y35 -> 1834
U48: Marzec | V48: =marzec!$Y$37 -> 3366
U49: Kwiecień | V49: =kwiecień!Y36 -> 6653
U50: Maj | V50: =maj!Y37 -> 7855
U51: Czerwiec | V51: =czerwiec!Y36 -> 12436
U52: Lipiec | V52: =lipiec!Y37 -> 11946
U53: Sierpień | V53: =sierpień!Y37 -> 12494
U54: Wrzesień | V54: =wrzesień!Y36 -> 8309
U55: Październik | V55: =październik!$Y$37 -> 5594
U56: Listopad | V56: =listopad!Y36 -> 2678
U57: Grudzień | V57: =grudzień!AA37 -> 1938
U58: 2020
U59: Styczeń | V59: =styczeń!AA37 -> 2145
U60: Luty | V60: =D33 -> 2255
U61: Marzec | V61: =marzec!AA37 -> 3624
U62: Kwiecień | V62: =F33 -> 5605
U63: Maj | V63: 9991
U64: Czerwiec | V64: 14704
U65: Lipiec | V65: 16821
U66: Sierpień | V66: 17217
U67: Wrzesień | V67: 12314
U68: Październik | V68: 7800
U69: Listopad | V69: 5157
U70: Grudzień | V70: 3073
U71: 2021
U72: Styczeń | V72: 1907
U73: Luty | V73: 1906
U74: Marzec | V74: 4673
U75: Kwiecień | V75: 6402
U76: Maj | V76: 10686
U77: Czerwiec | V77: 16789
U78: Lipiec | V78: 18322
U79: Sierpień | V79: =J34 -> 14848
U80: Wrzesień | V80: =K34 -> 10836
U81: Październik | V81: ='[10]eco-counter'!$Z$36 -> 7424
U82: Listopad | V82: 3482
U83: Grudzień | V83: 1799
U84: 2022
U85: Styczeń | V85: =C35 -> 1755
U86: Luty | V86: 2004
U87: Marzec | V87: =E35 -> 4785
U88: Kwiecień | V88: =F35 -> 5070
U89: Maj | V89: =G35 -> 9541
U90: Czerwiec | V90: =H35 -> 14305
U91: Lipiec | V91: 15574
U92: Sierpień | V92: 15404
U93: Wrzesień | V93: 9042
U94: Październik | V94: 7537
U95: Listopad | V95: 4475
U96: Grudzień | V96: 2062
U97: 2023
U98: Styczeń | V98: =C36 -> 2631
U99: Luty | V99: =D36 -> 1988
U100: Marzec | V100: =E36 -> 3701
U101: Kwiecień | V101: 6977
U102: Maj | V102: =G36 -> 14653
...

Sheet styczeń
Q3: Data | S3: 2016 | U3: 2017 | W3: 2018 | Y3: 2019 | AA3: 2020
Q5: 42370 | R5: 42370 | S5: 15 | T5: 42736 | U5: 23 | V5: 43101 | W5: 30 | X5: 43466 | Y5: 11 | Z5: 43831 | AA5: 28
Q6: 42371 | R6: 42371 | S6: 17 | T6: 42737 | U6: 51 | V6: 43102 | W6: 49 | X6: 43467 | Y6: 27 | Z6: 43832 | AA6: 76
Q7: 42372 | R7: 42372 | S7: 18 | T7: 42738 | U7: 59 | V7: 43103 | W7: 58 | X7: 43468 | Y7: 13 | Z7: 43833 | AA7: 70
Q8: 42373 | R8: 42373 | S8: 31 | T8: 42739 | U8: 41 | V8: 43104 | W8: 59 | X8: 43469 | Y8: 14 | Z8: 43834 | AA8: 37
Q9: 42374 | R9: 42374 | S9: 26 | T9: 42740 | U9: 16 | V9: 43105 | W9: 43 | X9: 43470 | Y9: 43 | Z9: 43835 | AA9: 44
Q10: 42375 | R10: 42375 | S10: 9 | T10: 42741 | U10: 0 | V10: 43106 | W10: 24 | X10: 43471 | Y10: 26 | Z10: 43836 | AA10: 35
Q11: 42376 | R11: 42376 | S11: 29 | T11: 42742 | U11: 24 | V11: 43107 | W11: 29 | X11: 43472 | Y11: 46 | Z11: 43837 | AA11: 97
Q12: 42377 | R12: 42377 | S12: 28 | T12: 42743 | U12: 4 | V12: 43108 | W12: 64 | X12: 43473 | Y12: 43 | Z12: 43838 | AA12: 87
Q13: 42378 | R13: 42378 | S13: 20 | T13: 42744 | U13: 40 | V13: 43109 | W13: 66 | X13: 43474 | Y13: 53 | Z13: 43839 | AA13: 92
Q14: 42379 | R14: 42379 | S14: 18 | T14: 42745 | U14: 32 | V14: 43110 | W14: 56 | X14: 43475 | Y14: 53 | Z14: 43840 | AA14: 72
Q15: 42380 | R15: 42380 | S15: 26 | T15: 42746 | U15: 12 | V15: 43111 | W15: 50 | X15: 43476 | Y15: 58 | Z15: 43841 | AA15: 80
Q16: 42381 | R16: 42381 | S16: 43 | T16: 42747 | U16: 33 | V16: 43112 | W16: 49 | X16: 43477 | Y16: 62 | Z16: 43842 | AA16: 42
... Q35: 42400 | R35: 42400 | S35: 19 | T35: 42766 | U35: 44 | V35: 43131 | W35: 56 | X35: 43496 | Y35: 42 | Z35: 43861 | AA35: 55
Q37: Razem | S37: =SUM(S5:S35) -> 774 | U37: =SUM(U5:U35) -> 674 | W37: =SUM(W5:W35) -> 1153 | Y37: =SUM(Y5:Y35) -> 1209 | AA37: =SUM(AA5:AA36) -> 2145

Sheet luty
Q3: Data | S3: 2016 | U3: 2017 | W3: 2018 | Y3: 2019 | AA3: 2020
Q5: 42401 | R5: 42401 | S5: 45 | T5: 42767 | U5: 41 | V5: 43132 | W5: 58 | X5: 43497 | Y5: 50 | Z5: 43862 | AA5: 60
Q6: 42402 | R6: 42402 | S6: 35 | T6: 42768 | U6: 46 | V6: 43133 | W6: 60 | X6: 43498 | Y6: 38 | Z6: 43863 | AA6: 51
Q7: 42403 | R7: 42403 | S7: 24 | T7: 42769 | U7: 37 | V7: 43134 | W7: 30 | X7: 43499 | Y7: 46 | Z7: 43864 | AA7: 88
Q8: 42404 | R8: 42404 | S8: 30 | T8: 42770 | U8: 27 | V8: 43135 | W8: 25 | X8: 43500 | Y8: 46 | Z8: 43865 | AA8: 79
Q9: 42405 | R9: 42405 | S9: 43 | T9: 42771 | U9: 28 | V9: 43136 | W9: 35 | X9: 43501 | Y9: 57 | Z9: 43866 | AA9: 85
Q10: 42406 | R10: 42406 | S10: 39 | T10: 42772 | U10: 32 | V10: 43137 | W10: 27 | X10: 43502 | Y10: 55 | Z10: 43867 | AA10: 70
Q11: 42407 | R11: 42407 | S11: 41 | T11: 42773 | U11: 18 | V11: 43138 | W11: 23 | X11: 43503 | Y11: 45 | Z11: 43868 | AA11: 93
Q12: 42408 | R12: 42408 | S12: 53 | T12: 42774 | U12: 9 | V12: 43139 | W12: 24 | X12: 43504 | Y12: 63 | Z12: 43869 | AA12: 94
Q13: 42409 | R13: 42409 | S13: 44 | T13: 42775 | U13: 3 | V13: 43140 | W13: 11 | X13: 43505 | Y13: 53 | Z13: 43870 | AA13: 63
Q14: 42410 | R14: 42410 | S14: 51 | T14: 42776 | U14: 0 | V14: 43141 | W14: 8 | X14: 43506 | Y14: 52 | Z14: 43871 | AA14: 67
Q15: 42411 | R15: 42411 | S15: 45 | T15: 42777 | U15: 0 | V15: 43142 | W15: 4 | X15: 43507 | Y15: 42 | Z15: 43872 | AA15: 56
Q16: 42412 | R16: 42412 | S16: 39 | T16: 42778 | U16: 0 | V16: 43143 | W16: 14 | X16: 43508 | Y16: 50 | Z16: 43873 | AA16: 60
... Q32: 42428 | R32: 42428 | S32: 39 | T32: 42794 | U32: 68 | V32: 43159 | W32: 23 | X32: 43524 | Y32: 78 | Z32: 43889 | AA32: 99
Q33: 42429 | R33: 42429 | S33: 62 | Z33: 43890 | AA33: 74
Q35: Razem | S35: =SUM(S5:S33) -> 1324 | U35: =SUM(U5:U33) -> 764 | W35: =SUM(W5:W33) -> 841 | Y35: =SUM(Y5:Y33) -> 1834 | AA35: =SUM(AA5:AA33) -> 2255

Sheet marzec
Q3: Data | S3: 2016 | U3: 2017 | W3: 2018 | Y3: 2019 | AA3: 2020
Q5: 42430 | R5: 42430 | S5: 48 | T5: 42795 | U5: 63 | V5: 43160 | W5: 24 | X5: 43525 | Y5: 78 | Z5: niedz. 1 mar | AA5: 131
Q6: 42431 | R6: 42431 | S6: 66 | T6: 42796 | U6: 58 | V6: 43161 | W6: 17 | X6: 43526 | Y6: 73 | Z6: pon. 2 mar | AA6: 97
Q7: 42432 | R7: 42432 | S7: 82 | T7: 42797 | U7: 68 | V7: 43162 | W7: 8 | X7: 43527 | Y7: 47 | Z7: wt. 3 mar | AA7: 66
Q8: 42433 | R8: 42433 | S8: 52 | T8: 42798 | U8: 99 | V8: 43163 | W8: 18 | X8: 43528 | Y8: 80 | Z8: śr. 4 mar | AA8: 94
Q9: 42434 | R9: 42434 | S9: 45 | T9: 42799 | U9: 85 | V9: 43164 | W9: 34 | X9: 43529 | Y9: 35 | Z9: czw. 5 mar | AA9: 95
Q10: 42435 | R10: 42435 | S10: 48 | T10: 42800 | U10: 61 | V10: 43165 | W10: 49 | X10: 43530 | Y10: 83 | Z10: pt. 6 mar | AA10: 91
Q11: 42436 | R11: 42436 | S11: 90 | T11: 42801 | U11: 58 | V11: 43166 | W11: 40 | X11: 43531 | Y11: 98 | Z11: sob. 7 mar | AA11: 83
Q12: 42437 | R12: 42437 | S12: 84 | T12: 42802 | U12: 72 | V12: 43167 | W12: 35 | X12: 43532 | Y12: 69 | Z12: niedz. 8 mar | AA12: 180
Q13: 42438 | R13: 42438 | S13: 68 | T13: 42803 | U13: 80 | V13: 43168 | W13: 49 | X13: 43533 | Y13: 56 | Z13: pon. 9 mar | AA13: 119
Q14: 42439 | R14: 42439 | S14: 61 | T14: 42804 | U14: 63 | V14: 43169 | W14: 55 | X14: 43534 | Y14: 40 | Z14: wt. 10 mar | AA14: 121
Q15: 42440 | R15: 42440 | S15: 40 | T15: 42805 | U15: 65 | V15: 43170 | W15: 37 | X15: 43535 | Y15: 125 | Z15: śr. 11 mar | AA15: 100
Q16: 42441 | R16: 42441 | S16: 49 | T16: 42806 | U16: 45 | V16: 43171 | W16: 75 | X16: 43536 | Y16: 83 | Z16: czw. 12 mar | AA16: 90
... Q35: 42460 | R35: 42460 | S35: 80 | T35: 42825 | U35: 187 | V35: 43190 | W35: 77 | X35: 43555 | Y35: 113 | Z35: wt. 31 mar | AA35: 83
Q37: Razem | S37: =SUM(S5:S35) -> 2098 | U37: =SUM(U5:U35) -> 2846 | W37: =SUM(W5:W35) -> 1639 | Y37: =SUM(Y5:Y35) -> 3366 | AA37: =SUM(AA5:AA35) -> 3624

Sheet kwiecień
Q3: Data | S3: 2016 | U3: 2017 | W3: 2018 | Y3: 2019 | AA3: 2020
Q5: 42461 | R5: 42461 | S5: 115 | T5: 42826 | U5: 283 | V5: 43191 | W5: 11 | X5: 43556 | Y5: 202 | Z5: śr. 1 kwi | AA5: 98
Q6: 42462 | R6: 42462 | S6: 175 | T6: 42827 | U6: 157 | V6: 43192 | W6: 43 | X6: 43557 | Y6: 198 | Z6: czw. 2 kwi | AA6: 88
Q7: 42463 | R7: 42463 | S7: 171 | T7: 42828 | U7: 179 | V7: 43193 | W7: 70 | X7: 43558 | Y7: 183 | Z7: pt. 3 kwi | AA7: 82
Q8: 42464 | R8: 42464 | S8: 187 | T8: 42829 | U8: 170 | V8: 43194 | W8: 166 | X8: 43559 | Y8: 246 | Z8: sob. 4 kwi | AA8: 112
Q9: 42465 | R9: 42465 | S9: 211 | T9: 42830 | U9: 129 | V9: 43195 | W9: 138 | X9: 43560 | Y9: 266 | Z9: niedz. 5 kwi | AA9: 131
Q10: 42466 | R10: 42466 | S10: 116 | T10: 42831 | U10: 118 | V10: 43196 | W10: 130 | X10: 43561 | Y10: 311 | Z10: pon. 6 kwi | AA10: 183
Q11: 42467 | R11: 42467 | S11: 158 | T11: 42832 | U11: 117 | V11: 43197 | W11: 179 | X11: 43562 | Y11: 365 | Z11: wt. 7 kwi | AA11: 222
Q12: 42468 | R12: 42468 | S12: 150 | T12: 42833 | U12: 194 | V12: 43198 | W12: 316 | X12: 43563 | Y12: 166 | Z12: śr. 8 kwi | AA12: 217
Q13: 42469 | R13: 42469 | S13: 176 | T13: 42834 | U13: 170 | V13: 43199 | W13: 244 | X13: 43564 | Y13: 155 | Z13: czw. 9 kwi | AA13: 173
Q14: 42470 | R14: 42470 | S14: 139 | T14: 42835 | U14: 184 | V14: 43200 | W14: 211 | X14: 43565 | Y14: 120 | Z14: pt. 10 kwi | AA14: 160
Q15: 42471 | R15: 42471 | S15: 188 | T15: 42836 | U15: 116 | V15: 43201 | W15: 141 | X15: 43566 | Y15: 96 | Z15: sob. 11 kwi | AA15: 87
Q16: 42472 | R16: 42472 | S16: 162 | T16: 42837 | U16: 107 | V16: 43202 | W16: 195 | X16: 43567 | Y16: 110 | Z16: niedz. 12 kwi | AA16: 68
... Q34: 42490 | R34: 42490 | S34: 216 | T34: 42855 | U34: 227 | V34: 43220 | W34: 300 | X34: 43585 | Y34: 303 | Z34: czw. 30 kwi | AA34: 307
Q36: Razem | S36: =SUM(S5:S34) -> 4468 | U36: =SUM(U5:U34) -> 3772 | W36: =SUM(W5:W34) -> 6157 | Y36: =SUM(Y5:Y34) -> 6653 | AA36: =SUM(AA5:AA34) -> 5605

Sheet maj
Q3: Data | S3: 2016 | U3: 2017 | W3: 2018 | Y3: 2019
Q5: 42491 | R5: 42491 | S5: 246 | T5: 42856 | U5: 327 | V5: 43221 | W5: 425 | X5: 43586 | Y5: 492
Q6: 42492 | R6: 42492 | S6: 301 | T6: 42857 | U6: 261 | V6: 43222 | W6: 346 | X6: 43587 | Y6: 97
Q7: 42493 | R7: 42493 | S7: 367 | T7: 42858 | U7: 205 | V7: 43223 | W7: 285 | X7: 43588 | Y7: 110
Q8: 42494 | R8: 42494 | S8: 253 | T8: 42859 | U8: 164 | V8: 43224 | W8: 288 | X8: 43589 | Y8: 175
Q9: 42495 | R9: 42495 | S9: 325 | T9: 42860 | U9: 148 | V9: 43225 | W9: 312 | X9: 43590 | Y9: 178
Q10: 42496 | R10: 42496 | S10: 317 | T10: 42861 | U10: 307 | V10: 43226 | W10: 387 | X10: 43591 | Y10: 249
Q11: 42497 | R11: 42497 | S11: 371 | T11: 42862 | U11: 108 | V11: 43227 | W11: 316 | X11: 43592 | Y11: 313
Q12: 42498 | R12: 42498 | S12: 380 | T12: 42863 | U12: 169 | V12: 43228 | W12: 369 | X12: 43593 | Y12: 325
Q13: 42499 | R13: 42499 | S13: 308 | T13: 42864 | U13: 165 | V13: 43229 | W13: 407 | X13: 43594 | Y13: 237
Q14: 42500 | R14: 42500 | S14: 321 | T14: 42865 | U14: 84 | V14: 43230 | W14: 402 | X14: 43595 | Y14: 284
Q15: 42501 | R15: 42501 | S15: 279 | T15: 42866 | U15: 200 | V15: 43231 | W15: 265 | X15: 43596 | Y15: 281
Q16: 42502 | R16: 42502 | S16: 266 | T16: 42867 | U16: 245 | V16: 43232 | W16: 273 | X16: 43597 | Y16: 215
... Q35: 42521 | R35: 42521 | S35: 370 | T35: 42886 | U35: 276 | V35: 43251 | W35: 450 | X35: 43616 | Y35: 313
Q37: Razem | S37: =SUM(S5:S35) -> 9302 | U37: =SUM(U5:U35) -> 9927 | W37: =SUM(W5:W35) -> 10713 | Y37: =SUM(Y5:Y35) -> 7855

Sheet czerwiec
Q3: Data | S3: 2016 | U3: 2017 | W3: 2018 | Y3: 2019
Q5: 42522 | R5: 42522 | S5: 245 | T5: 42887 | U5: 266 | V5: 43252 | W5: 366 | X5: 43617 | Y5: 372
Q6: 42523 | R6: 42523 | S6: 362 | T6: 42888 | U6: 312 | V6: 43253 | W6: 376 | X6: 43618 | Y6: 512
Q7: 42524 | R7: 42524 | S7: 390 | T7: 42889 | U7: 383 | V7: 43254 | W7: 320 | X7: 43619 | Y7: 400
Q8: 42525 | R8: 42525 | S8: 380 | T8: 42890 | U8: 71 | V8: 43255 | W8: 364 | X8: 43620 | Y8: 430
Q9: 42526 | R9: 42526 | S9: 328 | T9: 42891 | U9: 319 | V9: 43256 | W9: 276 | X9: 43621 | Y9: 439
Q10: 42527 | R10: 42527 | S10: 319 | T10: 42892 | U10: 296 | V10: 43257 | W10: 338 | X10: 43622 | Y10: 399
Q11: 42528 | R11: 42528 | S11: 372 | T11: 42893 | U11: 231 | V11: 43258 | W11: 406 | X11: 43623 | Y11: 335
Q12: 42529 | R12: 42529 | S12: 322 | T12: 42894 | U12: 348 | V12: 43259 | W12: 371 | X12: 43624 | Y12: 311
Q13: 42530 | R13: 42530 | S13: 327 | T13: 42895 | U13: 355 | V13: 43260 | W13: 429 | X13: 43625 | Y13: 594
Q14: 42531 | R14: 42531 | S14: 251 | T14: 42896 | U14: 253 | V14: 43261 | W14: 368 | X14: 43626 | Y14: 345
Q15: 42532 | R15: 42532 | S15: 192 | T15: 42897 | U15: 334 | V15: 43262 | W15: 284 | X15: 43627 | Y15: 367
Q16: 42533 | R16: 42533 | S16: 263 | T16: 42898 | U16: 219 | V16: 43263 | W16: 305 | X16: 43628 | Y16: 403
... Q34: 42551 | R34: 42551 | S34: 342 | T34: 42916 | U34: 168 | V34: 43281 | W34: 184 | X34: 43646 | Y34: 452
Q36: Razem | S36: =SUM(S5:S34) -> 8834 | U36: =SUM(U5:U34) -> 9216 | W36: =SUM(W5:W35) -> 9892 | Y36: =SUM(Y5:Y34) -> 12436

Sheet lipiec
Q3: Data | S3: 2016 | U3: 2017 | W3: 2018 | Y3: 2019
Q5: 42552 | R5: 42552 | S5: 311 | T5: 42917 | U5: 104 | V5: 43282 | W5: 167 | X5: 43647 | Y5: 390
Q6: 42553 | R6: 42553 | S6: 262 | T6: 42918 | U6: 306 | V6: 43283 | W6: 256 | X6: 43648 | Y6: 321
Q7: 42554 | R7: 42554 | S7: 262 | T7: 42919 | U7: 347 | V7: 43284 | W7: 295 | X7: 43649 | Y7: 357
Q8: 42555 | R8: 42555 | S8: 312 | T8: 42920 | U8: 252 | V8: 43285 | W8: 407 | X8: 43650 | Y8: 330
Q9: 42556 | R9: 42556 | S9: 353 | T9: 42921 | U9: 280 | V9: 43286 | W9: 431 | X9: 43651 | Y9: 292
Q10: 42557 | R10: 42557 | S10: 183 | T10: 42922 | U10: 388 | V10: 43287 | W10: 342 | X10: 43652 | Y10: 182
Q11: 42558 | R11: 42558 | S11: 255 | T11: 42923 | U11: 423 | V11: 43288 | W11: 413 | X11: 43653 | Y11: 248
Q12: 42559 | R12: 42559 | S12: 326 | T12: 42924 | U12: 251 | V12: 43289 | W12: 422 | X12: 43654 | Y12: 134
Q13: 42560 | R13: 42560 | S13: 218 | T13: 42925 | U13: 429 | V13: 43290 | W13: 313 | X13: 43655 | Y13: 168
Q14: 42561 | R14: 42561 | S14: 219 | T14: 42926 | U14: 386 | V14: 43291 | W14: 390 | X14: 43656 | Y14: 279
Q15: 42562 | R15: 42562 | S15: 301 | T15: 42927 | U15: 388 | V15: 43292 | W15: 401 | X15: 43657 | Y15: 481
Q16: 42563 | R16: 42563 | S16: 343 | T16: 42928 | U16: 366 | V16: 43293 | W16: 222 | X16: 43658 | Y16: 542
... Q35: 42582 | R35: 42582 | S35: 294 | T35: 42947 | U35: 352 | V35: 43312 | W35: 421 | X35: 43677 | Y35: 404
Q37: Razem | S37: =SUM(S5:S35) -> 9284 | U37: =SUM(U5:U35) -> 10300 | W37: =SUM(W5:W35) -> 10837 | Y37: =SUM(Y5:Y35) -> 11946

Sheet sierpień
Q3: Data | S3: 2016 | U3: 2017 | W3: 2018 | Y3: 2019
Q5: 42583 | R5: 42583 | S5: 154 | T5: 42948 | U5: 378 | V5: 43313 | W5: 307 | X5: 43678 | Y5: 286
Q6: 42584 | R6: 42584 | S6: 278 | T6: 42949 | U6: 430 | V6: 43314 | W6: 276 | X6: 43679 | Y6: 388
Q7: 42585 | R7: 42585 | S7: 339 | T7: 42950 | U7: 253 | V7: 43315 | W7: 328 | X7: 43680 | Y7: 453
Q8: 42586 | R8: 42586 | S8: 282 | T8: 42951 | U8: 404 | V8: 43316 | W8: 315 | X8: 43681 | Y8: 332
Q9: 42587 | R9: 42587 | S9: 200 | T9: 42952 | U9: 336 | V9: 43317 | W9: 284 | X9: 43682 | Y9: 273
Q10: 42588 | R10: 42588 | S10: 205 | T10: 42953 | U10: 321 | V10: 43318 | W10: 419 | X10: 43683 | Y10: 297
Q11: 42589 | R11: 42589 | S11: 231 | T11: 42954 | U11: 409 | V11: 43319 | W11: 441 | X11: 43684 | Y11: 411
Q12: 42590 | R12: 42590 | S12: 332 | T12: 42955 | U12: 467 | V12: 43320 | W12: 382 | X12: 43685 | Y12: 328
Q13: 42591 | R13: 42591 | S13: 343 | T13: 42956 | U13: 361 | V13: 43321 | W13: 369 | X13: 43686 | Y13: 306
Q14: 42592 | R14: 42592 | S14: 316 | T14: 42957 | U14: 350 | V14: 43322 | W14: 281 | X14: 43687 | Y14: 226
Q15: 42593 | R15: 42593 | S15: 321 | T15: 42958 | U15: 346 | V15: 43323 | W15: 314 | X15: 43688 | Y15: 524
Q16: 42594 | R16: 42594 | S16: 313 | T16: 42959 | U16: 229 | V16: 43324 | W16: 279 | X16: 43689 | Y16: 379
... Q35: 42613 | R35: 42613 | S35: 329 | T35: 42978 | U35: 345 | V35: 43343 | W35: 255 | X35: 43708 | Y35: 546
Q37: Razem | S37: =SUM(S5:S35) -> 9051 | U37: =SUM(U5:U35) -> 10405 | W37: =SUM(W5:W35) -> 10424 | Y37: =SUM(Y5:Y35) -> 12494

Sheet wrzesień
Q3: Data | S3: 2016 | U3: 2017 | W3: 2018 | Y3: 2019
Q5: 42614 | R5: 42614 | S5: 335 | T5: 42979 | U5: 203 | V5: 43344 | W5: 357 | X5: 873 | Y5: 499
Q6: 42615 | R6: 42615 | S6: 289 | T6: 42980 | U6: 71 | V6: 43345 | W6: 318 | X6: 917 | Y6: 318
Q7: 42616 | R7: 42616 | S7: 287 | T7: 42981 | U7: 124 | V7: 43346 | W7: 377 | X7: 1121 | Y7: 385
Q8: 42617 | R8: 42617 | S8: 76 | T8: 42982 | U8: 170 | V8: 43347 | W8: 389 | X8: 1259 | Y8: 377
Q9: 42618 | R9: 42618 | S9: 238 | T9: 42983 | U9: 200 | V9: 43348 | W9: 374 | X9: 1289 | Y9: 387
Q10: 42619 | R10: 42619 | S10: 336 | T10: 42984 | U10: 115 | V10: 43349 | W10: 359 | X10: 1150 | Y10: 350
Q11: 42620 | R11: 42620 | S11: 342 | T11: 42985 | U11: 76 | V11: 43350 | W11: 378 | X11: 528 | Y11: 286
Q12: 42621 | R12: 42621 | S12: 328 | T12: 42986 | U12: 184 | V12: 43351 | W12: 285 | X12: 637 | Y12: 296
Q13: 42622 | R13: 42622 | S13: 303 | T13: 42987 | U13: 219 | V13: 43352 | W13: 375 | X13: 938 | Y13: 310
Q14: 42623 | R14: 42623 | S14: 297 | T14: 42988 | U14: 107 | V14: 43353 | W14: 403 | X14: 405 | Y14: 134
Q15: 42624 | R15: 42624 | S15: 329 | T15: 42989 | U15: 223 | V15: 43354 | W15: 293 | X15: 1102 | Y15: 353
Q16: 42625 | R16: 42625 | S16: 320 | T16: 42990 | U16: 250 | V16: 43355 | W16: 312 | X16: 1067 | Y16: 367
... Q34: 42643 | R34: 42643 | S34: 247 | T34: 43008 | U34: 182 | V34: 43373 | W34: 160 | X34: 377 | Y34: 101
Q36: Razem | S36: =SUM(S5:S34) -> 7977 | U36: =SUM(U5:U34) -> 5471 | W36: =SUM(W5:W34) -> 8923 | Y36: =SUM(Y5:Y34) -> 8309

Sheet październik
Q3: Data | S3: 2016 | U3: 2017 | W3: 2018 | Y3: 2019
Q5: 42644 | R5: 42644 | S5: 173 | T5: 43009 | U5: 177 | V5: 43374 | W5: 210 | X5: 43739 | Y5: 149
Q6: 42645 | R6: 42645 | S6: 142 | T6: 43010 | U6: 179 | V6: 43375 | W6: 183 | X6: 43740 | Y6: 166
Q7: 42646 | R7: 42646 | S7: 135 | T7: 43011 | U7: 107 | V7: 43376 | W7: 82 | X7: 43741 | Y7: 205
Q8: 42647 | R8: 42647 | S8: 151 | T8: 43012 | U8: 128 | V8: 43377 | W8: 209 | X8: 43742 | Y8: 213
Q9: 42648 | R9: 42648 | S9: 70 | T9: 43013 | U9: 100 | V9: 43378 | W9: 217 | X9: 43743 | Y9: 134
Q10: 42649 | R10: 42649 | S10: 57 | T10: 43014 | U10: 130 | V10: 43379 | W10: 344 | X10: 43744 | Y10: 71
Q11: 42650 | R11: 42650 | S11: 79 | T11: 43015 | U11: 111 | V11: 43380 | W11: 129 | X11: 43745 | Y11: 166
Q12: 42651 | R12: 42651 | S12: 72 | T12: 43016 | U12: 85 | V12: 43381 | W12: 203 | X12: 43746 | Y12: 130
Q13: 42652 | R13: 42652 | S13: 59 | T13: 43017 | U13: 91 | V13: 43382 | W13: 242 | X13: 43747 | Y13: 210
Q14: 42653 | R14: 42653 | S14: 112 | T14: 43018 | U14: 133 | V14: 43383 | W14: 302 | X14: 43748 | Y14: 126
Q15: 42654 | R15: 42654 | S15: 124 | T15: 43019 | U15: 126 | V15: 43384 | W15: 287 | X15: 43749 | Y15: 157
Q16: 42655 | R16: 42655 | S16: 123 | T16: 43020 | U16: 179 | V16: 43385 | W16: 267 | X16: 43750 | Y16: 117
... Q34: 42673 | R34: 42673 | S34: 45 | T34: 43038 | U34: 66 | V34: 43403 | W34: 167 | X34: 43768 | Y34: 161
Q35: 42674 | S35: 106 | T35: 43039 | U35: 79 | V35: 43404 | W35: 228 | X35: 43769 | Y35: 103
Q37: Razem | S37: =SUM(S5:S35) -> 3224 | U37: =SUM(U5:U35) -> 3804 | W37: =SUM(W5:W35) -> 6460 | Y37: =SUM(Y5:Y35) -> 5594

Sheet listopad
Q3: Data | S3: 2016 | T3: Data | U3: 2017 | W3: 2018 | Y3: 2019
Q5: 42675 | R5: 42675 | S5: 31 | T5: 43040 | U5: 23 | V5: 43405 | W5: 99 | X5: 43770 | Y5: 75
Q6: 42676 | R6: 42676 | S6: 77 | T6: 43041 | U6: 69 | V6: 43406 | W6: 103 | X6: 43771 | Y6: 31
Q7: 42677 | R7: 42677 | S7: 67 | T7: 43042 | U7: 102 | V7: 43407 | W7: 100 | X7: 43772 | Y7: 58
Q8: 42678 | R8: 42678 | S8: 67 | T8: 43043 | U8: 125 | V8: 43408 | W8: 97 | X8: 43773 | Y8: 62
Q9: 42679 | R9: 42679 | S9: 52 | T9: 43044 | U9: 81 | V9: 43409 | W9: 86 | X9: 43774 | Y9: 117
Q10: 42680 | R10: 42680 | S10: 39 | T10: 43045 | U10: 93 | V10: 43410 | W10: 151 | X10: 43775 | Y10: 114
Q11: 42681 | R11: 42681 | S11: 64 | T11: 43046 | U11: 102 | V11: 43411 | W11: 126 | X11: 43776 | Y11: 117
Q12: 42682 | R12: 42682 | S12: 92 | T12: 43047 | U12: 109 | V12: 43412 | W12: 108 | X12: 43777 | Y12: 110
Q13: 42683 | R13: 42683 | S13: 61 | T13: 43048 | U13: 103 | V13: 43413 | W13: 86 | X13: 43778 | Y13: 88
Q14: 42684 | R14: 42684 | S14: 79 | T14: 43049 | U14: 98 | V14: 43414 | W14: 78 | X14: 43779 | Y14: 119
Q15: 42685 | R15: 42685 | S15: 28 | T15: 43050 | U15: 15 | V15: 43415 | W15: 76 | X15: 43780 | Y15: 104
Q16: 42686 | R16: 42686 | S16: 49 | T16: 43051 | U16: 34 | V16: 43416 | W16: 122 | X16: 43781 | Y16: 93
... Q34: 42704 | R34: 42704 | S34: 57 | T34: 43069 | U34: 62 | V34: 43434 | W34: 15 | X34: 43799 | Y34: 88
Q36: Razem | S36: =SUM(S5:S34) -> 1979 | T36: Razem | U36: =SUM(U5:U34) -> 2180 | W36: =SUM(W5:W34) -> 2178 | Y36: =SUM(Y5:Y34) -> 2678

Sheet grudzień
Q3: Data | S3: 2015 | U3: 2016 | W3: 2017 | Y3: 2018 | AA3: 2019
Q5: 42705 | R5: 42339 | S5: 49 | T5: 42705 | U5: 60 | V5: 43070 | W5: 54 | X5: 43435 | Y5: 17 | Z5: 43800 | AA5: 45
Q6: 42706 | R6: 42340 | S6: 63 | T6: 42706 | U6: 47 | V6: 43071 | W6: 55 | X6: 43436 | Y6: 26 | Z6: 43801 | AA6: 74
Q7: 42707 | R7: 42341 | S7: 67 | T7: 42707 | U7: 20 | V7: 43072 | W7: 18 | X7: 43437 | Y7: 56 | Z7: 43802 | AA7: 91
Q8: 42708 | R8: 42342 | S8: 67 | T8: 42708 | U8: 30 | V8: 43073 | W8: 57 | X8: 43438 | Y8: 70 | Z8: 43803 | AA8: 71
Q9: 42709 | R9: 42343 | S9: 50 | T9: 42709 | U9: 60 | V9: 43074 | W9: 64 | X9: 43439 | Y9: 82 | Z9: 43804 | AA9: 84
Q10: 42710 | R10: 42344 | S10: 39 | T10: 42710 | U10: 72 | V10: 43075 | W10: 46 | X10: 43440 | Y10: 79 | Z10: 43805 | AA10: 66
Q11: 42711 | R11: 42345 | S11: 85 | T11: 42711 | U11: 70 | V11: 43076 | W11: 51 | X11: 43441 | Y11: 58 | Z11: 43806 | AA11: 52
Q12: 42712 | R12: 42346 | S12: 74 | T12: 42712 | U12: 57 | V12: 43077 | W12: 58 | X12: 43442 | Y12: 54 | Z12: 43807 | AA12: 38
Q13: 42713 | R13: 42347 | S13: 66 | T13: 42713 | U13: 70 | V13: 43078 | W13: 37 | X13: 43443 | Y13: 38 | Z13: 43808 | AA13: 90
Q14: 42714 | R14: 42348 | S14: 86 | T14: 42714 | U14: 29 | V14: 43079 | W14: 25 | X14: 43444 | Y14: 79 | Z14: 43809 | AA14: 69
Q15: 42715 | R15: 42349 | S15: 56 | T15: 42715 | U15: 21 | V15: 43080 | W15: 50 | X15: 43445 | Y15: 78 | Z15: 43810 | AA15: 81
Q16: 42716 | R16: 42350 | S16: 51 | T16: 42716 | U16: 51 | V16: 43081 | W16: 76 | X16: 43446 | Y16: 82 | Z16: 43811 | AA16: 65
... Q35: 42735 | R35: 42369 | S35: 43 | T35: 42735 | U35: 46 | V35: 43100 | W35: 21 | X35: 43465 | Y35: 60 | Z35: 43830 | AA35: 36
Q37: Razem | S37: =SUM(S5:S35) -> 1639 | U37: =SUM(U5:U35) -> 1489 | W37: =SUM(W5:W35) -> 1396 | Y37: =SUM(Y5:Y35) -> 1472 | AA37: =SUM(AA5:AA35) -> 1938
