Workbook

Sheet ZBIORCZO
U3: Miesiąc | V3: Liczba
U4: 2015
U5: Grudzień | V5: =N28 -> 10736
U6: 2016
U7: Styczeń | V7: =C29 -> 5553
U8: Luty | V8: =D29 -> 8793
U9: Marzec | V9: =E29 -> 13128
U10: Kwiecień | V10: =F29 -> 29269
U11: Maj | V11: =G29 -> 49788
U12: Czerwiec | V12: =H29 -> 49831
U13: Lipiec | V13: =I29 -> 48033
U14: Sierpień | V14: =J29 -> 44419
U15: Wrzesień | V15: =K29 -> 43459
U16: Październik | V16: =L29 -> 17824
U17: Listopad | V17: =M29 -> 11110
U18: Grudzień | V18: =N29 -> 8147
U19: 2017
U20: Styczeń | V20: =C30 -> 4715
U21: Luty | V21: =D30 -> 5912
U22: Marzec | V22: =E30 -> 16976
U23: Kwiecień | V23: =F30 -> 21604
U24: Maj | V24: =G30 -> 48881
U25: Czerwiec | V25: =H30 -> 45381
U26: Lipiec | V26: =I30 -> 45296
C27: styczeń | D27: luty | E27: marzec | F27: kwiecień | G27: maj | H27: czerwiec | I27: lipiec | J27: sierpień | K27: wrzesień | L27: październik | M27: listopad | N27: grudzień | O27: suma | P27: dynamika | U27: Sierpień | V27: =J30 -> 49329
B28: 2015 | N28: =grudzień!S37 -> 10736 | P28: n/d | U28: Wrzesień | V28: =K30 -> 27931
B29: 2016 | C29: =styczeń!S37 -> 5553 | D29: =luty!S35 -> 8793 | E29: =marzec!S37 -> 13128 | F29: =kwiecień!S36 -> 29269 | G29: =maj!S37 -> 49788 | H29: =czerwiec!$S$36 -> 49831 | I29: =lipiec!S37 -> 48033 | J29: =sierpień!S37 -> 44419 | K29: =wrzesień!$S$36 -> 43459 | L29: =październik!S37 -> 17824 | M29: =listopad!$S$36 -> 11110 | N29: =grudzień!U37 -> 8147 | O29: =SUM(C29:N29) -> 329354 | P29: n/d | U29: Październik | V29: =L30 -> 20986
B30: 2017 | C30: =styczeń!U37 -> 4715 | D30: =luty!U35 -> 5912 | E30: =marzec!U37 -> 16976 | F30: =kwiecień!U36 -> 21604 | G30: =maj!U37 -> 48881 | H30: =czerwiec!U36 -> 45381 | I30: =lipiec!U37 -> 45296 | J30: =sierpień!U37 -> 49329 | K30: =wrzesień!U36 -> 27931 | L30: =październik!U37 -> 20986 | M30: =V30 -> 13793 | N30: =V31 -> 8059 | O30: =SUM(C30:N30) -> 308863 | P30: =O30/O29 -> 0.93778427 | U30: Listopad | V30: =listopad!$U$36 -> 13793
B31: 2018 | C31: =V33 -> 7238 | D31: =luty!W35 -> 5472 | E31: =marzec!W37 -> 8529 | F31: =kwiecień!W36 -> 34125 | G31: =maj!W37 -> 58168 | H31: =czerwiec!W36 -> 53564 | I31: =lipiec!W37 -> 52657 | J31: =sierpień!W37 -> 50604 | K31: =wrzesień!W36 -> 42360 | L31: =październik!W37 -> 31128 | M31: =V43 -> 16863 | N31: =V44 -> 7869 | O31: =SUM(C31:N31) -> 368577 | P31: =O31/O30 -> 1.1933349 | U31: Grudzień | V31: 8059
B32: 2019 | C32: =V46 -> 6791 | D32: =V47 -> 9722 | E32: =V48 -> 17884 | F32: =V49 -> 36983 | G32: =V50 -> 40795 | H32: =V51 -> 64838 | I32: =V52 -> 55272 | J32: =V53 -> 57736 | K32: =V54 -> 42950 | L32: =V55 -> 32719 | M32: =V56 -> 16179 | N32: =grudzień!AA37 -> 11886 | O32: =SUM(C32:N32) -> 393755 | P32: =O32/O31 -> 1.0683114 | U32: 2018
B33: 2020 | C33: =V59 -> 13481 | D33: =luty!$AA$35 -> 13163 | E33: =V61 -> 15971 | F33: =V62 -> 23526 | G33: =V63 -> 39481 | H33: =V64 -> 60175 | I33: =V65 -> 61805 | J33: =V66 -> 62976 | K33: =V67 -> 53038 | L33: =V68 -> 36331 | M33: =V69 -> 23818 | N33: =V70 -> 15315 | O33: =SUM(C33:N33) -> 419080 | P33: =O33/O32 -> 1.0643166 | U33: Styczeń | V33: 7238
B34: 2021 | C34: =V72 -> 9765 | D34: =V73 -> 9288 | E34: =V74 -> 21017 | F34: =V75 -> 27529 | G34: =V76 -> 44335 | H34: =V77 -> 66532 | I34: =V78 -> 60809 | J34: 48280 | K34: 43625 | L34: =V81 -> 34599 | M34: =V82 -> 20104 | N34: =V83 -> 9585 | O34: =SUM(C34:N34) -> 395468 | P34: =O34/O33 -> 0.94365754 | U34: Luty | V34: =D31 -> 5472
B35: 2022 | C35: ='[1]eco-counter'!$L$36 -> 10462 | D35: =V86 -> 11313 | E35: ='[2]eco-counter'!$K$36 -> 26020 | F35: ='[3]eco-counter'!$L$35 -> 27117 | G35: ='[4]eco-counter'!$K$36 -> 45388 | H35: ='[5]eco-counter'!$K$35 -> 58172 | I35: 56924 | J35: 57336 | K35: 40475 | L35: 37162 | M35: 24362 | N35: 11618 | O35: =SUM(C35:N35) -> 406349 | P35: =O35/O34 -> 1.0275142 | U35: Marzec | V35: =E31 -> 8529
B36: 2023 | C36: 14152 | D36: 11541 | E36: 19009 | F36: =V101 -> 30169 | G36: 55220 | H36: 59668 | I36: 54552 | J36: 49726 | K36: 59301 | L36: 34278 | M36: 19566 | N36: 10103 | O36: =SUM(C36:N36) -> 417285 | P36: =O36/O35 -> 1.0269128 | U36: Kwiecień | V36: =F31 -> 34125
B37: 2024 | C37: 9226 | D37: 14244 | E37: 24109 | F37: 35516 | G37: 59821 | H37: 57191 | I37: 61743 | J37: 60356 | K37: 51407 | L37: 37157 | M37: 24868 | N37: 19457 | O37: =SUM(C37:N37) -> 455095 | P37: =O37/O36 -> 1.0906095 | U37: Maj | V37: =G31 -> 58168
B38: 2025 | C38: ='[6]eco-counter'!$K$35 -> 16944 | D38: ='[7]eco-counter'!$K$64 -> 16152 | E38: ='[8]eco-counter'!$L$36 -> 34175 | F38: ='[9]eco-counter'!$L$34 -> 42464 | G38: ='[10]eco-counter'!$K$36 -> 52102 | H38: ='[10]eco-counter'!$K$71 -> 59992 | I38: ='[11]eco-counter'!$L$36 -> 68206 | J38: ='[11]eco-counter'!$L$71 -> 67754 | K38: 62785 | L38: 51684 | M38: 31402 | O38: =SUM(C38:N38) -> 503660 | P38: =O38/O37 -> 1.106714 | U38: Czerwiec | V38: =H31 -> 53564
U39: Lipiec | V39: =I31 -> 52657
U40: Sierpień | V40: =J31 -> 50604
U41: Wrzesień | V41: =K31 -> 42360
U42: Październik | V42: =L31 -> 31128
...

Sheet styczeń
Q3: Data | S3: 2016 | U3: 2017 | W3: 2018 | Y3: 2019 | AA3: 2020
Q5: 42370 | R5: 42370 | S5: 62 | T5: 42736 | U5: 128 | V5: 43101 | W5: 148 | X5: 43466 | Y5: 64 | Z5: 43831 | AA5: 154
Q6: 42371 | R6: 42371 | S6: 83 | T6: 42737 | U6: 282 | V6: 43102 | W6: 288 | X6: 43467 | Y6: 143 | Z6: 43832 | AA6: 428
Q7: 42372 | R7: 42372 | S7: 74 | T7: 42738 | U7: 268 | V7: 43103 | W7: 285 | X7: 43468 | Y7: 146 | Z7: 43833 | AA7: 452
Q8: 42373 | R8: 42373 | S8: 177 | T8: 42739 | U8: 208 | V8: 43104 | W8: 345 | X8: 43469 | Y8: 211 | Z8: 43834 | AA8: 190
Q9: 42374 | R9: 42374 | S9: 185 | T9: 42740 | U9: 74 | V9: 43105 | W9: 285 | X9: 43470 | Y9: 157 | Z9: 43835 | AA9: 239
Q10: 42375 | R10: 42375 | S10: 78 | T10: 42741 | U10: 25 | V10: 43106 | W10: 181 | X10: 43471 | Y10: 132 | Z10: 43836 | AA10: 189
Q11: 42376 | R11: 42376 | S11: 176 | T11: 42742 | U11: 54 | V11: 43107 | W11: 252 | X11: 43472 | Y11: 346 | Z11: 43837 | AA11: 584
Q12: 42377 | R12: 42377 | S12: 216 | T12: 42743 | U12: 36 | V12: 43108 | W12: 338 | X12: 43473 | Y12: 330 | Z12: 43838 | AA12: 557
Q13: 42378 | R13: 42378 | S13: 139 | T13: 42744 | U13: 102 | V13: 43109 | W13: 384 | X13: 43474 | Y13: 294 | Z13: 43839 | AA13: 528
Q14: 42379 | R14: 42379 | S14: 105 | T14: 42745 | U14: 102 | V14: 43110 | W14: 344 | X14: 43475 | Y14: 332 | Z14: 43840 | AA14: 485
Q15: 42380 | R15: 42380 | S15: 211 | T15: 42746 | U15: 119 | V15: 43111 | W15: 336 | X15: 43476 | Y15: 343 | Z15: 43841 | AA15: 376
Q16: 42381 | R16: 42381 | S16: 277 | T16: 42747 | U16: 106 | V16: 43112 | W16: 343 | X16: 43477 | Y16: 211 | Z16: 43842 | AA16: 260
... Q35: 42400 | R35: 42400 | S35: 106 | T35: 42766 | U35: 314 | V35: 43131 | W35: 275 | X35: 43496 | Y35: 264 | Z35: 43861 | AA35: 384
Q37: Razem | S37: =SUM(S5:S35) -> 5553 | U37: =SUM(U5:U35) -> 4715 | W37: =SUM(W5:W35) -> 7238 | Y37: =SUM(Y5:Y35) -> 6791 | AA37: =SUM(AA5:AA35) -> 13481

Sheet luty
Q3: Data | S3: 2016 | U3: 2017 | W3: 2018 | Y3: 2019 | AA3: 2020
Q5: 42401 | R5: 42401 | S5: 287 | T5: 42767 | U5: 254 | V5: 43132 | W5: 325 | X5: 43497 | Y5: 238 | Z5: 43862 | AA5: 334
Q6: 42402 | R6: 42402 | S6: 247 | T6: 42768 | U6: 245 | V6: 43133 | W6: 336 | X6: 43498 | Y6: 140 | Z6: 43863 | AA6: 232
Q7: 42403 | R7: 42403 | S7: 194 | T7: 42769 | U7: 258 | V7: 43134 | W7: 154 | X7: 43499 | Y7: 159 | Z7: 43864 | AA7: 602
Q8: 42404 | R8: 42404 | S8: 232 | T8: 42770 | U8: 143 | V8: 43135 | W8: 117 | X8: 43500 | Y8: 311 | Z8: 43865 | AA8: 510
Q9: 42405 | R9: 42405 | S9: 299 | T9: 42771 | U9: 168 | V9: 43136 | W9: 178 | X9: 43501 | Y9: 292 | Z9: 43866 | AA9: 601
Q10: 42406 | R10: 42406 | S10: 235 | T10: 42772 | U10: 275 | V10: 43137 | W10: 166 | X10: 43502 | Y10: 337 | Z10: 43867 | AA10: 453
Q11: 42407 | R11: 42407 | S11: 306 | T11: 42773 | U11: 123 | V11: 43138 | W11: 187 | X11: 43503 | Y11: 356 | Z11: 43868 | AA11: 568
Q12: 42408 | R12: 42408 | S12: 392 | T12: 42774 | U12: 101 | V12: 43139 | W12: 193 | X12: 43504 | Y12: 341 | Z12: 43869 | AA12: 446
Q13: 42409 | R13: 42409 | S13: 351 | T13: 42775 | U13: 110 | V13: 43140 | W13: 203 | X13: 43505 | Y13: 225 | Z13: 43870 | AA13: 331
Q14: 42410 | R14: 42410 | S14: 393 | T14: 42776 | U14: 147 | V14: 43141 | W14: 88 | X14: 43506 | Y14: 241 | Z14: 43871 | AA14: 366
Q15: 42411 | R15: 42411 | S15: 367 | T15: 42777 | U15: 89 | V15: 43142 | W15: 97 | X15: 43507 | Y15: 285 | Z15: 43872 | AA15: 316
Q16: 42412 | R16: 42412 | S16: 350 | T16: 42778 | U16: 48 | V16: 43143 | W16: 199 | X16: 43508 | Y16: 319 | Z16: 43873 | AA16: 412
... Q32: 42428 | R32: 42428 | S32: 311 | T32: 42794 | U32: 422 | V32: 43159 | W32: 135 | X32: 43524 | Y32: 581 | Z32: 43889 | AA32: 540
Q33: 42429 | R33: 42429 | S33: 394 | Z33: 43890 | AA33: 300
Q35: Razem | S35: =SUM(S5:S33) -> 8793 | U35: =SUM(U5:U33) -> 5912 | W35: =SUM(W5:W33) -> 5472 | Y35: =SUM(Y5:Y33) -> 9722 | AA35: =SUM(AA5:AA33) -> 13163

Sheet marzec
Q3: Data | S3: 2016 | U3: 2017 | W3: 2018 | Y3: 2019 | AA3: 2020
Q5: 42430 | R5: 42430 | S5: 382 | T5: 42795 | U5: 446 | V5: 43160 | W5: 124 | X5: 43525 | Y5: 460 | Z5: niedz. 1 mar | AA5: 444
Q6: 42431 | R6: 42431 | S6: 427 | T6: 42796 | U6: 312 | V6: 43161 | W6: 122 | X6: 43526 | Y6: 445 | Z6: pon. 2 mar | AA6: 623
Q7: 42432 | R7: 42432 | S7: 386 | T7: 42797 | U7: 405 | V7: 43162 | W7: 68 | X7: 43527 | Y7: 238 | Z7: wt. 3 mar | AA7: 514
Q8: 42433 | R8: 42433 | S8: 302 | T8: 42798 | U8: 473 | V8: 43163 | W8: 97 | X8: 43528 | Y8: 462 | Z8: śr. 4 mar | AA8: 635
Q9: 42434 | R9: 42434 | S9: 271 | T9: 42799 | U9: 258 | V9: 43164 | W9: 216 | X9: 43529 | Y9: 175 | Z9: czw. 5 mar | AA9: 715
Q10: 42435 | R10: 42435 | S10: 200 | T10: 42800 | U10: 325 | V10: 43165 | W10: 263 | X10: 43530 | Y10: 468 | Z10: pt. 6 mar | AA10: 610
Q11: 42436 | R11: 42436 | S11: 536 | T11: 42801 | U11: 342 | V11: 43166 | W11: 215 | X11: 43531 | Y11: 548 | Z11: sob. 7 mar | AA11: 347
Q12: 42437 | R12: 42437 | S12: 530 | T12: 42802 | U12: 424 | V12: 43167 | W12: 261 | X12: 43532 | Y12: 355 | Z12: niedz. 8 mar | AA12: 498
Q13: 42438 | R13: 42438 | S13: 474 | T13: 42803 | U13: 449 | V13: 43168 | W13: 211 | X13: 43533 | Y13: 187 | Z13: pon. 9 mar | AA13: 708
Q14: 42439 | R14: 42439 | S14: 525 | T14: 42804 | U14: 471 | V14: 43169 | W14: 237 | X14: 43534 | Y14: 191 | Z14: wt. 10 mar | AA14: 763
Q15: 42440 | R15: 42440 | S15: 422 | T15: 42805 | U15: 271 | V15: 43170 | W15: 223 | X15: 43535 | Y15: 558 | Z15: śr. 11 mar | AA15: 582
Q16: 42441 | R16: 42441 | S16: 294 | T16: 42806 | U16: 283 | V16: 43171 | W16: 382 | X16: 43536 | Y16: 489 | Z16: czw. 12 mar | AA16: 399
... Q35: 42460 | R35: 42460 | S35: 175 | T35: 42825 | U35: 1079 | V35: 43190 | W35: 173 | X35: 43555 | Y35: 697 | Z35: wt. 31 mar | AA35: 319
Q37: Razem | S37: =SUM(S5:S35) -> 13128 | U37: =SUM(U5:U35) -> 16976 | W37: =SUM(W5:W35) -> 8529 | Y37: =SUM(Y5:Y35) -> 17884 | AA37: =SUM(AA5:AA35) -> 15971

Sheet kwiecień
Q3: Data | S3: 2016 | U3: 2017 | W3: 2018 | Y3: 2019 | AA3: 2020
Q5: 42461 | R5: 42461 | S5: 670 | T5: 42826 | U5: 1613 | V5: 43191 | W5: 41 | X5: 43556 | Y5: 1250 | Z5: śr. 1 kwi | AA5: 330
Q6: 42462 | R6: 42462 | S6: 1019 | T6: 42827 | U6: 990 | V6: 43192 | W6: 161 | X6: 43557 | Y6: 1141 | Z6: czw. 2 kwi | AA6: 344
Q7: 42463 | R7: 42463 | S7: 1096 | T7: 42828 | U7: 1048 | V7: 43193 | W7: 363 | X7: 43558 | Y7: 1231 | Z7: pt. 3 kwi | AA7: 352
Q8: 42464 | R8: 42464 | S8: 1144 | T8: 42829 | U8: 1026 | V8: 43194 | W8: 906 | X8: 43559 | Y8: 1366 | Z8: sob. 4 kwi | AA8: 382
Q9: 42465 | R9: 42465 | S9: 1592 | T9: 42830 | U9: 806 | V9: 43195 | W9: 790 | X9: 43560 | Y9: 1398 | Z9: niedz. 5 kwi | AA9: 552
Q10: 42466 | R10: 42466 | S10: 824 | T10: 42831 | U10: 789 | V10: 43196 | W10: 671 | X10: 43561 | Y10: 1581 | Z10: pon. 6 kwi | AA10: 696
Q11: 42467 | R11: 42467 | S11: 1032 | T11: 42832 | U11: 786 | V11: 43197 | W11: 902 | X11: 43562 | Y11: 1667 | Z11: wt. 7 kwi | AA11: 863
Q12: 42468 | R12: 42468 | S12: 1177 | T12: 42833 | U12: 1044 | V12: 43198 | W12: 1714 | X12: 43563 | Y12: 961 | Z12: śr. 8 kwi | AA12: 827
Q13: 42469 | R13: 42469 | S13: 1076 | T13: 42834 | U13: 1081 | V13: 43199 | W13: 1306 | X13: 43564 | Y13: 1010 | Z13: czw. 9 kwi | AA13: 668
Q14: 42470 | R14: 42470 | S14: 722 | T14: 42835 | U14: 1334 | V14: 43200 | W14: 1070 | X14: 43565 | Y14: 845 | Z14: pt. 10 kwi | AA14: 700
Q15: 42471 | R15: 42471 | S15: 1096 | T15: 42836 | U15: 706 | V15: 43201 | W15: 885 | X15: 43566 | Y15: 736 | Z15: sob. 11 kwi | AA15: 505
Q16: 42472 | R16: 42472 | S16: 1019 | T16: 42837 | U16: 616 | V16: 43202 | W16: 1138 | X16: 43567 | Y16: 758 | Z16: niedz. 12 kwi | AA16: 353
... Q34: 42490 | R34: 42490 | S34: 1075 | T34: 42855 | U34: 817 | V34: 43220 | W34: 1488 | X34: 43585 | Y34: 1500 | Z34: czw. 30 kwi | AA34: 1328
Q36: Razem | S36: =SUM(S5:S34) -> 29269 | U36: =SUM(U5:U34) -> 21604 | W36: =SUM(W5:W34) -> 34125 | Y36: =SUM(Y5:Y34) -> 36983 | AA36: =SUM(AA5:AA34) -> 23526

Sheet maj
Q3: Data | S3: 2016 | U3: 2017 | W3: 2018 | Y3: 2019
Q5: 42491 | R5: 42491 | S5: 895 | T5: 42856 | U5: 1027 | V5: 43221 | W5: 1561 | X5: 43586 | Y5: 1438
Q6: 42492 | R6: 42492 | S6: 1319 | T6: 42857 | U6: 1059 | V6: 43222 | W6: 1394 | X6: 43587 | Y6: 477
Q7: 42493 | R7: 42493 | S7: 1658 | T7: 42858 | U7: 812 | V7: 43223 | W7: 1267 | X7: 43588 | Y7: 630
Q8: 42494 | R8: 42494 | S8: 1538 | T8: 42859 | U8: 611 | V8: 43224 | W8: 1303 | X8: 43589 | Y8: 904
Q9: 42495 | R9: 42495 | S9: 1803 | T9: 42860 | U9: 792 | V9: 43225 | W9: 1607 | X9: 43590 | Y9: 846
Q10: 42496 | R10: 42496 | S10: 1804 | T10: 42861 | U10: 1547 | V10: 43226 | W10: 2000 | X10: 43591 | Y10: 1402
Q11: 42497 | R11: 42497 | S11: 1936 | T11: 42862 | U11: 577 | V11: 43227 | W11: 1960 | X11: 43592 | Y11: 1550
Q12: 42498 | R12: 42498 | S12: 2112 | T12: 42863 | U12: 844 | V12: 43228 | W12: 2141 | X12: 43593 | Y12: 1647
Q13: 42499 | R13: 42499 | S13: 1884 | T13: 42864 | U13: 821 | V13: 43229 | W13: 2303 | X13: 43594 | Y13: 1321
Q14: 42500 | R14: 42500 | S14: 2249 | T14: 42865 | U14: 410 | V14: 43230 | W14: 2338 | X14: 43595 | Y14: 1599
Q15: 42501 | R15: 42501 | S15: 1731 | T15: 42866 | U15: 1087 | V15: 43231 | W15: 1475 | X15: 43596 | Y15: 1338
Q16: 42502 | R16: 42502 | S16: 1748 | T16: 42867 | U16: 1411 | V16: 43232 | W16: 1710 | X16: 43597 | Y16: 771
... Q35: 42521 | R35: 42521 | S35: 1972 | T35: 42886 | U35: 1323 | V35: 43251 | W35: 2033 | X35: 43616 | Y35: 1605
Q37: Razem | S37: =SUM(S5:S35) -> 49788 | U37: =SUM(U5:U35) -> 48881 | W37: =SUM(W5:W35) -> 58168 | Y37: =SUM(Y5:Y35) -> 40795

Sheet czerwiec
Q3: Data | S3: 2016 | U3: 2017 | W3: 2018 | Y3: 2019
Q5: 42522 | R5: 42522 | S5: 1731 | T5: 42887 | U5: 1454 | V5: 43252 | W5: 1843 | X5: 43617 | Y5: 1594
Q6: 42523 | R6: 42523 | S6: 2271 | T6: 42888 | U6: 1606 | V6: 43253 | W6: 1859 | X6: 43618 | Y6: 2068
Q7: 42524 | R7: 42524 | S7: 2231 | T7: 42889 | U7: 1505 | V7: 43254 | W7: 1872 | X7: 43619 | Y7: 2563
Q8: 42525 | R8: 42525 | S8: 1985 | T8: 42890 | U8: 202 | V8: 43255 | W8: 2425 | X8: 43620 | Y8: 2592
Q9: 42526 | R9: 42526 | S9: 1745 | T9: 42891 | U9: 1775 | V9: 43256 | W9: 1683 | X9: 43621 | Y9: 2728
Q10: 42527 | R10: 42527 | S10: 1865 | T10: 42892 | U10: 1608 | V10: 43257 | W10: 2129 | X10: 43622 | Y10: 2643
Q11: 42528 | R11: 42528 | S11: 2170 | T11: 42893 | U11: 1219 | V11: 43258 | W11: 2328 | X11: 43623 | Y11: 1955
Q12: 42529 | R12: 42529 | S12: 2016 | T12: 42894 | U12: 1720 | V12: 43259 | W12: 2188 | X12: 43624 | Y12: 1635
Q13: 42530 | R13: 42530 | S13: 2027 | T13: 42895 | U13: 2022 | V13: 43260 | W13: 2086 | X13: 43625 | Y13: 2479
Q14: 42531 | R14: 42531 | S14: 1168 | T14: 42896 | U14: 1250 | V14: 43261 | W14: 2357 | X14: 43626 | Y14: 2030
Q15: 42532 | R15: 42532 | S15: 1074 | T15: 42897 | U15: 2017 | V15: 43262 | W15: 1688 | X15: 43627 | Y15: 2482
Q16: 42533 | R16: 42533 | S16: 1838 | T16: 42898 | U16: 1222 | V16: 43263 | W16: 1755 | X16: 43628 | Y16: 2611
... Q34: 42551 | R34: 42551 | S34: 1748 | T34: 42916 | U34: 728 | V34: 43281 | W34: 935 | X34: 43646 | Y34: 1770
Q36: Razem | S36: =SUM(S5:S34) -> 49831 | U36: =SUM(U5:U34) -> 45381 | W36: =SUM(W5:W35) -> 53564 | Y36: =SUM(Y5:Y34) -> 64838

Sheet lipiec
Q3: Data | S3: 2016 | U3: 2017 | W3: 2018 | Y3: 2019
Q5: 42552 | R5: 42552 | S5: 1746 | T5: 42917 | U5: 359 | V5: 43282 | W5: 770 | X5: 43647 | Y5: 2195
Q6: 42553 | R6: 42553 | S6: 1310 | T6: 42918 | U6: 973 | V6: 43283 | W6: 1194 | X6: 43648 | Y6: 1716
Q7: 42554 | R7: 42554 | S7: 1248 | T7: 42919 | U7: 1612 | V7: 43284 | W7: 1762 | X7: 43649 | Y7: 1909
Q8: 42555 | R8: 42555 | S8: 1652 | T8: 42920 | U8: 1163 | V8: 43285 | W8: 2392 | X8: 43650 | Y8: 1655
Q9: 42556 | R9: 42556 | S9: 2009 | T9: 42921 | U9: 1450 | V9: 43286 | W9: 2193 | X9: 43651 | Y9: 1342
Q10: 42557 | R10: 42557 | S10: 932 | T10: 42922 | U10: 1918 | V10: 43287 | W10: 1829 | X10: 43652 | Y10: 689
Q11: 42558 | R11: 42558 | S11: 1277 | T11: 42923 | U11: 1755 | V11: 43288 | W11: 1571 | X11: 43653 | Y11: 805
Q12: 42559 | R12: 42559 | S12: 1554 | T12: 42924 | U12: 996 | V12: 43289 | W12: 1699 | X12: 43654 | Y12: 648
Q13: 42560 | R13: 42560 | S13: 1025 | T13: 42925 | U13: 1838 | V13: 43290 | W13: 1440 | X13: 43655 | Y13: 820
Q14: 42561 | R14: 42561 | S14: 1064 | T14: 42926 | U14: 1733 | V14: 43291 | W14: 1728 | X14: 43656 | Y14: 1420
Q15: 42562 | R15: 42562 | S15: 1526 | T15: 42927 | U15: 1693 | V15: 43292 | W15: 1611 | X15: 43657 | Y15: 2299
Q16: 42563 | R16: 42563 | S16: 2078 | T16: 42928 | U16: 1592 | V16: 43293 | W16: 947 | X16: 43658 | Y16: 2080
... Q35: 42582 | R35: 42582 | S35: 1375 | T35: 42947 | U35: 1700 | V35: 43312 | W35: 2135 | X35: 43677 | Y35: 2323
Q37: Razem | S37: =SUM(S5:S35) -> 48033 | U37: =SUM(U5:U35) -> 45296 | W37: =SUM(W5:W35) -> 52657 | Y37: =SUM(Y5:Y35) -> 55272

Sheet sierpień
Q3: Data | S3: 2016 | U3: 2017 | W3: 2018 | Y3: 2019
Q5: 42583 | R5: 42583 | S5: 998 | T5: 42948 | U5: 2033 | V5: 43313 | W5: 1636 | X5: 43678 | Y5: 1550
Q6: 42584 | R6: 42584 | S6: 1372 | T6: 42949 | U6: 1901 | V6: 43314 | W6: 1691 | X6: 43679 | Y6: 1981
Q7: 42585 | R7: 42585 | S7: 1898 | T7: 42950 | U7: 1238 | V7: 43315 | W7: 1941 | X7: 43680 | Y7: 1908
Q8: 42586 | R8: 42586 | S8: 1568 | T8: 42951 | U8: 1735 | V8: 43316 | W8: 1504 | X8: 43681 | Y8: 1520
Q9: 42587 | R9: 42587 | S9: 915 | T9: 42952 | U9: 1618 | V9: 43317 | W9: 1282 | X9: 43682 | Y9: 1358
Q10: 42588 | R10: 42588 | S10: 977 | T10: 42953 | U10: 1249 | V10: 43318 | W10: 1965 | X10: 43683 | Y10: 1719
Q11: 42589 | R11: 42589 | S11: 1242 | T11: 42954 | U11: 2003 | V11: 43319 | W11: 2164 | X11: 43684 | Y11: 2149
Q12: 42590 | R12: 42590 | S12: 1723 | T12: 42955 | U12: 2155 | V12: 43320 | W12: 2173 | X12: 43685 | Y12: 1721
Q13: 42591 | R13: 42591 | S13: 1595 | T13: 42956 | U13: 2039 | V13: 43321 | W13: 2063 | X13: 43686 | Y13: 1824
Q14: 42592 | R14: 42592 | S14: 1631 | T14: 42957 | U14: 1747 | V14: 43322 | W14: 1330 | X14: 43687 | Y14: 1215
Q15: 42593 | R15: 42593 | S15: 1377 | T15: 42958 | U15: 1709 | V15: 43323 | W15: 1171 | X15: 43688 | Y15: 1886
Q16: 42594 | R16: 42594 | S16: 1326 | T16: 42959 | U16: 924 | V16: 43324 | W16: 1206 | X16: 43689 | Y16: 1810
... Q35: 42613 | R35: 42613 | S35: 1925 | T35: 42978 | U35: 1853 | V35: 43343 | W35: 1387 | X35: 43708 | Y35: 1876
Q37: Razem | S37: =SUM(S5:S35) -> 44419 | U37: =SUM(U5:U35) -> 49329 | W37: =SUM(W5:W35) -> 50604 | Y37: =SUM(Y5:Y35) -> 57736

Sheet wrzesień
Q3: Data | S3: 2016 | U3: 2017 | W3: 2018 | Y3: 2019
Q5: 42614 | R5: 42614 | S5: 1980 | T5: 42979 | U5: 1001 | V5: 43344 | W5: 1515 | X5: 43709 | Y5: 1790
Q6: 42615 | R6: 42615 | S6: 1686 | T6: 42980 | U6: 307 | V6: 43345 | W6: 1599 | X6: 43710 | Y6: 1869
Q7: 42616 | R7: 42616 | S7: 1468 | T7: 42981 | U7: 478 | V7: 43346 | W7: 1906 | X7: 43711 | Y7: 2162
Q8: 42617 | R8: 42617 | S8: 210 | T8: 42982 | U8: 800 | V8: 43347 | W8: 1920 | X8: 43712 | Y8: 2291
Q9: 42618 | R9: 42618 | S9: 1265 | T9: 42983 | U9: 1064 | V9: 43348 | W9: 1917 | X9: 43713 | Y9: 2235
Q10: 42619 | R10: 42619 | S10: 1768 | T10: 42984 | U10: 509 | V10: 43349 | W10: 1600 | X10: 43714 | Y10: 1978
Q11: 42620 | R11: 42620 | S11: 1950 | T11: 42985 | U11: 444 | V11: 43350 | W11: 1842 | X11: 43715 | Y11: 1067
Q12: 42621 | R12: 42621 | S12: 2043 | T12: 42986 | U12: 887 | V12: 43351 | W12: 1093 | X12: 43716 | Y12: 1084
Q13: 42622 | R13: 42622 | S13: 1918 | T13: 42987 | U13: 1065 | V13: 43352 | W13: 1226 | X13: 43717 | Y13: 1828
Q14: 42623 | R14: 42623 | S14: 1445 | T14: 42988 | U14: 434 | V14: 43353 | W14: 1926 | X14: 43718 | Y14: 872
Q15: 42624 | R15: 42624 | S15: 1524 | T15: 42989 | U15: 1258 | V15: 43354 | W15: 1564 | X15: 43719 | Y15: 2032
Q16: 42625 | R16: 42625 | S16: 1859 | T16: 42990 | U16: 1476 | V16: 43355 | W16: 1581 | X16: 43720 | Y16: 1903
... Q34: 42643 | R34: 42643 | S34: 1268 | T34: 43008 | U34: 978 | V34: 43373 | W34: 662 | X34: 43738 | Y34: 753
Q36: Razem | S36: =SUM(S5:S34) -> 43459 | U36: =SUM(U5:U34) -> 27931 | W36: =SUM(W5:W34) -> 42360 | Y36: =SUM(Y5:Y34) -> 42950

Sheet październik
Q3: Data | S3: 2016 | U3: 2017 | W3: 2018 | Y3: 2019
Q5: 42644 | R5: 42644 | S5: 788 | T5: 43009 | U5: 880 | V5: 43374 | W5: 1290 | X5: 43739 | Y5: 804
Q6: 42645 | R6: 42645 | S6: 762 | T6: 43010 | U6: 959 | V6: 43375 | W6: 1014 | X6: 43740 | Y6: 972
Q7: 42646 | R7: 42646 | S7: 758 | T7: 43011 | U7: 816 | V7: 43376 | W7: 570 | X7: 43741 | Y7: 1275
Q8: 42647 | R8: 42647 | S8: 812 | T8: 43012 | U8: 791 | V8: 43377 | W8: 1050 | X8: 43742 | Y8: 1134
Q9: 42648 | R9: 42648 | S9: 386 | T9: 43013 | U9: 513 | V9: 43378 | W9: 1149 | X9: 43743 | Y9: 715
Q10: 42649 | R10: 42649 | S10: 398 | T10: 43014 | U10: 883 | V10: 43379 | W10: 1283 | X10: 43744 | Y10: 387
Q11: 42650 | R11: 42650 | S11: 453 | T11: 43015 | U11: 570 | V11: 43380 | W11: 466 | X11: 43745 | Y11: 984
Q12: 42651 | R12: 42651 | S12: 359 | T12: 43016 | U12: 483 | V12: 43381 | W12: 1134 | X12: 43746 | Y12: 870
Q13: 42652 | R13: 42652 | S13: 318 | T13: 43017 | U13: 583 | V13: 43382 | W13: 1278 | X13: 43747 | Y13: 1190
Q14: 42653 | R14: 42653 | S14: 622 | T14: 43018 | U14: 764 | V14: 43383 | W14: 1449 | X14: 43748 | Y14: 911
Q15: 42654 | R15: 42654 | S15: 716 | T15: 43019 | U15: 731 | V15: 43384 | W15: 1560 | X15: 43749 | Y15: 1026
Q16: 42655 | R16: 42655 | S16: 763 | T16: 43020 | U16: 736 | V16: 43385 | W16: 1405 | X16: 43750 | Y16: 456
... Q34: 42673 | R34: 42673 | S34: 195 | T34: 43038 | U34: 360 | V34: 43403 | W34: 962 | X34: 43768 | Y34: 933
Q35: 42674 | S35: 534 | T35: 43039 | U35: 526 | V35: 43404 | W35: 930 | X35: 43769 | Y35: 752
Q37: Razem | S37: =SUM(S5:S35) -> 17824 | U37: =SUM(U5:U35) -> 20986 | W37: =SUM(W5:W35) -> 31128 | Y37: =SUM(Y5:Y35) -> 32719

Sheet listopad
Q3: Data | S3: 2016 | T3: Data | U3: 2017 | W3: 2018 | Y3: 2019
Q5: 42675 | R5: 42675 | S5: 112 | T5: 43040 | U5: 177 | V5: 43405 | W5: 364 | X5: 43770 | Y5: 228
Q6: 42676 | R6: 42676 | S6: 318 | T6: 43041 | U6: 377 | V6: 43406 | W6: 772 | X6: 43771 | Y6: 205
Q7: 42677 | R7: 42677 | S7: 373 | T7: 43042 | U7: 617 | V7: 43407 | W7: 512 | X7: 43772 | Y7: 275
Q8: 42678 | R8: 42678 | S8: 408 | T8: 43043 | U8: 564 | V8: 43408 | W8: 448 | X8: 43773 | Y8: 397
Q9: 42679 | R9: 42679 | S9: 289 | T9: 43044 | U9: 522 | V9: 43409 | W9: 814 | X9: 43774 | Y9: 730
Q10: 42680 | R10: 42680 | S10: 317 | T10: 43045 | U10: 638 | V10: 43410 | W10: 1055 | X10: 43775 | Y10: 761
Q11: 42681 | R11: 42681 | S11: 447 | T11: 43046 | U11: 772 | V11: 43411 | W11: 994 | X11: 43776 | Y11: 830
Q12: 42682 | R12: 42682 | S12: 525 | T12: 43047 | U12: 661 | V12: 43412 | W12: 951 | X12: 43777 | Y12: 770
Q13: 42683 | R13: 42683 | S13: 426 | T13: 43048 | U13: 650 | V13: 43413 | W13: 714 | X13: 43778 | Y13: 350
Q14: 42684 | R14: 42684 | S14: 517 | T14: 43049 | U14: 561 | V14: 43414 | W14: 484 | X14: 43779 | Y14: 454
Q15: 42685 | R15: 42685 | S15: 121 | T15: 43050 | U15: 69 | V15: 43415 | W15: 285 | X15: 43780 | Y15: 348
Q16: 42686 | R16: 42686 | S16: 218 | T16: 43051 | U16: 216 | V16: 43416 | W16: 452 | X16: 43781 | Y16: 600
... Q34: 42704 | R34: 42704 | S34: 321 | T34: 43069 | U34: 387 | V34: 43434 | W34: 311 | X34: 43799 | Y34: 397
Q36: Razem | S36: =SUM(S5:S34) -> 11110 | T36: Razem | U36: =SUM(U5:U34) -> 13793 | W36: =SUM(W5:W34) -> 16863 | Y36: =SUM(Y5:Y34) -> 16179

Sheet grudzień
Q3: Data | S3: 2015 | U3: 2016 | W3: 2017 | Y3: 2018 | AA3: 2019
Q5: 42705 | R5: 42339 | S5: 371 | T5: 42705 | U5: 302 | V5: 43070 | W5: 257 | X5: 43435 | Y5: 183 | Z5: 43800 | AA5: 241
Q6: 42706 | R6: 42340 | S6: 531 | T6: 42706 | U6: 268 | V6: 43071 | W6: 319 | X6: 43436 | Y6: 186 | Z6: 43801 | AA6: 474
Q7: 42707 | R7: 42341 | S7: 591 | T7: 42707 | U7: 166 | V7: 43072 | W7: 197 | X7: 43437 | Y7: 430 | Z7: 43802 | AA7: 567
Q8: 42708 | R8: 42342 | S8: 482 | T8: 42708 | U8: 146 | V8: 43073 | W8: 344 | X8: 43438 | Y8: 450 | Z8: 43803 | AA8: 561
Q9: 42709 | R9: 42343 | S9: 273 | T9: 42709 | U9: 330 | V9: 43074 | W9: 390 | X9: 43439 | Y9: 422 | Z9: 43804 | AA9: 632
Q10: 42710 | R10: 42344 | S10: 243 | T10: 42710 | U10: 409 | V10: 43075 | W10: 250 | X10: 43440 | Y10: 381 | Z10: 43805 | AA10: 458
Q11: 42711 | R11: 42345 | S11: 545 | T11: 42711 | U11: 362 | V11: 43076 | W11: 424 | X11: 43441 | Y11: 374 | Z11: 43806 | AA11: 285
Q12: 42712 | R12: 42346 | S12: 560 | T12: 42712 | U12: 319 | V12: 43077 | W12: 372 | X12: 43442 | Y12: 287 | Z12: 43807 | AA12: 225
Q13: 42713 | R13: 42347 | S13: 525 | T13: 42713 | U13: 370 | V13: 43078 | W13: 288 | X13: 43443 | Y13: 133 | Z13: 43808 | AA13: 590
Q14: 42714 | R14: 42348 | S14: 540 | T14: 42714 | U14: 155 | V14: 43079 | W14: 172 | X14: 43444 | Y14: 416 | Z14: 43809 | AA14: 475
Q15: 42715 | R15: 42349 | S15: 427 | T15: 42715 | U15: 98 | V15: 43080 | W15: 276 | X15: 43445 | Y15: 386 | Z15: 43810 | AA15: 512
Q16: 42716 | R16: 42350 | S16: 268 | T16: 42716 | U16: 311 | V16: 43081 | W16: 405 | X16: 43446 | Y16: 338 | Z16: 43811 | AA16: 493
... Q35: 42735 | R35: 42369 | S35: 200 | T35: 42735 | U35: 194 | V35: 43100 | W35: 81 | X35: 43465 | Y35: 229 | Z35: 43830 | AA35: 250
Q37: Razem | S37: =SUM(S5:S35) -> 10736 | U37: =SUM(U5:U35) -> 8147 | W37: =SUM(W5:W35) -> 8059 | Y37: =SUM(Y5:Y35) -> 7869 | AA37: =SUM(AA5:AA35) -> 11886
