Workbook

Sheet ZBIORCZO
U3: Miesiąc | V3: Liczba
U4: 2015
U5: Grudzień | V5: =N28 -> 3098
U6: 2016
U7: Styczeń | V7: =C29 -> 1441
U8: Luty | V8: =D29 -> 2792
U9: Marzec | V9: =E29 -> 4217
U10: Kwiecień | V10: =F29 -> 8934
U11: Maj | V11: =G29 -> 18092
U12: Czerwiec | V12: =H29 -> 17035
U13: Lipiec | V13: =I29 -> 19530
U14: Sierpień | V14: =J29 -> 18121
U15: Wrzesień | V15: =K29 -> 13898
U16: Październik | V16: =L29 -> 4762
U17: Listopad | V17: =M29 -> 2917
U18: Grudzień | V18: =N29 -> 2296
U19: 2017
U20: Styczeń | V20: =C30 -> 929
U21: Luty | V21: =D30 -> 1537
U22: Marzec | V22: =E30 -> 5677
U23: Kwiecień | V23: =F30 -> 6399
U24: Maj | V24: =G30 -> 17346
U25: Czerwiec | V25: =H30 -> 15458
U26: Lipiec | V26: =I30 -> 18319
C27: styczeń | D27: luty | E27: marzec | F27: kwiecień | G27: maj | H27: czerwiec | I27: lipiec | J27: sierpień | K27: wrzesień | L27: październik | M27: listopad | N27: grudzień | O27: suma | P27: dynamika | U27: Sierpień | V27: =J30 -> 20354
B28: 2015 | N28: =grudzień!S37 -> 3098 | P28: n/d | U28: Wrzesień | V28: =K30 -> 11162
B29: 2016 | C29: 1441 | D29: 2792 | E29: 4217 | F29: 8934 | G29: 18092 | H29: 17035 | I29: 19530 | J29: 18121 | K29: 13898 | L29: 4762 | M29: 2917 | N29: 2296 | O29: =SUM(C29:N29) -> 114035 | P29: n/d | U29: Październik | V29: =L30 -> 5731
B30: 2017 | C30: 929 | D30: 1537 | E30: 5677 | F30: 6399 | G30: 17346 | H30: 15458 | I30: 18319 | J30: 20354 | K30: 11162 | L30: 5731 | M30: 3487 | N30: 2337 | O30: =SUM(C30:N30) -> 108736 | P30: =O30/O29 -> 0.95353181 | U30: Listopad | V30: =listopad!$U$36 -> 3487
B31: 2018 | C31: 1946 | D31: 1464 | E31: 2836 | F31: 11720 | G31: 21545 | H31: 17972 | I31: 19371 | J31: 17736 | K31: 12027 | L31: 7806 | M31: 4065 | O31: =SUM(C31:N31) -> 118488 | P31: =O31/O30 -> 1.0896851 | U31: Grudzień | V31: =grudzień!W37 -> 2337
B32: 2019 | P32: n/d | S32: licznik wyłączony na czas przebudowy ulicy
B33: 2020 | L33: 5884 | M33: 4416 | N33: 2129 | P33: n/d | U33: Styczeń | V33: =styczeń!W37 -> 1946
B34: 2021 | C34: 1452 | D34: 1661 | E34: 4585 | F34: 5800 | G34: 10580 | H34: 18538 | I34: 20813 | J34: 16100 | K34: 9212 | L34: 6451 | M34: 3222 | N34: 1276 | O34: =SUM(C34:N34) -> 99690 | P34: n/d | U34: Luty | V34: =D31 -> 1464
B35: 2022 | C35: 1341 | D35: 1695 | E35: 4591 | F35: 5446 | G35: 12400 | H35: 18231 | I35: 19919 | J35: 19937 | K35: 8582 | L35: 6539 | M35: 3547 | N35: 1084 | O35: =SUM(C35:N35) -> 103312 | P35: =O35/O34 -> 1.0363326 | U35: Marzec | V35: =E31 -> 2836
B36: 2023 | C36: 1760 | D36: 1373 | I36: 18068 | J36: 16720 | K36: 15818 | L36: 6084 | M36: 3568 | N36: 1410 | P36: n/d | S36: awaria licznika
B37: 2024 | C37: 1129 | D37: 1977 | E37: 4305 | F37: 8387 | G37: 18144 | H37: 16548 | I37: 20896 | J37: 21115 | K37: 13186 | L37: 7607 | M37: 3391 | N37: 2151 | O37: =SUM(C37:N37) -> 118836 | P37: n/d | U37: Kwiecień | V37: =F31 -> 11720
B38: 2025 | C38: 1206 | D38: 905 | E38: 3104 | F38: 4911 | G38: 7125 | H38: 9571 | I38: 16431 | J38: 20198 | K38: 12564 | L38: 5971 | M38: 4049 | N38: 2865 | O38: =SUM(C38:N38) -> 88900 | P38: =O38/O37 -> 0.7480898 | U38: Kwiecień | V38: =F32 -> 0
B39: 2026 | C39: 508 | O39: =SUM(C39:N39) -> 508 | P39: =O39/O38 -> 0.0057142857 | U39: Kwiecień | V39: =F33 -> 0
U40: Lipiec | V40: =I31 -> 19371
U41: Sierpień | V41: =J31 -> 17736
U42: Wrzesień | V42: =K31 -> 12027
...

Sheet styczeń
Q3: Data | S3: 2016 | U3: 2017 | W3: 2018
Q5: 42370 | R5: 42370 | S5: 39 | T5: 42736 | U5: 55 | V5: 43101 | W5: 35
Q6: 42371 | R6: 42371 | S6: 39 | T6: 42737 | U6: 78 | V6: 43102 | W6: 66
Q7: 42372 | R7: 42372 | S7: 33 | T7: 42738 | U7: 83 | V7: 43103 | W7: 72
Q8: 42373 | R8: 42373 | S8: 51 | T8: 42739 | U8: 60 | V8: 43104 | W8: 64
Q9: 42374 | R9: 42374 | S9: 69 | T9: 42740 | U9: 12 | V9: 43105 | W9: 78
Q10: 42375 | R10: 42375 | S10: 24 | T10: 42741 | U10: 0 | V10: 43106 | W10: 43
Q11: 42376 | R11: 42376 | S11: 54 | T11: 42742 | U11: 9 | V11: 43107 | W11: 69
Q12: 42377 | R12: 42377 | S12: 52 | T12: 42743 | U12: 6 | V12: 43108 | W12: 77
Q13: 42378 | R13: 42378 | S13: 49 | T13: 42744 | U13: 8 | V13: 43109 | W13: 105
Q14: 42379 | R14: 42379 | S14: 44 | T14: 42745 | U14: 11 | V14: 43110 | W14: 75
Q15: 42380 | R15: 42380 | S15: 50 | T15: 42746 | U15: 6 | V15: 43111 | W15: 91
Q16: 42381 | R16: 42381 | S16: 56 | T16: 42747 | U16: 22 | V16: 43112 | W16: 70
... Q35: 42400 | R35: 42400 | S35: 69 | T35: 42766 | U35: 49 | V35: 43131 | W35: 93
Q37: Razem | S37: =SUM(S5:S35) -> 1441 | U37: =SUM(U5:U35) -> 929 | W37: =SUM(W5:W35) -> 1946

Sheet luty
Q3: Data | S3: 2016 | U3: 2017 | W3: 2018
Q5: 42401 | R5: 42401 | S5: 84 | T5: 42767 | U5: 37 | V5: 43132 | W5: 107
Q6: 42402 | R6: 42402 | S6: 55 | T6: 42768 | U6: 43 | V6: 43133 | W6: 106
Q7: 42403 | R7: 42403 | S7: 63 | T7: 42769 | U7: 66 | V7: 43134 | W7: 38
Q8: 42404 | R8: 42404 | S8: 72 | T8: 42770 | U8: 50 | V8: 43135 | W8: 51
Q9: 42405 | R9: 42405 | S9: 95 | T9: 42771 | U9: 63 | V9: 43136 | W9: 49
Q10: 42406 | R10: 42406 | S10: 93 | T10: 42772 | U10: 65 | V10: 43137 | W10: 39
Q11: 42407 | R11: 42407 | S11: 73 | T11: 42773 | U11: 28 | V11: 43138 | W11: 51
Q12: 42408 | R12: 42408 | S12: 115 | T12: 42774 | U12: 15 | V12: 43139 | W12: 31
Q13: 42409 | R13: 42409 | S13: 106 | T13: 42775 | U13: 17 | V13: 43140 | W13: 24
Q14: 42410 | R14: 42410 | S14: 101 | T14: 42776 | U14: 23 | V14: 43141 | W14: 44
Q15: 42411 | R15: 42411 | S15: 98 | T15: 42777 | U15: 25 | V15: 43142 | W15: 20
Q16: 42412 | R16: 42412 | S16: 88 | T16: 42778 | U16: 12 | V16: 43143 | W16: 52
... Q32: 42428 | R32: 42428 | S32: 152 | T32: 42794 | U32: 86 | V32: 43159 | W32: 45
Q33: 42429 | R33: 42429 | S33: 93
Q35: Razem | S35: =SUM(S5:S33) -> 2792 | U35: =SUM(U5:U33) -> 1537 | W35: =SUM(W5:W33) -> 1464

Sheet marzec
Q3: Data | S3: 2016 | U3: 2017 | W3: 2018
Q5: 42430 | R5: 42430 | S5: 91 | T5: 42795 | U5: 140 | V5: 43160 | W5: 31
Q6: 42431 | R6: 42431 | S6: 92 | T6: 42796 | U6: 74 | V6: 43161 | W6: 18
Q7: 42432 | R7: 42432 | S7: 128 | T7: 42797 | U7: 136 | V7: 43162 | W7: 26
Q8: 42433 | R8: 42433 | S8: 111 | T8: 42798 | U8: 237 | V8: 43163 | W8: 26
Q9: 42434 | R9: 42434 | S9: 106 | T9: 42799 | U9: 137 | V9: 43164 | W9: 38
Q10: 42435 | R10: 42435 | S10: 85 | T10: 42800 | U10: 69 | V10: 43165 | W10: 65
Q11: 42436 | R11: 42436 | S11: 137 | T11: 42801 | U11: 103 | V11: 43166 | W11: 52
Q12: 42437 | R12: 42437 | S12: 147 | T12: 42802 | U12: 103 | V12: 43167 | W12: 74
Q13: 42438 | R13: 42438 | S13: 128 | T13: 42803 | U13: 148 | V13: 43168 | W13: 54
Q14: 42439 | R14: 42439 | S14: 140 | T14: 42804 | U14: 150 | V14: 43169 | W14: 79
Q15: 42440 | R15: 42440 | S15: 123 | T15: 42805 | U15: 127 | V15: 43170 | W15: 108
Q16: 42441 | R16: 42441 | S16: 80 | T16: 42806 | U16: 107 | V16: 43171 | W16: 119
... Q35: 42460 | R35: 42460 | S35: 107 | T35: 42825 | U35: 313 | V35: 43190 | W35: 112
Q37: Razem | S37: =SUM(S5:S35) -> 4217 | U37: =SUM(U5:U35) -> 5677 | W37: =SUM(W5:W35) -> 2836

Sheet kwiecień
Q3: Data | S3: 2016 | U3: 2017 | W3: 2018
Q5: 42461 | R5: 42461 | S5: 161 | T5: 42826 | U5: 594 | V5: 43191 | W5: 28
Q6: 42462 | R6: 42462 | S6: 419 | T6: 42827 | U6: 372 | V6: 43192 | W6: 93
Q7: 42463 | R7: 42463 | S7: 383 | T7: 42828 | U7: 240 | V7: 43193 | W7: 114
Q8: 42464 | R8: 42464 | S8: 333 | T8: 42829 | U8: 271 | V8: 43194 | W8: 327
Q9: 42465 | R9: 42465 | S9: 532 | T9: 42830 | U9: 181 | V9: 43195 | W9: 277
Q10: 42466 | R10: 42466 | S10: 226 | T10: 42831 | U10: 179 | V10: 43196 | W10: 168
Q11: 42467 | R11: 42467 | S11: 264 | T11: 42832 | U11: 205 | V11: 43197 | W11: 433
Q12: 42468 | R12: 42468 | S12: 296 | T12: 42833 | U12: 369 | V12: 43198 | W12: 767
Q13: 42469 | R13: 42469 | S13: 346 | T13: 42834 | U13: 295 | V13: 43199 | W13: 418
Q14: 42470 | R14: 42470 | S14: 241 | T14: 42835 | U14: 337 | V14: 43200 | W14: 280
Q15: 42471 | R15: 42471 | S15: 265 | T15: 42836 | U15: 137 | V15: 43201 | W15: 237
Q16: 42472 | R16: 42472 | S16: 262 | T16: 42837 | U16: 159 | V16: 43202 | W16: 364
... Q34: 42490 | R34: 42490 | S34: 474 | T34: 42855 | U34: 426 | V34: 43220 | W34: 607
Q36: Razem | S36: =SUM(S5:S34) -> 8934 | U36: =SUM(U5:U34) -> 6399 | W36: =SUM(W5:W34) -> 11720

Sheet maj
Q3: Data | S3: 2016 | U3: 2017 | W3: 2018
Q5: 42491 | R5: 42491 | S5: 450 | T5: 42856 | U5: 539 | V5: 43221 | W5: 837
Q6: 42492 | R6: 42492 | S6: 631 | T6: 42857 | U6: 405 | V6: 43222 | W6: 558
Q7: 42493 | R7: 42493 | S7: 840 | T7: 42858 | U7: 372 | V7: 43223 | W7: 540
Q8: 42494 | R8: 42494 | S8: 488 | T8: 42859 | U8: 187 | V8: 43224 | W8: 484
Q9: 42495 | R9: 42495 | S9: 609 | T9: 42860 | U9: 343 | V9: 43225 | W9: 792
Q10: 42496 | R10: 42496 | S10: 614 | T10: 42861 | U10: 669 | V10: 43226 | W10: 856
Q11: 42497 | R11: 42497 | S11: 851 | T11: 42862 | U11: 207 | V11: 43227 | W11: 660
Q12: 42498 | R12: 42498 | S12: 875 | T12: 42863 | U12: 260 | V12: 43228 | W12: 767
Q13: 42499 | R13: 42499 | S13: 572 | T13: 42864 | U13: 241 | V13: 43229 | W13: 695
Q14: 42500 | R14: 42500 | S14: 689 | T14: 42865 | U14: 144 | V14: 43230 | W14: 835
Q15: 42501 | R15: 42501 | S15: 545 | T15: 42866 | U15: 327 | V15: 43231 | W15: 492
Q16: 42502 | R16: 42502 | S16: 487 | T16: 42867 | U16: 520 | V16: 43232 | W16: 697
... Q35: 42521 | R35: 42521 | S35: 594 | T35: 42886 | U35: 438 | V35: 43251 | W35: 1108
Q37: Razem | S37: =SUM(S5:S35) -> 18092 | U37: =SUM(U5:U35) -> 17346 | W37: =SUM(W5:W35) -> 21545

Sheet czerwiec
Q3: Data | S3: 2016 | U3: 2017 | W3: 2018
Q5: 42522 | R5: 42522 | S5: 442 | T5: 42887 | U5: 352 | V5: 43252 | W5: 709
Q6: 42523 | R6: 42523 | S6: 712 | T6: 42888 | U6: 471 | V6: 43253 | W6: 834
Q7: 42524 | R7: 42524 | S7: 729 | T7: 42889 | U7: 704 | V7: 43254 | W7: 897
Q8: 42525 | R8: 42525 | S8: 802 | T8: 42890 | U8: 84 | V8: 43255 | W8: 621
Q9: 42526 | R9: 42526 | S9: 818 | T9: 42891 | U9: 558 | V9: 43256 | W9: 461
Q10: 42527 | R10: 42527 | S10: 510 | T10: 42892 | U10: 429 | V10: 43257 | W10: 558
Q11: 42528 | R11: 42528 | S11: 654 | T11: 42893 | U11: 402 | V11: 43258 | W11: 676
Q12: 42529 | R12: 42529 | S12: 573 | T12: 42894 | U12: 443 | V12: 43259 | W12: 666
Q13: 42530 | R13: 42530 | S13: 616 | T13: 42895 | U13: 513 | V13: 43260 | W13: 832
Q14: 42531 | R14: 42531 | S14: 367 | T14: 42896 | U14: 422 | V14: 43261 | W14: 1059
Q15: 42532 | R15: 42532 | S15: 483 | T15: 42897 | U15: 761 | V15: 43262 | W15: 460
Q16: 42533 | R16: 42533 | S16: 525 | T16: 42898 | U16: 339 | V16: 43263 | W16: 497
... Q34: 42551 | R34: 42551 | S34: 576 | T34: 42916 | U34: 248 | V34: 43281 | W34: 296
Q36: Razem | S36: =SUM(S5:S34) -> 17035 | U36: =SUM(U5:U34) -> 15458 | W36: =SUM(W5:W35) -> 17972

Sheet lipiec
Q3: Data | S3: 2016 | U3: 2017 | W3: 2018
Q5: 42552 | R5: 42552 | S5: 688 | T5: 42917 | U5: 208 | V5: 43282 | W5: 283
Q6: 42553 | R6: 42553 | S6: 652 | T6: 42918 | U6: 445 | V6: 43283 | W6: 413
Q7: 42554 | R7: 42554 | S7: 603 | T7: 42919 | U7: 531 | V7: 43284 | W7: 520
Q8: 42555 | R8: 42555 | S8: 577 | T8: 42920 | U8: 402 | V8: 43285 | W8: 697
Q9: 42556 | R9: 42556 | S9: 681 | T9: 42921 | U9: 512 | V9: 43286 | W9: 781
Q10: 42557 | R10: 42557 | S10: 311 | T10: 42922 | U10: 732 | V10: 43287 | W10: 659
Q11: 42558 | R11: 42558 | S11: 437 | T11: 42923 | U11: 649 | V11: 43288 | W11: 753
Q12: 42559 | R12: 42559 | S12: 546 | T12: 42924 | U12: 429 | V12: 43289 | W12: 902
Q13: 42560 | R13: 42560 | S13: 466 | T13: 42925 | U13: 792 | V13: 43290 | W13: 526
Q14: 42561 | R14: 42561 | S14: 502 | T14: 42926 | U14: 602 | V14: 43291 | W14: 602
Q15: 42562 | R15: 42562 | S15: 592 | T15: 42927 | U15: 553 | V15: 43292 | W15: 501
Q16: 42563 | R16: 42563 | S16: 667 | T16: 42928 | U16: 509 | V16: 43293 | W16: 376
... Q35: 42582 | R35: 42582 | S35: 714 | T35: 42947 | U35: 640 | V35: 43312 | W35: 722
Q37: Razem | S37: =SUM(S5:S35) -> 19530 | U37: =SUM(U5:U35) -> 18319 | W37: =SUM(W5:W35) -> 19371

Sheet sierpień
Q3: Data | S3: 2016 | U3: 2017 | W3: 2018
Q5: 42583 | R5: 42583 | S5: 398 | T5: 42948 | U5: 759 | V5: 43313 | W5: 525
Q6: 42584 | R6: 42584 | S6: 548 | T6: 42949 | U6: 763 | V6: 43314 | W6: 533
Q7: 42585 | R7: 42585 | S7: 744 | T7: 42950 | U7: 426 | V7: 43315 | W7: 650
Q8: 42586 | R8: 42586 | S8: 596 | T8: 42951 | U8: 741 | V8: 43316 | W8: 714
Q9: 42587 | R9: 42587 | S9: 415 | T9: 42952 | U9: 942 | V9: 43317 | W9: 455
Q10: 42588 | R10: 42588 | S10: 540 | T10: 42953 | U10: 745 | V10: 43318 | W10: 569
Q11: 42589 | R11: 42589 | S11: 613 | T11: 42954 | U11: 771 | V11: 43319 | W11: 764
Q12: 42590 | R12: 42590 | S12: 621 | T12: 42955 | U12: 950 | V12: 43320 | W12: 674
Q13: 42591 | R13: 42591 | S13: 598 | T13: 42956 | U13: 829 | V13: 43321 | W13: 711
Q14: 42592 | R14: 42592 | S14: 596 | T14: 42957 | U14: 698 | V14: 43322 | W14: 547
Q15: 42593 | R15: 42593 | S15: 495 | T15: 42958 | U15: 679 | V15: 43323 | W15: 538
Q16: 42594 | R16: 42594 | S16: 599 | T16: 42959 | U16: 451 | V16: 43324 | W16: 517
... Q35: 42613 | R35: 42613 | S35: 636 | T35: 42978 | U35: 582 | V35: 43343 | W35: 447
Q37: Razem | S37: =SUM(S5:S35) -> 18121 | U37: =SUM(U5:U35) -> 20354 | W37: =SUM(W5:W35) -> 17736

Sheet wrzesień
Q3: Data | S3: 2016 | U3: 2017 | W3: 2018
Q5: 42614 | R5: 42614 | S5: 682 | T5: 42979 | U5: 319 | V5: 43344 | W5: 550
Q6: 42615 | R6: 42615 | S6: 541 | T6: 42980 | U6: 158 | V6: 43345 | W6: 508
Q7: 42616 | R7: 42616 | S7: 641 | T7: 42981 | U7: 269 | V7: 43346 | W7: 543
Q8: 42617 | R8: 42617 | S8: 98 | T8: 42982 | U8: 264 | V8: 43347 | W8: 431
Q9: 42618 | R9: 42618 | S9: 374 | T9: 42983 | U9: 423 | V9: 43348 | W9: 510
Q10: 42619 | R10: 42619 | S10: 528 | T10: 42984 | U10: 211 | V10: 43349 | W10: 496
Q11: 42620 | R11: 42620 | S11: 648 | T11: 42985 | U11: 183 | V11: 43350 | W11: 505
Q12: 42621 | R12: 42621 | S12: 651 | T12: 42986 | U12: 346 | V12: 43351 | W12: 398
Q13: 42622 | R13: 42622 | S13: 640 | T13: 42987 | U13: 466 | V13: 43352 | W13: 503
Q14: 42623 | R14: 42623 | S14: 643 | T14: 42988 | U14: 188 | V14: 43353 | W14: 488
Q15: 42624 | R15: 42624 | S15: 747 | T15: 42989 | U15: 485 | V15: 43354 | W15: 390
Q16: 42625 | R16: 42625 | S16: 515 | T16: 42990 | U16: 544 | V16: 43355 | W16: 366
... Q34: 42643 | R34: 42643 | S34: 336 | T34: 43008 | U34: 364 | V34: 43373 | W34: 232
Q36: Razem | S36: =SUM(S5:S34) -> 13898 | U36: =SUM(U5:U34) -> 11162 | W36: =SUM(W5:W34) -> 12027

Sheet październik
Q3: Data | S3: 2016 | U3: 2017 | W3: 2018
Q5: 42644 | R5: 42644 | S5: 345 | T5: 43009 | U5: 340 | V5: 43374 | W5: 312
Q6: 42645 | R6: 42645 | S6: 281 | T6: 43010 | U6: 223 | V6: 43375 | W6: 237
Q7: 42646 | R7: 42646 | S7: 158 | T7: 43011 | U7: 187 | V7: 43376 | W7: 158
Q8: 42647 | R8: 42647 | S8: 161 | T8: 43012 | U8: 204 | V8: 43377 | W8: 221
Q9: 42648 | R9: 42648 | S9: 111 | T9: 43013 | U9: 128 | V9: 43378 | W9: 274
Q10: 42649 | R10: 42649 | S10: 91 | T10: 43014 | U10: 218 | V10: 43379 | W10: 465
Q11: 42650 | R11: 42650 | S11: 132 | T11: 43015 | U11: 216 | V11: 43380 | W11: 155
Q12: 42651 | R12: 42651 | S12: 165 | T12: 43016 | U12: 188 | V12: 43381 | W12: 254
Q13: 42652 | R13: 42652 | S13: 126 | T13: 43017 | U13: 151 | V13: 43382 | W13: 293
Q14: 42653 | R14: 42653 | S14: 127 | T14: 43018 | U14: 178 | V14: 43383 | W14: 333
Q15: 42654 | R15: 42654 | S15: 166 | T15: 43019 | U15: 222 | V15: 43384 | W15: 347
Q16: 42655 | R16: 42655 | S16: 169 | T16: 43020 | U16: 214 | V16: 43385 | W16: 319
... Q34: 42673 | R34: 42673 | S34: 64 | T34: 43038 | U34: 68 | V34: 43403 | W34: 210
Q35: 42674 | S35: 168 | T35: 43039 | U35: 154 | V35: 43404 | W35: 250
Q37: Razem | S37: =SUM(S5:S35) -> 4762 | U37: =SUM(U5:U35) -> 5731 | W37: =SUM(W5:W35) -> 7806

Sheet listopad
Q3: Data | S3: 2016 | T3: Data | U3: 2017 | W3: 2018
Q5: 42675 | R5: 42675 | S5: 31 | T5: 43040 | U5: 60 | V5: 43405 | W5: 115
Q6: 42676 | R6: 42676 | S6: 114 | T6: 43041 | U6: 122 | V6: 43406 | W6: 226
Q7: 42677 | R7: 42677 | S7: 79 | T7: 43042 | U7: 135 | V7: 43407 | W7: 178
Q8: 42678 | R8: 42678 | S8: 83 | T8: 43043 | U8: 211 | V8: 43408 | W8: 128
Q9: 42679 | R9: 42679 | S9: 106 | T9: 43044 | U9: 192 | V9: 43409 | W9: 146
Q10: 42680 | R10: 42680 | S10: 94 | T10: 43045 | U10: 130 | V10: 43410 | W10: 230
Q11: 42681 | R11: 42681 | S11: 79 | T11: 43046 | U11: 136 | V11: 43411 | W11: 176
Q12: 42682 | R12: 42682 | S12: 130 | T12: 43047 | U12: 129 | V12: 43412 | W12: 186
Q13: 42683 | R13: 42683 | S13: 102 | T13: 43048 | U13: 132 | V13: 43413 | W13: 140
Q14: 42684 | R14: 42684 | S14: 149 | T14: 43049 | U14: 143 | V14: 43414 | W14: 132
Q15: 42685 | R15: 42685 | S15: 38 | T15: 43050 | U15: 30 | V15: 43415 | W15: 105
Q16: 42686 | R16: 42686 | S16: 101 | T16: 43051 | U16: 65 | V16: 43416 | W16: 145
... Q34: 42704 | R34: 42704 | S34: 77 | T34: 43069 | U34: 102 | V34: 43434 | W34: 32
Q36: Razem | S36: =SUM(S5:S34) -> 2917 | T36: Razem | U36: =SUM(U5:U34) -> 3487 | W36: =SUM(W5:W34) -> 4065

Sheet grudzień
Q3: Data | S3: 2015 | U3: 2016 | V3: Data | W3: 2017
Q5: 42705 | R5: 42339 | S5: 85 | T5: 42705 | U5: 79 | V5: 43070 | W5: 67
Q6: 42706 | R6: 42340 | S6: 120 | T6: 42706 | U6: 59 | V6: 43071 | W6: 110
Q7: 42707 | R7: 42341 | S7: 143 | T7: 42707 | U7: 78 | V7: 43072 | W7: 75
Q8: 42708 | R8: 42342 | S8: 149 | T8: 42708 | U8: 47 | V8: 43073 | W8: 95
Q9: 42709 | R9: 42343 | S9: 102 | T9: 42709 | U9: 65 | V9: 43074 | W9: 90
Q10: 42710 | R10: 42344 | S10: 77 | T10: 42710 | U10: 81 | V10: 43075 | W10: 51
Q11: 42711 | R11: 42345 | S11: 129 | T11: 42711 | U11: 53 | V11: 43076 | W11: 83
Q12: 42712 | R12: 42346 | S12: 115 | T12: 42712 | U12: 57 | V12: 43077 | W12: 84
Q13: 42713 | R13: 42347 | S13: 116 | T13: 42713 | U13: 87 | V13: 43078 | W13: 68
Q14: 42714 | R14: 42348 | S14: 123 | T14: 42714 | U14: 61 | V14: 43079 | W14: 58
Q15: 42715 | R15: 42349 | S15: 88 | T15: 42715 | U15: 36 | V15: 43080 | W15: 73
Q16: 42716 | R16: 42350 | S16: 92 | T16: 42716 | U16: 80 | V16: 43081 | W16: 99
... Q35: 42735 | R35: 42369 | S35: 79 | T35: 42735 | U35: 100 | V35: 43100 | W35: 31
Q37: Razem | S37: =SUM(S5:S35) -> 3098 | U37: =SUM(U5:U35) -> 2296 | V37: Razem | W37: =SUM(W5:W35) -> 2337
