Workbook

Sheet ZBIORCZO
U3: Miesiąc | V3: Liczba
U4: 2015
U5: Grudzień | V5: =N28 -> 1583
U6: 2016
U7: Styczeń | V7: =C29 -> 699
U8: Luty | V8: =D29 -> 1658
U9: Marzec | V9: =E29 -> 2575
U10: Kwiecień | V10: =F29 -> 6443
U11: Maj | V11: =G29 -> 12486
U12: Czerwiec | V12: =H29 -> 10014
U13: Lipiec | V13: =I29 -> 12332
U14: Sierpień | V14: =J29 -> 11177
U15: Wrzesień | V15: =K29 -> 9363
U16: Październik | V16: =L29 -> 3433
U17: Listopad | V17: =M29 -> 1977
U18: Grudzień | V18: =N29 -> 1437
U19: 2017
U20: Styczeń | V20: =C30 -> 643
U21: Luty | V21: =D30 -> 906
U22: Marzec | V22: =E30 -> 2924
U23: Kwiecień | V23: =F30 -> 3849
U24: Maj | V24: =G30 -> 11013
U25: Czerwiec | V25: =H30 -> 8562
U26: Lipiec | V26: =I30 -> 10696
C27: styczeń | D27: luty | E27: marzec | F27: kwiecień | G27: maj | H27: czerwiec | I27: lipiec | J27: sierpień | K27: wrzesień | L27: październik | M27: listopad | N27: grudzień | O27: suma | P27: dynamika | U27: Sierpień | V27: =J30 -> 11220
B28: 2015 | N28: 1583 | P28: n/d | U28: Wrzesień | V28: =K30 -> 5627
B29: 2016 | C29: 699 | D29: 1658 | E29: 2575 | F29: 6443 | G29: 12486 | H29: 10014 | I29: 12332 | J29: 11177 | K29: 9363 | L29: 3433 | M29: 1977 | N29: 1437 | O29: =SUM(C29:N29) -> 73594 | P29: n/d | U29: Październik | V29: =L30 -> 3152
B30: 2017 | C30: 643 | D30: 906 | E30: 2924 | F30: 3849 | G30: 11013 | H30: 8562 | I30: 10696 | J30: 11220 | K30: 5627 | L30: 3152 | M30: 1858 | N30: 1123 | O30: =SUM(C30:N30) -> 61573 | P30: =O30/O29 -> 0.83665788 | U30: Listopad | V30: =listopad!$U$36 -> 1858
B31: 2018 | C31: 918 | D31: 689 | E31: 1377 | F31: 6880 | G31: 11989 | H31: 10010 | I31: 11291 | J31: 10659 | K31: 8565 | L31: 5284 | M31: 2178 | N31: 934 | O31: =SUM(C31:N31) -> 70774 | P31: =O31/O30 -> 1.1494324 | U31: Grudzień | V31: =grudzień!W37 -> 1123
B32: 2019 | C32: 810 | D32: 1580 | E32: 2537 | F32: 5512 | G32: 6196 | H32: 10903 | I32: 11219 | J32: 11892 | K32: 7654 | L32: 4506 | M32: 2145 | N32: 1564 | O32: =SUM(C32:N32) -> 66518 | P32: =O32/O31 -> 0.93986492 | U32: 2018
B33: 2020 | C33: 1672 | D33: 1680 | E33: 2811 | F33: 4692 | G33: 7999 | H33: 11820 | I33: 12508 | J33: 13520 | K33: 9434 | L33: 5282 | M33: 3701 | N33: 1885 | O33: =SUM(C33:N33) -> 77004 | P33: =O33/O32 -> 1.1576415 | U33: Styczeń | V33: =styczeń!W37 -> 918
B34: 2021 | C34: 724 | D34: 626 | E34: 2882 | F34: 4322 | G34: 7068 | H34: 10973 | I34: 11914 | J34: 10067 | K34: 7469 | L34: 5193 | M34: 2781 | N34: 927 | O34: =SUM(C34:N34) -> 64946 | P34: =O34/O33 -> 0.84341073 | U34: Luty | V34: =D31 -> 689
B35: 2022 | C35: 1021 | D35: 1584 | E35: 4119 | F35: 3843 | G35: 7500 | H35: 10626 | I35: 11277 | J35: 10972 | K35: 6556 | L35: 4876 | M35: 3317 | N35: 1164 | O35: =SUM(C35:N35) -> 66855 | P35: =O35/O34 -> 1.0293937 | U35: Marzec | V35: =E31 -> 1377
B36: 2023 | C36: 1693 | D36: 1214 | E36: 2342 | F36: 4650 | G36: 9040 | H36: 10365 | I36: 9970 | J36: 9784 | K36: 11092 | L36: 4224 | M36: 2662 | N36: 1140 | O36: =SUM(C36:N36) -> 68176 | P36: =O36/O35 -> 1.0197592 | U36: Kwiecień | V36: =F31 -> 6880
B37: 2024 | C37: 1075 | D37: 1681 | E37: 3231 | F37: 5500 | G37: 12159 | H37: 10240 | I37: 12747 | J37: 13457 | K37: 12004 | L37: 4615 | M37: 2314 | N37: 1695 | O37: =SUM(C37:N37) -> 80718 | P37: =O37/O36 -> 1.183965 | U37: Maj | V37: =G31 -> 11989
B38: 2025 | C38: 885 | D38: 867 | E38: 1974 | F38: 3025 | G38: 4332 | H38: 6345 | I38: 9865 | J38: 12624 | K38: 8202 | L38: 3935 | M38: 2671 | N38: 1833 | O38: =SUM(C38:N38) -> 56558 | P38: =O38/O37 -> 0.70068634 | U38: Maj | V38: =G32 -> 6196
B39: 2026 | C39: 71 | D39: 79 | O39: =SUM(C39:N39) -> 150 | P39: =O39/O38 -> 0.0026521447 | U39: Maj | V39: =G33 -> 7999
U40: Sierpień | V40: =J31 -> 10659
U41: Wrzesień | V41: =K31 -> 8565
U42: Październik | V42: =L31 -> 5284
...

Sheet styczeń
Q3: Data | S3: 2016 | U3: 2017 | W3: 2018 | Y3: 2019 | AA3: 2020
Q5: 42370 | R5: 42370 | S5: 20 | T5: 42736 | U5: 53 | V5: 43101 | W5: 45 | X5: 43466 | Y5: 28 | Z5: 43831 | AA5: 43
Q6: 42371 | R6: 42371 | S6: 18 | T6: 42737 | U6: 56 | V6: 43102 | W6: 39 | X6: 43467 | Y6: 17 | Z6: 43832 | AA6: 60
Q7: 42372 | R7: 42372 | S7: 15 | T7: 42738 | U7: 47 | V7: 43103 | W7: 45 | X7: 43468 | Y7: 17 | Z7: 43833 | AA7: 52
Q8: 42373 | R8: 42373 | S8: 29 | T8: 42739 | U8: 32 | V8: 43104 | W8: 30 | X8: 43469 | Y8: 22 | Z8: 43834 | AA8: 20
Q9: 42374 | R9: 42374 | S9: 17 | T9: 42740 | U9: 15 | V9: 43105 | W9: 32 | X9: 43470 | Y9: 22 | Z9: 43835 | AA9: 59
Q10: 42375 | R10: 42375 | S10: 21 | T10: 42741 | U10: 1 | V10: 43106 | W10: 32 | X10: 43471 | Y10: 12 | Z10: 43836 | AA10: 39
Q11: 42376 | R11: 42376 | S11: 27 | T11: 42742 | U11: 1 | V11: 43107 | W11: 49 | X11: 43472 | Y11: 29 | Z11: 43837 | AA11: 61
Q12: 42377 | R12: 42377 | S12: 24 | T12: 42743 | U12: 1 | V12: 43108 | W12: 47 | X12: 43473 | Y12: 31 | Z12: 43838 | AA12: 55
Q13: 42378 | R13: 42378 | S13: 16 | T13: 42744 | U13: 18 | V13: 43109 | W13: 29 | X13: 43474 | Y13: 26 | Z13: 43839 | AA13: 54
Q14: 42379 | R14: 42379 | S14: 21 | T14: 42745 | U14: 7 | V14: 43110 | W14: 46 | X14: 43475 | Y14: 27 | Z14: 43840 | AA14: 39
Q15: 42380 | R15: 42380 | S15: 20 | T15: 42746 | U15: 7 | V15: 43111 | W15: 53 | X15: 43476 | Y15: 39 | Z15: 43841 | AA15: 53
Q16: 42381 | R16: 42381 | S16: 29 | T16: 42747 | U16: 14 | V16: 43112 | W16: 31 | X16: 43477 | Y16: 27 | Z16: 43842 | AA16: 47
... Q35: 42400 | R35: 42400 | S35: 26 | T35: 42766 | U35: 33 | V35: 43131 | W35: 56 | X35: 43496 | Y35: 33 | Z35: 43861 | AA35: 43
Q37: Razem | S37: =SUM(S5:S35) -> 699 | U37: =SUM(U5:U35) -> 643 | W37: =SUM(W5:W35) -> 918 | Y37: =SUM(Y5:Y35) -> 810 | AA37: =SUM(AA5:AA36) -> 1672

Sheet luty
Q3: Data | S3: 2016 | U3: 2017 | W3: 2018 | Y3: 2019 | AA3: 2020
Q5: 42401 | R5: 42401 | S5: 50 | T5: 42767 | U5: 40 | V5: 43132 | W5: 52 | X5: 43497 | Y5: 30 | Z5: 43862 | AA5: 41
Q6: 42402 | R6: 42402 | S6: 25 | T6: 42768 | U6: 35 | V6: 43133 | W6: 55 | X6: 43498 | Y6: 19 | Z6: 43863 | AA6: 43
Q7: 42403 | R7: 42403 | S7: 47 | T7: 42769 | U7: 41 | V7: 43134 | W7: 32 | X7: 43499 | Y7: 36 | Z7: 43864 | AA7: 71
Q8: 42404 | R8: 42404 | S8: 42 | T8: 42770 | U8: 28 | V8: 43135 | W8: 47 | X8: 43500 | Y8: 33 | Z8: 43865 | AA8: 51
Q9: 42405 | R9: 42405 | S9: 48 | T9: 42771 | U9: 59 | V9: 43136 | W9: 17 | X9: 43501 | Y9: 32 | Z9: 43866 | AA9: 70
Q10: 42406 | R10: 42406 | S10: 39 | T10: 42772 | U10: 36 | V10: 43137 | W10: 4 | X10: 43502 | Y10: 35 | Z10: 43867 | AA10: 56
Q11: 42407 | R11: 42407 | S11: 74 | T11: 42773 | U11: 10 | V11: 43138 | W11: 2 | X11: 43503 | Y11: 38 | Z11: 43868 | AA11: 69
Q12: 42408 | R12: 42408 | S12: 68 | T12: 42774 | U12: 4 | V12: 43139 | W12: 9 | X12: 43504 | Y12: 34 | Z12: 43869 | AA12: 71
Q13: 42409 | R13: 42409 | S13: 59 | T13: 42775 | U13: 4 | V13: 43140 | W13: 12 | X13: 43505 | Y13: 58 | Z13: 43870 | AA13: 95
Q14: 42410 | R14: 42410 | S14: 71 | T14: 42776 | U14: 5 | V14: 43141 | W14: 8 | X14: 43506 | Y14: 80 | Z14: 43871 | AA14: 38
Q15: 42411 | R15: 42411 | S15: 79 | T15: 42777 | U15: 4 | V15: 43142 | W15: 15 | X15: 43507 | Y15: 25 | Z15: 43872 | AA15: 45
Q16: 42412 | R16: 42412 | S16: 59 | T16: 42778 | U16: 3 | V16: 43143 | W16: 20 | X16: 43508 | Y16: 44 | Z16: 43873 | AA16: 40
... Q32: 42428 | R32: 42428 | S32: 90 | T32: 42794 | U32: 43 | V32: 43159 | W32: 6 | X32: 43524 | Y32: 92 | Z32: 43889 | AA32: 69
Q33: 42429 | R33: 42429 | S33: 58 | Z33: 43890 | AA33: 49
Q35: Razem | S35: =SUM(S5:S33) -> 1658 | U35: =SUM(U5:U33) -> 906 | W35: =SUM(W5:W33) -> 689 | Y35: =SUM(Y5:Y33) -> 1580 | AA35: =SUM(AA5:AA33) -> 1680

Sheet marzec
Q3: Data | S3: 2016 | U3: 2017 | W3: 2018 | Y3: 2019 | AA3: 2020
Q5: 42430 | R5: 42430 | S5: 60 | T5: 42795 | U5: 69 | V5: 43160 | W5: 6 | X5: 43525 | Y5: 47 | Z5: niedz. 1 mar | AA5: 129
Q6: 42431 | R6: 42431 | S6: 68 | T6: 42796 | U6: 36 | V6: 43161 | W6: 7 | X6: 43526 | Y6: 69 | Z6: pon. 2 mar | AA6: 69
Q7: 42432 | R7: 42432 | S7: 81 | T7: 42797 | U7: 55 | V7: 43162 | W7: 2 | X7: 43527 | Y7: 43 | Z7: wt. 3 mar | AA7: 64
Q8: 42433 | R8: 42433 | S8: 48 | T8: 42798 | U8: 118 | V8: 43163 | W8: 13 | X8: 43528 | Y8: 52 | Z8: śr. 4 mar | AA8: 85
Q9: 42434 | R9: 42434 | S9: 45 | T9: 42799 | U9: 105 | V9: 43164 | W9: 19 | X9: 43529 | Y9: 22 | Z9: czw. 5 mar | AA9: 96
Q10: 42435 | R10: 42435 | S10: 58 | T10: 42800 | U10: 51 | V10: 43165 | W10: 32 | X10: 43530 | Y10: 38 | Z10: pt. 6 mar | AA10: 60
Q11: 42436 | R11: 42436 | S11: 99 | T11: 42801 | U11: 54 | V11: 43166 | W11: 25 | X11: 43531 | Y11: 82 | Z11: sob. 7 mar | AA11: 42
Q12: 42437 | R12: 42437 | S12: 102 | T12: 42802 | U12: 55 | V12: 43167 | W12: 35 | X12: 43532 | Y12: 40 | Z12: niedz. 8 mar | AA12: 149
Q13: 42438 | R13: 42438 | S13: 85 | T13: 42803 | U13: 68 | V13: 43168 | W13: 31 | X13: 43533 | Y13: 32 | Z13: pon. 9 mar | AA13: 76
Q14: 42439 | R14: 42439 | S14: 77 | T14: 42804 | U14: 74 | V14: 43169 | W14: 54 | X14: 43534 | Y14: 50 | Z14: wt. 10 mar | AA14: 81
Q15: 42440 | R15: 42440 | S15: 64 | T15: 42805 | U15: 76 | V15: 43170 | W15: 71 | X15: 43535 | Y15: 69 | Z15: śr. 11 mar | AA15: 55
Q16: 42441 | R16: 42441 | S16: 49 | T16: 42806 | U16: 55 | V16: 43171 | W16: 80 | X16: 43536 | Y16: 56 | Z16: czw. 12 mar | AA16: 39
... Q35: 42460 | R35: 42460 | S35: 107 | T35: 42825 | U35: 171 | V35: 43190 | W35: 53 | X35: 43555 | Y35: 107 | Z35: wt. 31 mar | AA35: 43
Q37: Razem | S37: =SUM(S5:S35) -> 2575 | U37: =SUM(U5:U35) -> 2924 | W37: =SUM(W5:W35) -> 1377 | Y37: =SUM(Y5:Y35) -> 2537 | AA37: =SUM(AA5:AA35) -> 2811

Sheet kwiecień
Q3: Data | S3: 2016 | U3: 2017 | W3: 2018 | Y3: 2019 | AA3: 2020
Q5: 42461 | R5: 42461 | S5: 104 | T5: 42826 | U5: 404 | V5: 43191 | W5: 24 | X5: 43556 | Y5: 129 | Z5: śr. 1 kwi | AA5: 66
Q6: 42462 | R6: 42462 | S6: 271 | T6: 42827 | U6: 217 | V6: 43192 | W6: 43 | X6: 43557 | Y6: 112 | Z6: czw. 2 kwi | AA6: 76
Q7: 42463 | R7: 42463 | S7: 314 | T7: 42828 | U7: 176 | V7: 43193 | W7: 76 | X7: 43558 | Y7: 141 | Z7: pt. 3 kwi | AA7: 49
Q8: 42464 | R8: 42464 | S8: 227 | T8: 42829 | U8: 165 | V8: 43194 | W8: 215 | X8: 43559 | Y8: 194 | Z8: sob. 4 kwi | AA8: 69
Q9: 42465 | R9: 42465 | S9: 318 | T9: 42830 | U9: 115 | V9: 43195 | W9: 147 | X9: 43560 | Y9: 186 | Z9: niedz. 5 kwi | AA9: 150
Q10: 42466 | R10: 42466 | S10: 136 | T10: 42831 | U10: 113 | V10: 43196 | W10: 83 | X10: 43561 | Y10: 271 | Z10: pon. 6 kwi | AA10: 124
Q11: 42467 | R11: 42467 | S11: 200 | T11: 42832 | U11: 107 | V11: 43197 | W11: 208 | X11: 43562 | Y11: 422 | Z11: wt. 7 kwi | AA11: 149
Q12: 42468 | R12: 42468 | S12: 204 | T12: 42833 | U12: 239 | V12: 43198 | W12: 505 | X12: 43563 | Y12: 113 | Z12: śr. 8 kwi | AA12: 137
Q13: 42469 | R13: 42469 | S13: 223 | T13: 42834 | U13: 214 | V13: 43199 | W13: 232 | X13: 43564 | Y13: 102 | Z13: czw. 9 kwi | AA13: 113
Q14: 42470 | R14: 42470 | S14: 152 | T14: 42835 | U14: 192 | V14: 43200 | W14: 179 | X14: 43565 | Y14: 73 | Z14: pt. 10 kwi | AA14: 96
Q15: 42471 | R15: 42471 | S15: 166 | T15: 42836 | U15: 88 | V15: 43201 | W15: 121 | X15: 43566 | Y15: 64 | Z15: sob. 11 kwi | AA15: 80
Q16: 42472 | R16: 42472 | S16: 180 | T16: 42837 | U16: 73 | V16: 43202 | W16: 222 | X16: 43567 | Y16: 80 | Z16: niedz. 12 kwi | AA16: 81
... Q34: 42490 | R34: 42490 | S34: 409 | T34: 42855 | U34: 328 | V34: 43220 | W34: 311 | X34: 43585 | Y34: 248 | Z34: czw. 30 kwi | AA34: 265
Q36: Razem | S36: =SUM(S5:S34) -> 6443 | U36: =SUM(U5:U34) -> 3849 | W36: =SUM(W5:W34) -> 6880 | Y36: =SUM(Y5:Y34) -> 5512 | AA36: =SUM(AA5:AA34) -> 4692

Sheet maj
Q3: Data | S3: 2016 | U3: 2017 | W3: 2018 | Y3: 2019
Q5: 42491 | R5: 42491 | S5: 455 | T5: 42856 | U5: 522 | V5: 43221 | W5: 739 | X5: 43586 | Y5: 623
Q6: 42492 | R6: 42492 | S6: 447 | T6: 42857 | U6: 378 | V6: 43222 | W6: 443 | X6: 43587 | Y6: 134
Q7: 42493 | R7: 42493 | S7: 835 | T7: 42858 | U7: 325 | V7: 43223 | W7: 507 | X7: 43588 | Y7: 197
Q8: 42494 | R8: 42494 | S8: 279 | T8: 42859 | U8: 117 | V8: 43224 | W8: 299 | X8: 43589 | Y8: 221
Q9: 42495 | R9: 42495 | S9: 341 | T9: 42860 | U9: 138 | V9: 43225 | W9: 563 | X9: 43590 | Y9: 252
Q10: 42496 | R10: 42496 | S10: 340 | T10: 42861 | U10: 528 | V10: 43226 | W10: 646 | X10: 43591 | Y10: 164
Q11: 42497 | R11: 42497 | S11: 647 | T11: 42862 | U11: 155 | V11: 43227 | W11: 315 | X11: 43592 | Y11: 176
Q12: 42498 | R12: 42498 | S12: 765 | T12: 42863 | U12: 114 | V12: 43228 | W12: 307 | X12: 43593 | Y12: 210
Q13: 42499 | R13: 42499 | S13: 360 | T13: 42864 | U13: 112 | V13: 43229 | W13: 338 | X13: 43594 | Y13: 180
Q14: 42500 | R14: 42500 | S14: 384 | T14: 42865 | U14: 72 | V14: 43230 | W14: 387 | X14: 43595 | Y14: 161
Q15: 42501 | R15: 42501 | S15: 299 | T15: 42866 | U15: 209 | V15: 43231 | W15: 232 | X15: 43596 | Y15: 190
Q16: 42502 | R16: 42502 | S16: 257 | T16: 42867 | U16: 282 | V16: 43232 | W16: 404 | X16: 43597 | Y16: 181
... Q35: 42521 | R35: 42521 | S35: 406 | T35: 42886 | U35: 301 | V35: 43251 | W35: 628 | X35: 43616 | Y35: 198
Q37: Razem | S37: =SUM(S5:S35) -> 12486 | U37: =SUM(U5:U35) -> 11013 | W37: =SUM(W5:W35) -> 11989 | Y37: =SUM(Y5:Y35) -> 6196

Sheet czerwiec
Q3: Data | S3: 2016 | U3: 2017 | W3: 2018 | Y3: 2019
Q5: 42522 | R5: 42522 | S5: 276 | T5: 42887 | U5: 146 | V5: 43252 | W5: 348 | X5: 43617 | Y5: 256
Q6: 42523 | R6: 42523 | S6: 443 | T6: 42888 | U6: 242 | V6: 43253 | W6: 426 | X6: 43618 | Y6: 570
Q7: 42524 | R7: 42524 | S7: 429 | T7: 42889 | U7: 381 | V7: 43254 | W7: 539 | X7: 43619 | Y7: 344
Q8: 42525 | R8: 42525 | S8: 488 | T8: 42890 | U8: 50 | V8: 43255 | W8: 366 | X8: 43620 | Y8: 353
Q9: 42526 | R9: 42526 | S9: 495 | T9: 42891 | U9: 278 | V9: 43256 | W9: 234 | X9: 43621 | Y9: 390
Q10: 42527 | R10: 42527 | S10: 338 | T10: 42892 | U10: 234 | V10: 43257 | W10: 296 | X10: 43622 | Y10: 307
Q11: 42528 | R11: 42528 | S11: 366 | T11: 42893 | U11: 197 | V11: 43258 | W11: 329 | X11: 43623 | Y11: 286
Q12: 42529 | R12: 42529 | S12: 292 | T12: 42894 | U12: 214 | V12: 43259 | W12: 356 | X12: 43624 | Y12: 265
Q13: 42530 | R13: 42530 | S13: 294 | T13: 42895 | U13: 271 | V13: 43260 | W13: 404 | X13: 43625 | Y13: 649
Q14: 42531 | R14: 42531 | S14: 269 | T14: 42896 | U14: 230 | V14: 43261 | W14: 471 | X14: 43626 | Y14: 300
Q15: 42532 | R15: 42532 | S15: 180 | T15: 42897 | U15: 535 | V15: 43262 | W15: 212 | X15: 43627 | Y15: 373
Q16: 42533 | R16: 42533 | S16: 412 | T16: 42898 | U16: 127 | V16: 43263 | W16: 286 | X16: 43628 | Y16: 325
... Q34: 42551 | R34: 42551 | S34: 355 | T34: 42916 | U34: 109 | V34: 43281 | W34: 191 | X34: 43646 | Y34: 341
Q36: Razem | S36: =SUM(S5:S34) -> 10014 | U36: =SUM(U5:U34) -> 8562 | W36: =SUM(W5:W35) -> 10010 | Y36: =SUM(Y5:Y34) -> 10903

Sheet lipiec
Q3: Data | S3: 2016 | U3: 2017 | W3: 2018 | Y3: 2019
Q5: 42552 | R5: 42552 | S5: 421 | T5: 42917 | U5: 103 | V5: 43282 | W5: 194 | X5: 43647 | Y5: 345
Q6: 42553 | R6: 42553 | S6: 336 | T6: 42918 | U6: 265 | V6: 43283 | W6: 212 | X6: 43648 | Y6: 246
Q7: 42554 | R7: 42554 | S7: 414 | T7: 42919 | U7: 322 | V7: 43284 | W7: 319 | X7: 43649 | Y7: 314
Q8: 42555 | R8: 42555 | S8: 364 | T8: 42920 | U8: 212 | V8: 43285 | W8: 450 | X8: 43650 | Y8: 300
Q9: 42556 | R9: 42556 | S9: 389 | T9: 42921 | U9: 274 | V9: 43286 | W9: 418 | X9: 43651 | Y9: 235
Q10: 42557 | R10: 42557 | S10: 202 | T10: 42922 | U10: 439 | V10: 43287 | W10: 336 | X10: 43652 | Y10: 173
Q11: 42558 | R11: 42558 | S11: 257 | T11: 42923 | U11: 434 | V11: 43288 | W11: 530 | X11: 43653 | Y11: 222
Q12: 42559 | R12: 42559 | S12: 330 | T12: 42924 | U12: 254 | V12: 43289 | W12: 583 | X12: 43654 | Y12: 95
Q13: 42560 | R13: 42560 | S13: 396 | T13: 42925 | U13: 646 | V13: 43290 | W13: 253 | X13: 43655 | Y13: 132
Q14: 42561 | R14: 42561 | S14: 374 | T14: 42926 | U14: 294 | V14: 43291 | W14: 335 | X14: 43656 | Y14: 264
Q15: 42562 | R15: 42562 | S15: 353 | T15: 42927 | U15: 348 | V15: 43292 | W15: 276 | X15: 43657 | Y15: 474
Q16: 42563 | R16: 42563 | S16: 438 | T16: 42928 | U16: 290 | V16: 43293 | W16: 177 | X16: 43658 | Y16: 405
... Q35: 42582 | R35: 42582 | S35: 485 | T35: 42947 | U35: 376 | V35: 43312 | W35: 405 | X35: 43677 | Y35: 437
Q37: Razem | S37: =SUM(S5:S35) -> 12332 | U37: =SUM(U5:U35) -> 10696 | W37: =SUM(W5:W35) -> 11291 | Y37: =SUM(Y5:Y35) -> 11219

Sheet sierpień
Q3: Data | S3: 2016 | U3: 2017 | W3: 2018 | Y3: 2019
Q5: 42583 | R5: 42583 | S5: 231 | T5: 42948 | U5: 476 | V5: 43313 | W5: 301 | X5: 43678 | Y5: 260
Q6: 42584 | R6: 42584 | S6: 380 | T6: 42949 | U6: 413 | V6: 43314 | W6: 319 | X6: 43679 | Y6: 305
Q7: 42585 | R7: 42585 | S7: 405 | T7: 42950 | U7: 263 | V7: 43315 | W7: 370 | X7: 43680 | Y7: 421
Q8: 42586 | R8: 42586 | S8: 378 | T8: 42951 | U8: 416 | V8: 43316 | W8: 323 | X8: 43681 | Y8: 407
Q9: 42587 | R9: 42587 | S9: 241 | T9: 42952 | U9: 405 | V9: 43317 | W9: 491 | X9: 43682 | Y9: 276
Q10: 42588 | R10: 42588 | S10: 316 | T10: 42953 | U10: 482 | V10: 43318 | W10: 372 | X10: 43683 | Y10: 314
Q11: 42589 | R11: 42589 | S11: 404 | T11: 42954 | U11: 391 | V11: 43319 | W11: 444 | X11: 43684 | Y11: 391
Q12: 42590 | R12: 42590 | S12: 461 | T12: 42955 | U12: 405 | V12: 43320 | W12: 433 | X12: 43685 | Y12: 322
Q13: 42591 | R13: 42591 | S13: 383 | T13: 42956 | U13: 412 | V13: 43321 | W13: 367 | X13: 43686 | Y13: 312
Q14: 42592 | R14: 42592 | S14: 415 | T14: 42957 | U14: 319 | V14: 43322 | W14: 294 | X14: 43687 | Y14: 231
Q15: 42593 | R15: 42593 | S15: 298 | T15: 42958 | U15: 296 | V15: 43323 | W15: 328 | X15: 43688 | Y15: 509
Q16: 42594 | R16: 42594 | S16: 365 | T16: 42959 | U16: 270 | V16: 43324 | W16: 365 | X16: 43689 | Y16: 292
... Q35: 42613 | R35: 42613 | S35: 368 | T35: 42978 | U35: 306 | V35: 43343 | W35: 259 | X35: 43708 | Y35: 386
Q37: Razem | S37: =SUM(S5:S35) -> 11177 | U37: =SUM(U5:U35) -> 11220 | W37: =SUM(W5:W35) -> 10659 | Y37: =SUM(Y5:Y35) -> 11892

Sheet wrzesień
Q3: Data | S3: 2016 | U3: 2017 | W3: 2018 | Y3: 2019
Q5: 42614 | R5: 42614 | S5: 479 | T5: 42979 | U5: 201 | V5: 43344 | W5: 557 | X5: 873 | Y5: 838
Q6: 42615 | R6: 42615 | S6: 312 | T6: 42980 | U6: 84 | V6: 43345 | W6: 578 | X6: 917 | Y6: 309
Q7: 42616 | R7: 42616 | S7: 486 | T7: 42981 | U7: 144 | V7: 43346 | W7: 325 | X7: 1121 | Y7: 334
Q8: 42617 | R8: 42617 | S8: 81 | T8: 42982 | U8: 137 | V8: 43347 | W8: 306 | X8: 1259 | Y8: 305
Q9: 42618 | R9: 42618 | S9: 251 | T9: 42983 | U9: 217 | V9: 43348 | W9: 298 | X9: 1289 | Y9: 369
Q10: 42619 | R10: 42619 | S10: 374 | T10: 42984 | U10: 111 | V10: 43349 | W10: 334 | X10: 1150 | Y10: 304
Q11: 42620 | R11: 42620 | S11: 358 | T11: 42985 | U11: 68 | V11: 43350 | W11: 329 | X11: 528 | Y11: 232
Q12: 42621 | R12: 42621 | S12: 367 | T12: 42986 | U12: 147 | V12: 43351 | W12: 262 | X12: 637 | Y12: 305
Q13: 42622 | R13: 42622 | S13: 391 | T13: 42987 | U13: 274 | V13: 43352 | W13: 454 | X13: 938 | Y13: 273
Q14: 42623 | R14: 42623 | S14: 693 | T14: 42988 | U14: 208 | V14: 43353 | W14: 302 | X14: 405 | Y14: 123
Q15: 42624 | R15: 42624 | S15: 544 | T15: 42989 | U15: 203 | V15: 43354 | W15: 275 | X15: 1102 | Y15: 316
Q16: 42625 | R16: 42625 | S16: 314 | T16: 42990 | U16: 294 | V16: 43355 | W16: 234 | X16: 1067 | Y16: 284
... Q34: 42643 | R34: 42643 | S34: 206 | T34: 43008 | U34: 180 | V34: 43373 | W34: 226 | X34: 377 | Y34: 82
Q36: Razem | S36: =SUM(S5:S34) -> 9363 | U36: =SUM(U5:U34) -> 5627 | W36: =SUM(W5:W34) -> 8565 | Y36: =SUM(Y5:Y34) -> 7654

Sheet październik
Q3: Data | S3: 2016 | U3: 2017 | W3: 2018 | Y3: 2019
Q5: 42644 | R5: 42644 | S5: 200 | T5: 43009 | U5: 224 | V5: 43374 | W5: 206 | X5: 43739 | Y5: 110
Q6: 42645 | R6: 42645 | S6: 221 | T6: 43010 | U6: 142 | V6: 43375 | W6: 151 | X6: 43740 | Y6: 108
Q7: 42646 | R7: 42646 | S7: 135 | T7: 43011 | U7: 96 | V7: 43376 | W7: 86 | X7: 43741 | Y7: 144
Q8: 42647 | R8: 42647 | S8: 134 | T8: 43012 | U8: 85 | V8: 43377 | W8: 174 | X8: 43742 | Y8: 144
Q9: 42648 | R9: 42648 | S9: 70 | T9: 43013 | U9: 59 | V9: 43378 | W9: 170 | X9: 43743 | Y9: 94
Q10: 42649 | R10: 42649 | S10: 57 | T10: 43014 | U10: 125 | V10: 43379 | W10: 285 | X10: 43744 | Y10: 57
Q11: 42650 | R11: 42650 | S11: 79 | T11: 43015 | U11: 98 | V11: 43380 | W11: 105 | X11: 43745 | Y11: 126
Q12: 42651 | R12: 42651 | S12: 83 | T12: 43016 | U12: 130 | V12: 43381 | W12: 174 | X12: 43746 | Y12: 113
Q13: 42652 | R13: 42652 | S13: 86 | T13: 43017 | U13: 67 | V13: 43382 | W13: 228 | X13: 43747 | Y13: 145
Q14: 42653 | R14: 42653 | S14: 90 | T14: 43018 | U14: 78 | V14: 43383 | W14: 233 | X14: 43748 | Y14: 104
Q15: 42654 | R15: 42654 | S15: 132 | T15: 43019 | U15: 101 | V15: 43384 | W15: 230 | X15: 43749 | Y15: 148
Q16: 42655 | R16: 42655 | S16: 129 | T16: 43020 | U16: 86 | V16: 43385 | W16: 208 | X16: 43750 | Y16: 48
... Q34: 42673 | R34: 42673 | S34: 47 | T34: 43038 | U34: 42 | V34: 43403 | W34: 125 | X34: 43768 | Y34: 123
Q35: 42674 | S35: 116 | T35: 43039 | U35: 75 | V35: 43404 | W35: 167 | X35: 43769 | Y35: 83
Q37: Razem | S37: =SUM(S5:S35) -> 3433 | U37: =SUM(U5:U35) -> 3152 | W37: =SUM(W5:W35) -> 5284 | Y37: =SUM(Y5:Y35) -> 4506

Sheet listopad
Q3: Data | S3: 2016 | T3: Data | U3: 2017 | W3: 2018 | Y3: 2019
Q5: 42675 | R5: 42675 | S5: 58 | T5: 43040 | U5: 45 | V5: 43405 | W5: 99 | X5: 43770 | Y5: 69
Q6: 42676 | R6: 42676 | S6: 66 | T6: 43041 | U6: 48 | V6: 43406 | W6: 103 | X6: 43771 | Y6: 34
Q7: 42677 | R7: 42677 | S7: 60 | T7: 43042 | U7: 91 | V7: 43407 | W7: 100 | X7: 43772 | Y7: 68
Q8: 42678 | R8: 42678 | S8: 65 | T8: 43043 | U8: 116 | V8: 43408 | W8: 97 | X8: 43773 | Y8: 40
Q9: 42679 | R9: 42679 | S9: 61 | T9: 43044 | U9: 128 | V9: 43409 | W9: 86 | X9: 43774 | Y9: 78
Q10: 42680 | R10: 42680 | S10: 73 | T10: 43045 | U10: 85 | V10: 43410 | W10: 151 | X10: 43775 | Y10: 85
Q11: 42681 | R11: 42681 | S11: 64 | T11: 43046 | U11: 89 | V11: 43411 | W11: 126 | X11: 43776 | Y11: 102
Q12: 42682 | R12: 42682 | S12: 90 | T12: 43047 | U12: 63 | V12: 43412 | W12: 108 | X12: 43777 | Y12: 95
Q13: 42683 | R13: 42683 | S13: 86 | T13: 43048 | U13: 76 | V13: 43413 | W13: 86 | X13: 43778 | Y13: 48
Q14: 42684 | R14: 42684 | S14: 76 | T14: 43049 | U14: 56 | V14: 43414 | W14: 78 | X14: 43779 | Y14: 108
Q15: 42685 | R15: 42685 | S15: 32 | T15: 43050 | U15: 11 | V15: 43415 | W15: 76 | X15: 43780 | Y15: 100
Q16: 42686 | R16: 42686 | S16: 45 | T16: 43051 | U16: 57 | V16: 43416 | W16: 122 | X16: 43781 | Y16: 64
... Q34: 42704 | R34: 42704 | S34: 57 | T34: 43069 | U34: 48 | V34: 43434 | W34: 15 | X34: 43799 | Y34: 45
Q36: Razem | S36: =SUM(S5:S34) -> 1977 | T36: Razem | U36: =SUM(U5:U34) -> 1858 | W36: =SUM(W5:W34) -> 2178 | Y36: =SUM(Y5:Y34) -> 2145

Sheet grudzień
Q3: Data | S3: 2015 | U3: 2016 | V3: Data | W3: 2017 | Y3: 2018 | AA3: 2019
Q5: 42705 | R5: 42339 | S5: 45 | T5: 42705 | U5: 44 | V5: 43070 | W5: 25 | X5: 43435 | Y5: 9 | Z5: 43800 | AA5: 49
Q6: 42706 | R6: 42340 | S6: 63 | T6: 42706 | U6: 32 | V6: 43071 | W6: 57 | X6: 43436 | Y6: 23 | Z6: 43801 | AA6: 45
Q7: 42707 | R7: 42341 | S7: 91 | T7: 42707 | U7: 44 | V7: 43072 | W7: 29 | X7: 43437 | Y7: 45 | Z7: 43802 | AA7: 31
Q8: 42708 | R8: 42342 | S8: 47 | T8: 42708 | U8: 41 | V8: 43073 | W8: 34 | X8: 43438 | Y8: 47 | Z8: 43803 | AA8: 53
Q9: 42709 | R9: 42343 | S9: 42 | T9: 42709 | U9: 41 | V9: 43074 | W9: 40 | X9: 43439 | Y9: 49 | Z9: 43804 | AA9: 59
Q10: 42710 | R10: 42344 | S10: 55 | T10: 42710 | U10: 52 | V10: 43075 | W10: 35 | X10: 43440 | Y10: 61 | Z10: 43805 | AA10: 60
Q11: 42711 | R11: 42345 | S11: 83 | T11: 42711 | U11: 68 | V11: 43076 | W11: 52 | X11: 43441 | Y11: 47 | Z11: 43806 | AA11: 42
Q12: 42712 | R12: 42346 | S12: 61 | T12: 42712 | U12: 67 | V12: 43077 | W12: 51 | X12: 43442 | Y12: 23 | Z12: 43807 | AA12: 40
Q13: 42713 | R13: 42347 | S13: 67 | T13: 42713 | U13: 57 | V13: 43078 | W13: 33 | X13: 43443 | Y13: 29 | Z13: 43808 | AA13: 62
Q14: 42714 | R14: 42348 | S14: 65 | T14: 42714 | U14: 31 | V14: 43079 | W14: 28 | X14: 43444 | Y14: 55 | Z14: 43809 | AA14: 57
Q15: 42715 | R15: 42349 | S15: 59 | T15: 42715 | U15: 31 | V15: 43080 | W15: 30 | X15: 43445 | Y15: 37 | Z15: 43810 | AA15: 61
Q16: 42716 | R16: 42350 | S16: 25 | T16: 42716 | U16: 41 | V16: 43081 | W16: 44 | X16: 43446 | Y16: 45 | Z16: 43811 | AA16: 57
... Q35: 42735 | R35: 42369 | S35: 38 | T35: 42735 | U35: 32 | V35: 43100 | W35: 21 | X35: 43465 | Y35: 57 | Z35: 43830 | AA35: 51
Q37: Razem | S37: =SUM(S5:S35) -> 1583 | U37: =SUM(U5:U35) -> 1437 | V37: Razem | W37: =SUM(W5:W35) -> 1123 | Y37: =SUM(Y5:Y35) -> 934 | AA37: =SUM(AA5:AA35) -> 1564
