Workbook

Sheet ZBIORCZO
W3: Miesiąc | X3: Liczba
W4: 2017
W5: Grudzień | X5: =' grudzień'!$R$37 -> 1670
W6: 2018
W7: Styczeń | X7: =styczeń!V36 -> 1496
W8: Luty | X8: =D30 -> 1161
W9: Marzec | X9: =E30 -> 1838
W10: Kwiecień | X10: =F30 -> 8857
W11: Maj | X11: =G30 -> 15162
W12: Czerwiec | X12: =H30 -> 13237
W13: Lipiec | X13: =I30 -> 14042
W14: Sierpień | X14: =J30 -> 12903
W15: Wrzesień | X15: =K30 -> 10336
W16: Październik | X16: =L30 -> 6993
W17: Listopad | X17: =listopad!Q36 -> 3997
W18: Grudzień | X18: =' grudzień'!U37 -> 1616
W19: 2019
W20: Styczeń | X20: =styczeń!X36 -> 1455
W21: Luty | X21: =luty!U35 -> 2240
W22: Marzec | X22: =marzec!U37 -> 4367
W23: Kwiecień | X23: =kwiecień!U36 -> 8591
W24: Maj | X24: =maj!U37 -> 9148
W25: Czerwiec | X25: =czerwiec!V36 -> 13792
W26: Lipiec | X26: ='lipiec '!U37 -> 11677
W27: Sierpień | X27: =sierpień!U36 -> 12512
C28: styczeń | D28: luty | E28: marzec | F28: kwiecień | G28: maj | H28: czerwiec | I28: lipiec | J28: sierpień | K28: wrzesień | L28: październik | M28: listopad | N28: grudzień | O28: suma | P28: dynamika | W28: Wrzesień | X28: =wrzesień!U36 -> 8921
B29: 2017 | N29: 1670 | P29: n/d | W29: Październik | X29: =październik!W37 -> 6707
B30: 2018 | C30: 1496 | D30: 1161 | E30: 1838 | F30: 8857 | G30: 15162 | H30: 13237 | I30: 14042 | J30: 12903 | K30: 10336 | L30: 6993 | M30: 3997 | N30: 1616 | O30: =SUM(C30:N30) -> 91638 | P30: n/d | W30: Listopad | X30: =listopad!S36 -> 3399
B31: 2019 | C31: 1455 | D31: 2240 | E31: 4367 | F31: 8591 | G31: 9148 | H31: 13792 | I31: 11677 | J31: 12512 | K31: 8921 | L31: 6707 | M31: 3399 | N31: 2231 | O31: =SUM(C31:N31) -> 85040 | P31: =O31/O30 -> 0.9279993 | W31: Grudzień | X31: =N31 -> 2231
B32: 2020 | C32: 2629 | D32: 2689 | E32: 4173 | F32: 6312 | G32: 10638 | H32: 14045 | I32: 12296 | J32: 12773 | K32: 10148 | L32: 6904 | M32: 4817 | N32: 2665 | O32: =SUM(C32:N32) -> 90089 | P32: =O32/O31 -> 1.0593721 | W32: 2020
B33: 2021 | C33: 1093 | D33: 1002 | E33: 3642 | F33: 6133 | G33: 9764 | H33: 13825 | I33: 12940 | J33: 9487 | K33: 8995 | L33: 7156 | M33: 3367 | N33: 1315 | O33: =SUM(C33:N33) -> 78719 | P33: =O33/O32 -> 0.87379147 | W33: Styczeń | X33: =styczeń!Z36 -> 2629
B34: 2022 | C34: 1422 | D34: 1723 | E34: 5595 | F34: 6317 | G34: 11172 | H34: 15230 | I34: 14714 | J34: 14058 | K34: 9481 | L34: 8361 | M34: 4576 | N34: 1708 | O34: =SUM(C34:N34) -> 94357 | P34: =O34/O33 -> 1.198656 | W34: Luty | X34: =luty!W35 -> 2689
B35: 2023 | C35: 2402 | D35: 1726 | E35: 3380 | F35: 7349 | G35: 15364 | H35: 14817 | I35: 13091 | J35: 12012 | K35: 15218 | L35: 8020 | M35: 3909 | N35: 1381 | O35: =SUM(C35:N35) -> 98669 | P35: =O35/O34 -> 1.0456988
B36: 2024 | C36: 1384 | D36: 2606 | E36: 5855 | F36: 9624 | G36: 18054 | H36: 15272 | I36: 16598 | J36: 16283 | K36: 13380 | L36: 9192 | M36: 4855 | N36: 2676 | O36: =SUM(C36:N36) -> 115779 | P36: =O36/O35 -> 1.1734081 | W36: Marzec | X36: =E32 -> 4173
B37: 2025 | C37: 2945 | D37: 2661 | E37: 6498 | F37: 8823 | G37: 11233 | H37: 13169 | I37: 15214 | J37: 14220 | K37: 12947 | L37: 8230 | M37: 5466 | N37: 3540 | O37: =SUM(C37:N37) -> 104946 | P37: =O37/O36 -> 0.90643381 | W37: Marzec | X37: =E33 -> 3642
B38: 2026 | C38: 594 | D38: 382 | O38: =SUM(C38:N38) -> 976 | P38: =O38/O37 -> 0.009300021 | W38: Marzec | X38: =E34 -> 5595
W39: Czerwiec | X39: 14045
W40: Lipiec | X40: 12296
W41: Sierpień | X41: 12773
W42: Wrzesień | X42: 10148
...

Sheet styczeń
Q2: Data | S2: 2018 | T2: Data | V2: 2018 | X2: 2019 | Z2: 2020
Q3: 01 sty. | R3: 43101
Q4: 2 sty. | R4: 43102 | T4: 42370 | U4: 43101 | V4: 49 | W4: 43466 | X4: 12 | Y4: 43831 | Z4: 30
Q5: 3 sty. | R5: 43103 | T5: 42371 | U5: 43102 | V5: 69 | W5: 43467 | X5: 39 | Y5: 43832 | Z5: 91
Q6: 4 sty. | R6: 43104 | T6: 42372 | U6: 43103 | V6: 70 | W6: 43468 | X6: 44 | Y6: 43833 | Z6: 80
Q7: 5 sty. | R7: 43105 | T7: 42373 | U7: 43104 | V7: 59 | W7: 43469 | X7: 40 | Y7: 43834 | Z7: 12
Q8: 6 sty. | R8: 43106 | T8: 42374 | U8: 43105 | V8: 44 | W8: 43470 | X8: 19 | Y8: 43835 | Z8: 61
Q9: 7 sty. | R9: 43107 | T9: 42375 | U9: 43106 | V9: 42 | W9: 43471 | X9: 20 | Y9: 43836 | Z9: 44
Q10: 8 sty. | R10: 43108 | T10: 42376 | U10: 43107 | V10: 76 | W10: 43472 | X10: 42 | Y10: 43837 | Z10: 123
Q11: 9 sty. | R11: 43109 | T11: 42377 | U11: 43108 | V11: 64 | W11: 43473 | X11: 67 | Y11: 43838 | Z11: 107
Q12: 10 sty. | R12: 43110 | T12: 42378 | U12: 43109 | V12: 87 | W12: 43474 | X12: 68 | Y12: 43839 | Z12: 92
Q13: 11 sty. | R13: 43111 | T13: 42379 | U13: 43110 | V13: 85 | W13: 43475 | X13: 60 | Y13: 43840 | Z13: 91
Q14: 12 sty. | R14: 43112 | T14: 42380 | U14: 43111 | V14: 84 | W14: 43476 | X14: 51 | Y14: 43841 | Z14: 70
Q15: 13 sty. | R15: 43113 | T15: 42381 | U15: 43112 | V15: 60 | W15: 43477 | X15: 58 | Y15: 43842 | Z15: 58
... Q33: 31 sty. | R33: 43131 | T33: 42399 | U33: 43130 | V33: 36 | W33: 43495 | X33: 55 | Y33: 43860 | Z33: 104
T34: 42400 | U34: 43131 | V34: 59 | W34: 43496 | X34: 57 | Y34: 43861 | Z34: 63
Q35: Razem | S35: =SUM(S3:S33) -> 0
T36: Razem | V36: =SUM(V4:V34) -> 1496 | X36: =SUM(X4:X34) -> 1455 | Z36: =SUM(Z4:Z35) -> 2629

Sheet luty
Q3: Data | S3: 2018 | U3: 2019 | W3: 2020
Q5: 42401 | R5: 43132 | S5: 80 | T5: 43497 | U5: 46 | V5: 43862 | W5: 62
Q6: 42402 | R6: 43133 | S6: 77 | T6: 43498 | U6: 23 | V6: 43863 | W6: 53
Q7: 42403 | R7: 43134 | S7: 27 | T7: 43499 | U7: 33 | V7: 43864 | W7: 136
Q8: 42404 | R8: 43135 | S8: 25 | T8: 43500 | U8: 64 | V8: 43865 | W8: 68
Q9: 42405 | R9: 43136 | S9: 24 | T9: 43501 | U9: 74 | V9: 43866 | W9: 91
Q10: 42406 | R10: 43137 | S10: 14 | T10: 43502 | U10: 68 | V10: 43867 | W10: 76
Q11: 42407 | R11: 43138 | S11: 34 | T11: 43503 | U11: 76 | V11: 43868 | W11: 116
Q12: 42408 | R12: 43139 | S12: 37 | T12: 43504 | U12: 71 | V12: 43869 | W12: 125
Q13: 42409 | R13: 43140 | S13: 46 | T13: 43505 | U13: 54 | V13: 43870 | W13: 83
Q14: 42410 | R14: 43141 | S14: 19 | T14: 43506 | U14: 40 | V14: 43871 | W14: 72
Q15: 42411 | R15: 43142 | S15: 24 | T15: 43507 | U15: 62 | V15: 43872 | W15: 60
Q16: 42412 | R16: 43143 | S16: 66 | T16: 43508 | U16: 83 | V16: 43873 | W16: 80
... Q32: 42428 | R32: 43159 | S32: 22 | T32: 43524 | U32: 123 | V32: 43889 | W32: 103
Q33: 42429 | V33: 43890 | W33: 63
Q35: Razem | S35: =SUM(S5:S33) -> 1161 | U35: =SUM(U5:U33) -> 2240 | W35: =SUM(W5:W33) -> 2689

Sheet marzec
Q3: Data | S3: 2018 | U3: 2019 | W3: 2020
Q5: 42430 | R5: 43160 | S5: 17 | T5: 43525 | U5: 121 | V5: niedz. 1 mar | W5: 129
Q6: 42431 | R6: 43161 | S6: 14 | T6: 43526 | U6: 141 | V6: pon. 2 mar | W6: 138
Q7: 42432 | R7: 43162 | S7: 7 | T7: 43527 | U7: 50 | V7: wt. 3 mar | W7: 105
Q8: 42433 | R8: 43163 | S8: 10 | T8: 43528 | U8: 87 | V8: śr. 4 mar | W8: 137
Q9: 42434 | R9: 43164 | S9: 45 | T9: 43529 | U9: 42 | V9: czw. 5 mar | W9: 163
Q10: 42435 | R10: 43165 | S10: 45 | T10: 43530 | U10: 98 | V10: pt. 6 mar | W10: 115
Q11: 42436 | R11: 43166 | S11: 35 | T11: 43531 | U11: 143 | V11: sob. 7 mar | W11: 58
Q12: 42437 | R12: 43167 | S12: 46 | T12: 43532 | U12: 76 | V12: niedz. 8 mar | W12: 177
Q13: 42438 | R13: 43168 | S13: 38 | T13: 43533 | U13: 45 | V13: pon. 9 mar | W13: 151
Q14: 42439 | R14: 43169 | S14: 62 | T14: 43534 | U14: 74 | V14: wt. 10 mar | W14: 182
Q15: 42440 | R15: 43170 | S15: 37 | T15: 43535 | U15: 162 | V15: śr. 11 mar | W15: 99
Q16: 42441 | R16: 43171 | S16: 102 | T16: 43536 | U16: 106 | V16: czw. 12 mar | W16: 70
... Q35: 42460 | R35: 43190 | S35: 55 | T35: 43555 | U35: 181 | V35: wt. 31 mar | W35: 49
Q37: Razem | S37: =SUM(S5:S35) -> 1838 | U37: =SUM(U5:U35) -> 4367 | W37: =SUM(W5:W35) -> 4173

Sheet kwiecień
Q3: Data | S3: 2018 | U3: 2019 | W3: 2020
Q5: 42461 | R5: 43191 | S5: 12 | T5: 43556 | U5: 217 | V5: śr. 1 kwi | W5: 79
Q6: 42462 | R6: 43192 | S6: 36 | T6: 43557 | U6: 224 | V6: czw. 2 kwi | W6: 87
Q7: 42463 | R7: 43193 | S7: 102 | T7: 43558 | U7: 259 | V7: pt. 3 kwi | W7: 64
Q8: 42464 | R8: 43194 | S8: 253 | T8: 43559 | U8: 325 | V8: sob. 4 kwi | W8: 116
Q9: 42465 | R9: 43195 | S9: 200 | T9: 43560 | U9: 335 | V9: niedz. 5 kwi | W9: 169
Q10: 42466 | R10: 43196 | S10: 171 | T10: 43561 | U10: 380 | V10: pon. 6 kwi | W10: 204
Q11: 42467 | R11: 43197 | S11: 335 | T11: 43562 | U11: 449 | V11: wt. 7 kwi | W11: 222
Q12: 42468 | R12: 43198 | S12: 484 | T12: 43563 | U12: 235 | V12: śr. 8 kwi | W12: 212
Q13: 42469 | R13: 43199 | S13: 301 | T13: 43564 | U13: 196 | V13: czw. 9 kwi | W13: 166
Q14: 42470 | R14: 43200 | S14: 284 | T14: 43565 | U14: 168 | V14: pt. 10 kwi | W14: 170
Q15: 42471 | R15: 43201 | S15: 213 | T15: 43566 | U15: 117 | V15: sob. 11 kwi | W15: 139
Q16: 42472 | R16: 43202 | S16: 265 | T16: 43567 | U16: 149 | V16: niedz. 12 kwi | W16: 93
... Q34: 42490 | R34: 43220 | S34: 393 | T34: 43585 | U34: 380 | V34: czw. 30 kwi | W34: 324
Q36: Razem | S36: =SUM(S5:S34) -> 8857 | U36: =SUM(U5:U34) -> 8591 | W36: =SUM(W5:W34) -> 6312

Sheet maj
Q3: Data | S3: 2018 | U3: 2019
Q5: 43221 | R5: 43221 | S5: 551 | T5: 43586 | U5: 490
Q6: 43222 | R6: 43222 | S6: 355 | T6: 43587 | U6: 109
Q7: 43223 | R7: 43223 | S7: 373 | T7: 43588 | U7: 198
Q8: 43224 | R8: 43224 | S8: 365 | T8: 43589 | U8: 205
Q9: 43225 | R9: 43225 | S9: 506 | T9: 43590 | U9: 294
Q10: 43226 | R10: 43226 | S10: 664 | T10: 43591 | U10: 298
Q11: 43227 | R11: 43227 | S11: 485 | T11: 43592 | U11: 337
Q12: 43228 | R12: 43228 | S12: 556 | T12: 43593 | U12: 340
Q13: 43229 | R13: 43229 | S13: 519 | T13: 43594 | U13: 295
Q14: 43230 | R14: 43230 | S14: 584 | T14: 43595 | U14: 327
Q15: 43231 | R15: 43231 | S15: 342 | T15: 43596 | U15: 331
Q16: 43232 | R16: 43232 | S16: 436 | T16: 43597 | U16: 293
... Q35: 43251 | R35: 43251 | S35: 650 | T35: 43616 | U35: 347
Q37: Razem | S37: =SUM(S5:S34) -> 15162 | U37: =SUM(U5:U35) -> 9148

Sheet czerwiec
Q3: Data | T3: 2018 | V3: 2019
Q5: 42522 | R5: 42887 | S5: 43252 | T5: 401 | U5: 43617 | V5: 318
Q6: 42523 | R6: 42888 | S6: 43253 | T6: 473 | U6: 43618 | V6: 576
Q7: 42524 | R7: 42889 | S7: 43254 | T7: 526 | U7: 43619 | V7: 523
Q8: 42525 | R8: 42890 | S8: 43255 | T8: 533 | U8: 43620 | V8: 577
Q9: 42526 | R9: 42891 | S9: 43256 | T9: 436 | U9: 43621 | V9: 567
Q10: 42527 | R10: 42892 | S10: 43257 | T10: 486 | U10: 43622 | V10: 603
Q11: 42528 | R11: 42893 | S11: 43258 | T11: 599 | U11: 43623 | V11: 421
Q12: 42529 | R12: 42894 | S12: 43259 | T12: 595 | U12: 43624 | V12: 372
Q13: 42530 | R13: 42895 | S13: 43260 | T13: 514 | U13: 43625 | V13: 634
Q14: 42531 | R14: 42896 | S14: 43261 | T14: 591 | U14: 43626 | V14: 438
Q15: 42532 | R15: 42897 | S15: 43262 | T15: 342 | U15: 43627 | V15: 477
Q16: 42533 | R16: 42898 | S16: 43263 | T16: 486 | U16: 43628 | V16: 500
... Q34: 42551 | R34: 42916 | S34: 43281 | T34: 198 | U34: 43646 | V34: 407
Q36: Razem | T36: =SUM(T5:T35) -> 13237 | V36: =SUM(V5:V34) -> 13792

Sheet lipiec 
Q3: Data | S3: 2018 | U3: 2019
Q5: 42552 | R5: 43282 | S5: 248 | T5: 43647 | U5: 451
Q6: 42553 | R6: 43283 | S6: 343 | T6: 43648 | U6: 292
Q7: 42554 | R7: 43284 | S7: 474 | T7: 43649 | U7: 402
Q8: 42555 | R8: 43285 | S8: 591 | T8: 43650 | U8: 295
Q9: 42556 | R9: 43286 | S9: 595 | T9: 43651 | U9: 243
Q10: 42557 | R10: 43287 | S10: 534 | T10: 43652 | U10: 126
Q11: 42558 | R11: 43288 | S11: 380 | T11: 43653 | U11: 177
Q12: 42559 | R12: 43289 | S12: 563 | T12: 43654 | U12: 91
Q13: 42560 | R13: 43290 | S13: 371 | T13: 43655 | U13: 156
Q14: 42561 | R14: 43291 | S14: 397 | T14: 43656 | U14: 325
Q15: 42562 | R15: 43292 | S15: 410 | T15: 43657 | U15: 541
Q16: 42563 | R16: 43293 | S16: 214 | T16: 43658 | U16: 440
... Q35: 42582 | R35: 43312 | S35: 566 | T35: 43677 | U35: 438
Q37: Razem | S37: =SUM(S5:S35) -> 14042 | U37: =SUM(U5:U35) -> 11677

Sheet sierpień
Q2: Data | S2: 2018 | U2: 2019
Q4: 42583 | R4: 43313 | S4: 392 | T4: 43678 | U4: 301
Q5: 42584 | R5: 43314 | S5: 452 | T5: 43679 | U5: 386
Q6: 42585 | R6: 43315 | S6: 510 | T6: 43680 | U6: 409
Q7: 42586 | R7: 43316 | S7: 360 | T7: 43681 | U7: 373
Q8: 42587 | R8: 43317 | S8: 376 | T8: 43682 | U8: 336
Q9: 42588 | R9: 43318 | S9: 491 | T9: 43683 | U9: 324
Q10: 42589 | R10: 43319 | S10: 545 | T10: 43684 | U10: 481
Q11: 42590 | R11: 43320 | S11: 506 | T11: 43685 | U11: 343
Q12: 42591 | R12: 43321 | S12: 478 | T12: 43686 | U12: 326
Q13: 42592 | R13: 43322 | S13: 350 | T13: 43687 | U13: 238
Q14: 42593 | R14: 43323 | S14: 330 | T14: 43688 | U14: 462
Q15: 42594 | R15: 43324 | S15: 342 | T15: 43689 | U15: 375
... Q34: 42613 | R34: 43343 | S34: 326 | T34: 43708 | U34: 430
Q36: Razem | S36: =SUM(S4:S34) -> 12903 | U36: =SUM(U4:U34) -> 12512

Sheet wrzesień
Q3: Data | S3: 2018 | U3: 2019
Q5: 42614 | R5: 43344 | S5: 416 | T5: 873 | U5: 368
Q6: 42615 | R6: 43345 | S6: 474 | T6: 917 | U6: 345
Q7: 42616 | R7: 43346 | S7: 457 | T7: 1121 | U7: 395
Q8: 42617 | R8: 43347 | S8: 464 | T8: 1259 | U8: 430
Q9: 42618 | R9: 43348 | S9: 455 | T9: 1289 | U9: 422
Q10: 42619 | R10: 43349 | S10: 427 | T10: 1150 | U10: 415
Q11: 42620 | R11: 43350 | S11: 447 | T11: 528 | U11: 241
Q12: 42621 | R12: 43351 | S12: 340 | T12: 637 | U12: 247
Q13: 42622 | R13: 43352 | S13: 378 | T13: 938 | U13: 341
Q14: 42623 | R14: 43353 | S14: 434 | T14: 405 | U14: 180
Q15: 42624 | R15: 43354 | S15: 364 | T15: 1102 | U15: 425
Q16: 42625 | R16: 43355 | S16: 327 | T16: 1067 | U16: 363
... Q34: 42643 | R34: 43373 | S34: 201 | T34: 377 | U34: 128
Q36: Razem | S36: =SUM(S5:S34) -> 10336 | U36: =SUM(U5:U34) -> 8921

Sheet październik
Q3: Data | U3: 2018 | W3: 2019
Q5: 43009 | R5: 42948 | S5: 43009 | T5: 43374 | U5: 298 | V5: 43739 | W5: 169
Q6: 43010 | R6: 42949 | S6: 43010 | T6: 43375 | U6: 232 | V6: 43740 | W6: 162
Q7: 43011 | R7: 42950 | S7: 43011 | T7: 43376 | U7: 102 | V7: 43741 | W7: 215
Q8: 43012 | R8: 42951 | S8: 43012 | T8: 43377 | U8: 247 | V8: 43742 | W8: 233
Q9: 43013 | R9: 42952 | S9: 43013 | T9: 43378 | U9: 285 | V9: 43743 | W9: 130
Q10: 43014 | R10: 42953 | S10: 43014 | T10: 43379 | U10: 353 | V10: 43744 | W10: 108
Q11: 43015 | R11: 42954 | S11: 43015 | T11: 43380 | U11: 104 | V11: 43745 | W11: 197
Q12: 43016 | R12: 42955 | S12: 43016 | T12: 43381 | U12: 207 | V12: 43746 | W12: 167
Q13: 43017 | R13: 42956 | S13: 43017 | T13: 43382 | U13: 279 | V13: 43747 | W13: 231
Q14: 43018 | R14: 42957 | S14: 43018 | T14: 43383 | U14: 357 | V14: 43748 | W14: 162
Q15: 43019 | R15: 42958 | S15: 43019 | T15: 43384 | U15: 294 | V15: 43749 | W15: 220
Q16: 43020 | R16: 42959 | S16: 43020 | T16: 43385 | U16: 307 | V16: 43750 | W16: 72
... Q35: 43039 | R35: 42978 | S35: 43039 | T35: 43404 | U35: 245 | V35: 43769 | W35: 152
Q37: Razem | U37: =SUM(U5:U35) -> 6993 | W37: =SUM(W5:W35) -> 6707

Sheet listopad
P3: Data | Q3: 2018 | S3: 2019
P5: 43040 | Q5: 144 | R5: 43770 | S5: 77
P6: 43041 | Q6: 180 | R6: 43771 | S6: 40
P7: 43042 | Q7: 170 | R7: 43772 | S7: 83
P8: 43043 | Q8: 120 | R8: 43773 | S8: 55
P9: 43044 | Q9: 171 | R9: 43774 | S9: 147
P10: 43045 | Q10: 276 | R10: 43775 | S10: 150
P11: 43046 | Q11: 231 | R11: 43776 | S11: 178
P12: 43047 | Q12: 217 | R12: 43777 | S12: 153
P13: 43048 | Q13: 190 | R13: 43778 | S13: 70
P14: 43049 | Q14: 123 | R14: 43779 | S14: 147
P15: 43050 | Q15: 84 | R15: 43780 | S15: 84
P16: 43051 | Q16: 144 | R16: 43781 | S16: 105
... P34: 43069 | Q34: 64 | R34: 43799 | S34: 82
P36: Razem: | Q36: =SUM(Q5:Q34) -> 3997 | S36: =SUM(S5:S34) -> 3399

Sheet  grudzień
Q3: Data | R3: 2017 | S3: Data | U3: 2018 | W3: 2019
Q5: 43070 | R5: 41 | S5: 43070 | T5: 43435 | U5: 41 | V5: 43800 | W5: 43
Q6: 43071 | R6: 57 | S6: 43071 | T6: 43436 | U6: 61 | V6: 43801 | W6: 95
Q7: 43072 | R7: 31 | S7: 43072 | T7: 43437 | U7: 93 | V7: 43802 | W7: 89
Q8: 43073 | R8: 64 | S8: 43073 | T8: 43438 | U8: 88 | V8: 43803 | W8: 120
Q9: 43074 | R9: 89 | S9: 43074 | T9: 43439 | U9: 84 | V9: 43804 | W9: 116
Q10: 43075 | R10: 55 | S10: 43075 | T10: 43440 | U10: 67 | V10: 43805 | W10: 83
Q11: 43076 | R11: 76 | S11: 43076 | T11: 43441 | U11: 83 | V11: 43806 | W11: 51
Q12: 43077 | R12: 87 | S12: 43077 | T12: 43442 | U12: 63 | V12: 43807 | W12: 46
Q13: 43078 | R13: 64 | S13: 43078 | T13: 43443 | U13: 26 | V13: 43808 | W13: 93
Q14: 43079 | R14: 30 | S14: 43079 | T14: 43444 | U14: 91 | V14: 43809 | W14: 70
Q15: 43080 | R15: 49 | S15: 43080 | T15: 43445 | U15: 81 | V15: 43810 | W15: 91
Q16: 43081 | R16: 81 | S16: 43081 | T16: 43446 | U16: 69 | V16: 43811 | W16: 75
... Q35: 43100 | R35: 22 | S35: 43100 | T35: 43465 | U35: 66 | V35: 43830 | W35: 64
Q37: Razem | R37: =SUM(R5:R35) -> 1670 | S37: Razem | U37: =SUM(U5:U35) -> 1616 | W37: =SUM(W5:W35) -> 2231
