Workbook

Sheet ZBIORCZO
U3: Miesiąc | V3: Liczba
U4: 2014
U5: Grudzień | V5: =N28 -> 2918
U6: 2015
U7: Styczeń | V7: =C29 -> 2308
U8: Luty | V8: =D29 -> 3998
U9: Marzec | V9: =E29 -> 9681
U10: Kwiecień | V10: =F29 -> 15010
U11: Maj | V11: =G29 -> 32437
U12: Czerwiec | V12: =H29 -> 31716
U13: Lipiec | V13: =I29 -> 27884
U14: Sierpień | V14: =J29 -> 34856
U15: Wrzesień | V15: =K29 -> 22610
U16: Październik | V16: =L29 -> 14395
U17: Listopad | V17: =M29 -> 6489
U18: Grudzień | V18: =N29 -> 4355
U19: 2016
U20: Styczeń | V20: =C30 -> 2365
U21: Luty | V21: =D30 -> 4322
U22: Marzec | V22: =E30 -> 7624
U23: Kwiecień | V23: =ZBIORCZO!F30 -> 19885
U24: Maj | V24: =G30 -> 42005
U25: Czerwiec | V25: =H30 -> 35191
U26: Lipiec | V26: =I30 -> 31285
C27: styczeń | D27: luty | E27: marzec | F27: kwiecień | G27: maj | H27: czerwiec | I27: lipiec | J27: sierpień | K27: wrzesień | L27: październik | M27: listopad | N27: grudzień | O27: suma | P27: dynamika | U27: Sierpień | V27: =J30 -> 28081
B28: 2014 | N28: 2918 | P28: n/d | U28: Wrzesień | V28: =K30 -> 28471
B29: 2015 | C29: 2308 | D29: 3998 | E29: 9681 | F29: 15010 | G29: 32437 | H29: 31716 | I29: 27884 | J29: 34856 | K29: 22610 | L29: 14395 | M29: 6489 | N29: 4355 | O29: =SUM(C29:N29) -> 205739 | P29: n/d | U29: Październik | V29: =L30 -> 9507
B30: 2016 | C30: 2365 | D30: 4322 | E30: 7624 | F30: 19885 | G30: 42005 | H30: 35191 | I30: 31285 | J30: 28081 | K30: 28471 | L30: 9507 | M30: 5476 | N30: 3401 | O30: =SUM(C30:N30) -> 217613 | P30: =O30/O29 -> 1.0577139 | U30: Listopad | V30: =M30 -> 5476
B31: 2017 | C31: 809 | D31: 1838 | E31: 10201 | F31: 13653 | G31: 36176 | H31: 30605 | I31: 28856 | J31: 30815 | K31: 18311 | L31: 11229 | M31: 6618 | N31: 3461 | O31: =SUM(C31:N31) -> 192572 | P31: =O31/O30 -> 0.88492875 | U31: Grudzień | V31: =N30 -> 3401
B32: 2018 | C32: 3136 | D32: 2168 | E32: 4332 | F32: 24275 | G32: 44199 | H32: 36639 | I32: 31743 | J32: 30279 | K32: 26778 | L32: 17137 | M32: 7606 | N32: 2874 | O32: =SUM(C32:N32) -> 231166 | P32: =O32/O31 -> 1.2004134 | U32: 2017
B33: 2019 | C33: 2202 | D33: 4205 | E33: 9604 | F33: 22080 | G33: 28669 | H33: 37326 | I33: 30058 | J33: 30354 | K33: 23028 | L33: 16425 | M33: 8000 | N33: 4986 | O33: =SUM(C33:N33) -> 216937 | P33: =O33/O32 -> 0.93844683
B34: 2020 | C34: 5189 | D34: 5103 | E34: 8033 | F34: 14677 | G34: 26494 | H34: 37135 | I34: 34583 | J34: 32975 | K34: 31355 | L34: 19787 | M34: 12330 | N34: 6422 | O34: =SUM(C34:N34) -> 234083 | P34: =O34/O33 -> 1.0790368 | U34: Styczeń | V34: =C31 -> 809
B35: 2021 | C35: 3092 | D35: 3867 | E35: 10433 | F35: 15614 | G35: 28038 | H35: 36533 | I35: 30889 | J35: 23648 | K35: 23639 | L35: 17424 | M35: 8714 | N35: 3472 | O35: =SUM(C35:N35) -> 205363 | P35: =O35/O34 -> 0.87730848 | U35: Luty | V35: =D31 -> 1838
B36: 2022 | C36: 3799 | D36: 4221 | E36: 13700 | F36: 14652 | G36: 29597 | H36: 33146 | I36: 29590 | J36: 30340 | K36: 21308 | L36: 18787 | M36: 12709 | N36: 4463 | O36: =SUM(C36:N36) -> 216312 | P36: =O36/O35 -> 1.0533153 | U36: Marzec | V36: =E31 -> 10201
B37: 2023 | I37: 34773 | J37: 30210 | K37: 41454 | L37: 21745 | M37: 11122 | N37: 4581 | P37: n/d | U37: Kwiecień | V37: =F31 -> 13653
B38: 2024 | C38: 3678 | D38: 7221 | E38: 15123 | F38: 24458 | G38: 45984 | H38: 36330 | I38: 43423 | J38: 41169 | K38: 37995 | L38: 25544 | M38: 14563 | N38: 9062 | O38: =SUM(C38:N38) -> 304550 | P38: n/d | U38: Maj | V38: =G31 -> 36176
B39: 2025 | C39: 7558 | D39: 7024 | E39: 19145 | F39: 25378 | G39: 34065 | H39: 35552 | I39: 37673 | J39: 37438 | K39: 44825 | L39: 29759 | M39: 20456 | N39: 13869 | O39: =SUM(C39:N39) -> 312742 | P39: =O39/O38 -> 1.0268987 | U39: Maj | V39: =G32 -> 44199
B40: 2026 | C40: 2913 | D40: 2183 | E40: 27330 | F40: 30203 | G40: 50128 | H40: 50470 | I40: 51101 | O40: =SUM(C40:N40) -> 214328 | P40: =O40/O39 -> 0.68531889 | U40: Lipiec | V40: =I31 -> 28856
U41: Sierpień | V41: =J31 -> 30815
U42: Wrzesień | V42: =K31 -> 18311
...

Sheet styczeń
Q3: Data | S3: 2015 | U3: 2016 | W3: 2017 | Y3: 2018 | AA3: 2019 | AC3: 2020
Q5: 42370 | R5: 42005 | S5: 53 | T5: 42370 | U5: 46 | V5: 42736 | W5: 65 | X5: 43101 | Y5: 116 | Z5: 43466 | AA5: 34 | AB5: 43831 | AC5: 75
Q6: 42371 | R6: 42006 | S6: 51 | T6: 42371 | U6: 37 | V6: 42737 | W6: 143 | X6: 43102 | Y6: 136 | Z6: 43467 | AA6: 45 | AB6: 43832 | AC6: 172
Q7: 42372 | R7: 42007 | S7: 24 | T7: 42372 | U7: 32 | V7: 42738 | W7: 118 | X7: 43103 | Y7: 128 | Z7: 43468 | AA7: 45 | AB7: 43833 | AC7: 175
Q8: 42373 | R8: 42008 | S8: 77 | T8: 42373 | U8: 63 | V8: 42739 | W8: 72 | X8: 43104 | Y8: 154 | Z8: 43469 | AA8: 49 | AB8: 43834 | AC8: 55
Q9: 42374 | R9: 42009 | S9: 108 | T9: 42374 | U9: 86 | V9: 42740 | W9: 26 | X9: 43105 | Y9: 120 | Z9: 43470 | AA9: 78 | AB9: 43835 | AC9: 135
Q10: 42375 | R10: 42010 | S10: 35 | T10: 42375 | U10: 28 | V10: 42741 | W10: 0 | X10: 43106 | Y10: 137 | Z10: 43471 | AA10: 53 | AB10: 43836 | AC10: 94
Q11: 42376 | R11: 42011 | S11: 59 | T11: 42376 | U11: 91 | V11: 42742 | W11: 0 | X11: 43107 | Y11: 142 | Z11: 43472 | AA11: 104 | AB11: 43837 | AC11: 244
Q12: 42377 | R12: 42012 | S12: 76 | T12: 42377 | U12: 110 | V12: 42743 | W12: 0 | X12: 43108 | Y12: 162 | Z12: 43473 | AA12: 114 | AB12: 43838 | AC12: 212
Q13: 42378 | R13: 42013 | S13: 60 | T13: 42378 | U13: 54 | V13: 42744 | W13: 0 | X13: 43109 | Y13: 166 | Z13: 43474 | AA13: 102 | AB13: 43839 | AC13: 193
Q14: 42379 | R14: 42014 | S14: 38 | T14: 42379 | U14: 36 | V14: 42745 | W14: 0 | X14: 43110 | Y14: 163 | Z14: 43475 | AA14: 111 | AB14: 43840 | AC14: 141
Q15: 42380 | R15: 42015 | S15: 13 | T15: 42380 | U15: 75 | V15: 42746 | W15: 0 | X15: 43111 | Y15: 154 | Z15: 43476 | AA15: 111 | AB15: 43841 | AC15: 181
Q16: 42381 | R16: 42016 | S16: 73 | T16: 42381 | U16: 109 | V16: 42747 | W16: 0 | X16: 43112 | Y16: 123 | Z16: 43477 | AA16: 113 | AB16: 43842 | AC16: 109
... Q35: 42400 | R35: 42035 | S35: 30 | T35: 42400 | U35: 43 | V35: 42766 | W35: 58 | X35: 43131 | Y35: 105 | Z35: 43496 | AA35: 65 | AB35: 43861 | AC35: 134
Q37: Razem | S37: =SUM(S5:S35) -> 2308 | U37: =SUM(U5:U35) -> 2365 | W37: =SUM(W5:W35) -> 809 | Y37: =SUM(Y5:Y35) -> 3136 | AA37: =SUM(AA5:AA35) -> 2202 | AC37: =SUM(AC5:AC35) -> 5189

Sheet luty
Q3: Data | S3: 2015 | U3: 2016 | W3: 2017 | Y3: 2018 | AA3: 2019 | AC3: 2020
Q5: 42401 | R5: 42036 | S5: 23 | T5: 42401 | U5: 156 | V5: 42767 | W5: 60 | X5: 43132 | Y5: 141 | Z5: 43497 | AA5: 50 | AB5: 43862 | AC5: 97
Q6: 42402 | R6: 42037 | S6: 60 | T6: 42402 | U6: 94 | V6: 42768 | W6: 57 | X6: 43133 | Y6: 135 | Z6: 43498 | AA6: 51 | AB6: 43863 | AC6: 70
Q7: 42403 | R7: 42038 | S7: 110 | T7: 42403 | U7: 100 | V7: 42769 | W7: 70 | X7: 43134 | Y7: 72 | Z7: 43499 | AA7: 62 | AB7: 43864 | AC7: 271
Q8: 42404 | R8: 42039 | S8: 69 | T8: 42404 | U8: 78 | V8: 42770 | W8: 52 | X8: 43135 | Y8: 63 | Z8: 43500 | AA8: 78 | AB8: 43865 | AC8: 177
Q9: 42405 | R9: 42040 | S9: 73 | T9: 42405 | U9: 123 | V9: 42771 | W9: 56 | X9: 43136 | Y9: 94 | Z9: 43501 | AA9: 96 | AB9: 43866 | AC9: 232
Q10: 42406 | R10: 42041 | S10: 49 | T10: 42406 | U10: 139 | V10: 42772 | W10: 65 | X10: 43137 | Y10: 61 | Z10: 43502 | AA10: 125 | AB10: 43867 | AC10: 147
Q11: 42407 | R11: 42042 | S11: 46 | T11: 42407 | U11: 181 | V11: 42773 | W11: 9 | X11: 43138 | Y11: 53 | Z11: 43503 | AA11: 134 | AB11: 43868 | AC11: 229
Q12: 42408 | R12: 42043 | S12: 23 | T12: 42408 | U12: 201 | V12: 42774 | W12: 1 | X12: 43139 | Y12: 52 | Z12: 43504 | AA12: 146 | AB12: 43869 | AC12: 239
Q13: 42409 | R13: 42044 | S13: 96 | T13: 42409 | U13: 176 | V13: 42775 | W13: 0 | X13: 43140 | Y13: 76 | Z13: 43505 | AA13: 99 | AB13: 43870 | AC13: 193
Q14: 42410 | R14: 42045 | S14: 174 | T14: 42410 | U14: 149 | V14: 42776 | W14: 0 | X14: 43141 | Y14: 43 | Z14: 43506 | AA14: 178 | AB14: 43871 | AC14: 122
Q15: 42411 | R15: 42046 | S15: 143 | T15: 42411 | U15: 199 | V15: 42777 | W15: 1 | X15: 43142 | Y15: 36 | Z15: 43507 | AA15: 76 | AB15: 43872 | AC15: 115
Q16: 42412 | R16: 42047 | S16: 135 | T16: 42412 | U16: 158 | V16: 42778 | W16: 0 | X16: 43143 | Y16: 83 | Z16: 43508 | AA16: 154 | AB16: 43873 | AC16: 127
... Q32: 42428 | R32: 42063 | S32: 260 | T32: 42428 | U32: 114 | V32: 42794 | W32: 209 | X32: 43159 | Y32: 45 | Z32: 43524 | AA32: 270 | AB32: 43889 | AC32: 201
Q33: 42429 | T33: 42429 | U33: 201 | AB33: 43890 | AC33: 121
Q35: Razem | S35: =SUM(S5:S33) -> 3998 | U35: =SUM(U5:U33) -> 4322 | W35: =SUM(W5:W33) -> 1838 | Y35: =SUM(Y5:Y33) -> 2168 | AA35: =SUM(AA5:AA33) -> 4205 | AC35: =SUM(AC5:AC33) -> 5103

Sheet marzec
Q3: Data | S3: 2015 | U3: 2016 | W3: 2017 | Y3: 2018 | AA3: 2019 | AC3: 2020
Q5: 42430 | R5: 42064 | S5: 194 | T5: 42430 | U5: 197 | V5: 42795 | W5: 175 | X5: 43160 | Y5: 34 | Z5: 43525 | AA5: 236 | AB5: niedz. 1 mar | AC5: 252
Q6: 42431 | R6: 42065 | S6: 194 | T6: 42431 | U6: 199 | V6: 42796 | W6: 128 | X6: 43161 | Y6: 32 | Z6: 43526 | AA6: 245 | AB6: pon. 2 mar | AC6: 242
Q7: 42432 | R7: 42066 | S7: 188 | T7: 42432 | U7: 204 | V7: 42797 | W7: 155 | X7: 43162 | Y7: 22 | Z7: 43527 | AA7: 124 | AB7: wt. 3 mar | AC7: 189
Q8: 42433 | R8: 42067 | S8: 164 | T8: 42433 | U8: 149 | V8: 42798 | W8: 223 | X8: 43163 | Y8: 24 | Z8: 43528 | AA8: 190 | AB8: śr. 4 mar | AC8: 298
Q9: 42434 | R9: 42068 | S9: 216 | T9: 42434 | U9: 133 | V9: 42799 | W9: 269 | X9: 43164 | Y9: 79 | Z9: 43529 | AA9: 91 | AB9: czw. 5 mar | AC9: 296
Q10: 42435 | R10: 42069 | S10: 177 | T10: 42435 | U10: 163 | V10: 42800 | W10: 135 | X10: 43165 | Y10: 89 | Z10: 43530 | AA10: 228 | AB10: pt. 6 mar | AC10: 202
Q11: 42436 | R11: 42070 | S11: 211 | T11: 42436 | U11: 330 | V11: 42801 | W11: 136 | X11: 43166 | Y11: 62 | Z11: 43531 | AA11: 276 | AB11: sob. 7 mar | AC11: 108
Q12: 42437 | R12: 42071 | S12: 504 | T12: 42437 | U12: 300 | V12: 42802 | W12: 132 | X12: 43167 | Y12: 88 | Z12: 43532 | AA12: 164 | AB12: niedz. 8 mar | AC12: 376
Q13: 42438 | R13: 42072 | S13: 386 | T13: 42438 | U13: 288 | V13: 42803 | W13: 171 | X13: 43168 | Y13: 63 | Z13: 43533 | AA13: 69 | AB13: pon. 9 mar | AC13: 300
Q14: 42439 | R14: 42073 | S14: 422 | T14: 42439 | U14: 236 | V14: 42804 | W14: 194 | X14: 43169 | Y14: 145 | Z14: 43534 | AA14: 130 | AB14: wt. 10 mar | AC14: 300
Q15: 42440 | R15: 42074 | S15: 308 | T15: 42440 | U15: 200 | V15: 42805 | W15: 128 | X15: 43170 | Y15: 217 | Z15: 43535 | AA15: 258 | AB15: śr. 11 mar | AC15: 220
Q16: 42441 | R16: 42075 | S16: 282 | T16: 42441 | U16: 188 | V16: 42806 | W16: 156 | X16: 43171 | Y16: 214 | Z16: 43536 | AA16: 208 | AB16: czw. 12 mar | AC16: 136
... Q35: 42460 | R35: 42094 | S35: 168 | T35: 42460 | U35: 329 | V35: 42825 | W35: 580 | X35: 43190 | Y35: 187 | Z35: 43555 | AA35: 431 | AB35: wt. 31 mar | AC35: 125
Q37: Razem | S37: =SUM(S5:S35) -> 9681 | U37: =SUM(U5:U35) -> 7624 | W37: =SUM(W5:W35) -> 10201 | Y37: =SUM(Y5:Y35) -> 4332 | AA37: =SUM(AA5:AA35) -> 9604 | AC37: =SUM(AC5:AC35) -> 8033

Sheet kwiecień
Q3: Data | S3: 2015 | U3: 2016 | W3: 2017 | Y3: 2018 | AA3: 2019 | AC3: 2020
Q5: 42461 | R5: 42095 | S5: 126 | T5: 42461 | U5: 388 | V5: 42826 | W5: 1289 | X5: 43191 | Y5: 35 | Z5: 43556 | AA5: 696 | AB5: śr. 1 kwi | AC5: 173
Q6: 42462 | R6: 42096 | S6: 272 | T6: 42462 | U6: 820 | V6: 42827 | W6: 818 | X6: 43192 | Y6: 132 | Z6: 43557 | AA6: 640 | AB6: czw. 2 kwi | AC6: 182
Q7: 42463 | R7: 42097 | S7: 245 | T7: 42463 | U7: 847 | V7: 42828 | W7: 644 | X7: 43193 | Y7: 259 | Z7: 43558 | AA7: 749 | AB7: pt. 3 kwi | AC7: 162
Q8: 42464 | R8: 42098 | S8: 102 | T8: 42464 | U8: 804 | V8: 42829 | W8: 723 | X8: 43194 | Y8: 726 | Z8: 43559 | AA8: 792 | AB8: sob. 4 kwi | AC8: 193
Q9: 42465 | R9: 42099 | S9: 43 | T9: 42465 | U9: 1121 | V9: 42830 | W9: 479 | X9: 43195 | Y9: 622 | Z9: 43560 | AA9: 897 | AB9: niedz. 5 kwi | AC9: 304
Q10: 42466 | R10: 42100 | S10: 162 | T10: 42466 | U10: 514 | V10: 42831 | W10: 467 | X10: 43196 | Y10: 444 | Z10: 43561 | AA10: 1053 | AB10: pon. 6 kwi | AC10: 398
Q11: 42467 | R11: 42101 | S11: 282 | T11: 42467 | U11: 633 | V11: 42832 | W11: 407 | X11: 43197 | Y11: 710 | Z11: 43562 | AA11: 1296 | AB11: wt. 7 kwi | AC11: 436
Q12: 42468 | R12: 42102 | S12: 453 | T12: 42468 | U12: 769 | V12: 42833 | W12: 767 | X12: 43198 | Y12: 1373 | Z12: 43563 | AA12: 556 | AB12: śr. 8 kwi | AC12: 498
Q13: 42469 | R13: 42103 | S13: 643 | T13: 42469 | U13: 820 | V13: 42834 | W13: 702 | X13: 43199 | Y13: 962 | Z13: 43564 | AA13: 542 | AB13: czw. 9 kwi | AC13: 355
Q14: 42470 | R14: 42104 | S14: 760 | T14: 42470 | U14: 510 | V14: 42835 | W14: 809 | X14: 43200 | Y14: 766 | Z14: 43565 | AA14: 381 | AB14: pt. 10 kwi | AC14: 343
Q15: 42471 | R15: 42105 | S15: 1221 | T15: 42471 | U15: 690 | V15: 42836 | W15: 334 | X15: 43201 | Y15: 599 | Z15: 43566 | AA15: 309 | AB15: sob. 11 kwi | AC15: 287
Q16: 42472 | R16: 42106 | S16: 475 | T16: 42472 | U16: 698 | V16: 42837 | W16: 296 | X16: 43202 | Y16: 859 | Z16: 43567 | AA16: 346 | AB16: niedz. 12 kwi | AC16: 199
... Q34: 42490 | R34: 42124 | S34: 720 | T34: 42490 | U34: 893 | V34: 42855 | W34: 666 | X34: 43220 | Y34: 955 | Z34: 43585 | AA34: 867 | AB34: czw. 30 kwi | AC34: 913
Q36: Razem | S36: =SUM(S5:S34) -> 15010 | U36: =SUM(U5:U34) -> 19885 | W36: =SUM(W5:W34) -> 13653 | Y36: =SUM(Y5:Y34) -> 24275 | AA36: =SUM(AA5:AA34) -> 22080 | AC36: =SUM(AC5:AC34) -> 14677

Sheet maj
Q3: Data | S3: 2015 | U3: 2016 | W3: 2017 | Y3: 2018 | AA3: 2019
Q5: 42491 | R5: 42125 | S5: 445 | T5: 42491 | U5: 833 | V5: 42856 | W5: 974 | X5: 43221 | Y5: 1325 | Z5: 43586 | AA5: 1072
Q6: 42492 | R6: 42126 | S6: 738 | T6: 42492 | U6: 1095 | V6: 42857 | W6: 787 | X6: 43222 | Y6: 905 | Z6: 43587 | AA6: 218
Q7: 42493 | R7: 42127 | S7: 1112 | T7: 42493 | U7: 1563 | V7: 42858 | W7: 734 | X7: 43223 | Y7: 943 | Z7: 43588 | AA7: 446
Q8: 42494 | R8: 42128 | S8: 576 | T8: 42494 | U8: 1308 | V8: 42859 | W8: 529 | X8: 43224 | Y8: 900 | Z8: 43589 | AA8: 496
Q9: 42495 | R9: 42129 | S9: 1083 | T9: 42495 | U9: 1640 | V9: 42860 | W9: 622 | X9: 43225 | Y9: 1121 | Z9: 43590 | AA9: 724
Q10: 42496 | R10: 42130 | S10: 1162 | T10: 42496 | U10: 1771 | V10: 42861 | W10: 1410 | X10: 43226 | Y10: 1414 | Z10: 43591 | AA10: 1049
Q11: 42497 | R11: 42131 | S11: 1237 | T11: 42497 | U11: 1534 | V11: 42862 | W11: 500 | X11: 43227 | Y11: 1596 | Z11: 43592 | AA11: 1155
Q12: 42498 | R12: 42132 | S12: 1046 | T12: 42498 | U12: 1613 | V12: 42863 | W12: 629 | X12: 43228 | Y12: 1808 | Z12: 43593 | AA12: 1301
Q13: 42499 | R13: 42133 | S13: 1078 | T13: 42499 | U13: 1657 | V13: 42864 | W13: 440 | X13: 43229 | Y13: 1849 | Z13: 43594 | AA13: 1063
Q14: 42500 | R14: 42134 | S14: 611 | T14: 42500 | U14: 1934 | V14: 42865 | W14: 480 | X14: 43230 | Y14: 1866 | Z14: 43595 | AA14: 1271
Q15: 42501 | R15: 42135 | S15: 1494 | T15: 42501 | U15: 1590 | V15: 42866 | W15: 598 | X15: 43231 | Y15: 1184 | Z15: 43596 | AA15: 848
Q16: 42502 | R16: 42136 | S16: 1469 | T16: 42502 | U16: 1515 | V16: 42867 | W16: 1230 | X16: 43232 | Y16: 1182 | Z16: 43597 | AA16: 395
... Q35: 42521 | R35: 42155 | S35: 879 | T35: 42521 | U35: 1525 | V35: 42886 | W35: 819 | X35: 43251 | Y35: 1330 | Z35: 43616 | AA35: 1040
Q37: Razem | S37: =SUM(S5:S35) -> 32437 | U37: =SUM(U5:U35) -> 42005 | W37: =SUM(W5:W35) -> 36176 | Y37: =SUM(Y5:Y35) -> 44199 | AA37: =SUM(AA5:AA35) -> 28669

Sheet czerwiec
Q3: Data | S3: 2015 | U3: 2016 | X3: 2017 | Z3: 2018 | AB3: 2019
Q5: 42522 | R5: 42156 | S5: 819 | T5: 42522 | U5: 1209 | W5: 42887 | X5: 859 | Y5: 43252 | Z5: 1206 | AA5: 43617 | AB5: 802
Q6: 42523 | R6: 42157 | S6: 1236 | T6: 42523 | U6: 1630 | W6: 42888 | X6: 1000 | Y6: 43253 | Z6: 1180 | AA6: 43618 | AB6: 1449
Q7: 42524 | R7: 42158 | S7: 1023 | T7: 42524 | U7: 1680 | W7: 42889 | X7: 1236 | Y7: 43254 | Z7: 1138 | AA7: 43619 | AB7: 1550
Q8: 42525 | R8: 42159 | S8: 1403 | T8: 42525 | U8: 1399 | W8: 42890 | X8: 133 | Y8: 43255 | Z8: 1630 | AA8: 43620 | AB8: 1591
Q9: 42526 | R9: 42160 | S9: 1241 | T9: 42526 | U9: 1233 | W9: 42891 | X9: 1320 | Y9: 43256 | Z9: 1171 | AA9: 43621 | AB9: 1550
Q10: 42527 | R10: 42161 | S10: 1057 | T10: 42527 | U10: 1379 | W10: 42892 | X10: 1230 | Y10: 43257 | Z10: 1602 | AA10: 43622 | AB10: 1610
Q11: 42528 | R11: 42162 | S11: 1138 | T11: 42528 | U11: 1593 | W11: 42893 | X11: 774 | Y11: 43258 | Z11: 1787 | AA11: 43623 | AB11: 1205
Q12: 42529 | R12: 42163 | S12: 1166 | T12: 42529 | U12: 1314 | W12: 42894 | X12: 1213 | Y12: 43259 | Z12: 1523 | AA12: 43624 | AB12: 969
Q13: 42530 | R13: 42164 | S13: 1210 | T13: 42530 | U13: 1493 | W13: 42895 | X13: 1394 | Y13: 43260 | Z13: 1260 | AA13: 43625 | AB13: 1525
Q14: 42531 | R14: 42165 | S14: 1428 | T14: 42531 | U14: 807 | W14: 42896 | X14: 776 | Y14: 43261 | Z14: 1314 | AA14: 43626 | AB14: 1188
Q15: 42532 | R15: 42166 | S15: 1397 | T15: 42532 | U15: 699 | W15: 42897 | X15: 1575 | Y15: 43262 | Z15: 1130 | AA15: 43627 | AB15: 1418
Q16: 42533 | R16: 42167 | S16: 1175 | T16: 42533 | U16: 1225 | W16: 42898 | X16: 716 | Y16: 43263 | Z16: 1284 | AA16: 43628 | AB16: 1357
... Q34: 42551 | R34: 42185 | S34: 1282 | T34: 42551 | U34: 1220 | W34: 42916 | X34: 340 | Y34: 43281 | Z34: 474 | AA34: 43646 | AB34: 879
Q36: Razem | S36: =SUM(S5:S34) -> 31716 | U36: =SUM(U5:U34) -> 35191 | X36: =SUM(X5:X34) -> 30605 | Z36: =SUM(Z5:Z35) -> 36639 | AB36: =SUM(AB5:AB34) -> 37326

Sheet lipiec
Q3: Data | S3: 2015 | U3: 2016 | W3: 2017 | Y3: 2018 | AA3: 2019
Q5: 42552 | R5: 42186 | S5: 1420 | T5: 42552 | U5: 1272 | V5: 42917 | W5: 165 | X5: 43282 | Y5: 371 | Z5: 43647 | AA5: 1226
Q6: 42553 | R6: 42187 | S6: 1465 | T6: 42553 | U6: 825 | V6: 42918 | W6: 687 | X6: 43283 | Y6: 777 | Z6: 43648 | AA6: 926
Q7: 42554 | R7: 42188 | S7: 1231 | T7: 42554 | U7: 889 | V7: 42919 | W7: 1065 | X7: 43284 | Y7: 1204 | Z7: 43649 | AA7: 1076
Q8: 42555 | R8: 42189 | S8: 877 | T8: 42555 | U8: 1148 | V8: 42920 | W8: 713 | X8: 43285 | Y8: 1504 | Z8: 43650 | AA8: 821
Q9: 42556 | R9: 42190 | S9: 758 | T9: 42556 | U9: 1350 | V9: 42921 | W9: 975 | X9: 43286 | Y9: 1342 | Z9: 43651 | AA9: 651
Q10: 42557 | R10: 42191 | S10: 687 | T10: 42557 | U10: 492 | V10: 42922 | W10: 1500 | X10: 43287 | Y10: 1219 | Z10: 43652 | AA10: 420
Q11: 42558 | R11: 42192 | S11: 1377 | T11: 42558 | U11: 764 | V11: 42923 | W11: 1196 | X11: 43288 | Y11: 1006 | Z11: 43653 | AA11: 467
Q12: 42559 | R12: 42193 | S12: 879 | T12: 42559 | U12: 954 | V12: 42924 | W12: 671 | X12: 43289 | Y12: 1094 | Z12: 43654 | AA12: 334
Q13: 42560 | R13: 42194 | S13: 733 | T13: 42560 | U13: 643 | V13: 42925 | W13: 1313 | X13: 43290 | Y13: 980 | Z13: 43655 | AA13: 385
Q14: 42561 | R14: 42195 | S14: 404 | T14: 42561 | U14: 805 | V14: 42926 | W14: 1019 | X14: 43291 | Y14: 1031 | Z14: 43656 | AA14: 783
Q15: 42562 | R15: 42196 | S15: 789 | T15: 42562 | U15: 959 | V15: 42927 | W15: 1108 | X15: 43292 | Y15: 997 | Z15: 43657 | AA15: 1351
Q16: 42563 | R16: 42197 | S16: 799 | T16: 42563 | U16: 1329 | V16: 42928 | W16: 984 | X16: 43293 | Y16: 624 | Z16: 43658 | AA16: 1146
... Q35: 42582 | R35: 42216 | S35: 527 | T35: 42582 | U35: 908 | V35: 42947 | W35: 989 | X35: 43312 | Y35: 1169 | Z35: 43677 | AA35: 1292
Q37: Razem | S37: =SUM(S5:S35) -> 27884 | U37: =SUM(U5:U35) -> 31285 | W37: =SUM(W5:W35) -> 28856 | Y37: =SUM(Y5:Y35) -> 31743 | AA37: =SUM(AA5:AA35) -> 30058

Sheet sierpień
Q3: Data | S3: 2015 | U3: 2016 | W3: 2017 | Y3: 2018 | AA3: 2019
Q5: 42583 | R5: 42217 | S5: 986 | T5: 42583 | U5: 633 | V5: 42948 | W5: 1156 | X5: 43313 | Y5: 984 | Z5: 43678 | AA5: 670
Q6: 42584 | R6: 42218 | S6: 1138 | T6: 42584 | U6: 816 | V6: 42949 | W6: 1083 | X6: 43314 | Y6: 944 | Z6: 43679 | AA6: 1055
Q7: 42585 | R7: 42219 | S7: 1313 | T7: 42585 | U7: 1184 | V7: 42950 | W7: 748 | X7: 43315 | Y7: 1021 | Z7: 43680 | AA7: 929
Q8: 42586 | R8: 42220 | S8: 1419 | T8: 42586 | U8: 936 | V8: 42951 | W8: 972 | X8: 43316 | Y8: 770 | Z8: 43681 | AA8: 983
Q9: 42587 | R9: 42221 | S9: 1196 | T9: 42587 | U9: 540 | V9: 42952 | W9: 889 | X9: 43317 | Y9: 707 | Z9: 43682 | AA9: 829
Q10: 42588 | R10: 42222 | S10: 1339 | T10: 42588 | U10: 629 | V10: 42953 | W10: 840 | X10: 43318 | Y10: 1207 | Z10: 43683 | AA10: 881
Q11: 42589 | R11: 42223 | S11: 1026 | T11: 42589 | U11: 754 | V11: 42954 | W11: 1192 | X11: 43319 | Y11: 1219 | Z11: 43684 | AA11: 1140
Q12: 42590 | R12: 42224 | S12: 783 | T12: 42590 | U12: 1138 | V12: 42955 | W12: 1393 | X12: 43320 | Y12: 1192 | Z12: 43685 | AA12: 935
Q13: 42591 | R13: 42225 | S13: 822 | T13: 42591 | U13: 1108 | V13: 42956 | W13: 1190 | X13: 43321 | Y13: 980 | Z13: 43686 | AA13: 870
Q14: 42592 | R14: 42226 | S14: 1233 | T14: 42592 | U14: 1026 | V14: 42957 | W14: 1049 | X14: 43322 | Y14: 862 | Z14: 43687 | AA14: 525
Q15: 42593 | R15: 42227 | S15: 1296 | T15: 42593 | U15: 892 | V15: 42958 | W15: 1011 | X15: 43323 | Y15: 733 | Z15: 43688 | AA15: 1013
Q16: 42594 | R16: 42228 | S16: 1006 | T16: 42594 | U16: 770 | V16: 42959 | W16: 605 | X16: 43324 | Y16: 656 | Z16: 43689 | AA16: 875
... Q35: 42613 | R35: 42247 | S35: 1314 | T35: 42613 | U35: 1346 | V35: 42978 | W35: 1228 | X35: 43343 | Y35: 846 | Z35: 43708 | AA35: 908
Q37: Razem | S37: =SUM(S5:S35) -> 34856 | U37: =SUM(U5:U35) -> 28081 | W37: =SUM(W5:W35) -> 30815 | Y37: =SUM(Y5:Y35) -> 30279 | AA37: =SUM(AA5:AA35) -> 30354

Sheet wrzesień
Q3: Data | S3: 2015 | U3: 2016 | W3: 2017 | Y3: 2018 | AA3: 2019
Q5: 42614 | R5: 42248 | S5: 1250 | T5: 42614 | U5: 1240 | V5: 42979 | W5: 546 | X5: 43344 | Y5: 1022 | Z5: 873 | AA5: 873
Q6: 42615 | R6: 42249 | S6: 921 | T6: 42615 | U6: 1171 | V6: 42980 | W6: 228 | X6: 43345 | Y6: 1017 | Z6: 917 | AA6: 917
Q7: 42616 | R7: 42250 | S7: 1242 | T7: 42616 | U7: 967 | V7: 42981 | W7: 420 | X7: 43346 | Y7: 1237 | Z7: 1121 | AA7: 1121
Q8: 42617 | R8: 42251 | S8: 762 | T8: 42617 | U8: 117 | V8: 42982 | W8: 468 | X8: 43347 | Y8: 1216 | Z8: 1259 | AA8: 1259
Q9: 42618 | R9: 42252 | S9: 632 | T9: 42618 | U9: 914 | V9: 42983 | W9: 718 | X9: 43348 | Y9: 1272 | Z9: 1289 | AA9: 1289
Q10: 42619 | R10: 42253 | S10: 266 | T10: 42619 | U10: 1313 | V10: 42984 | W10: 331 | X10: 43349 | Y10: 1185 | Z10: 1150 | AA10: 1150
Q11: 42620 | R11: 42254 | S11: 171 | T11: 42620 | U11: 1258 | V11: 42985 | W11: 275 | X11: 43350 | Y11: 1144 | Z11: 528 | AA11: 528
Q12: 42621 | R12: 42255 | S12: 416 | T12: 42621 | U12: 1399 | V12: 42986 | W12: 541 | X12: 43351 | Y12: 806 | Z12: 637 | AA12: 637
Q13: 42622 | R13: 42256 | S13: 806 | T13: 42622 | U13: 1297 | V13: 42987 | W13: 700 | X13: 43352 | Y13: 1004 | Z13: 938 | AA13: 938
Q14: 42623 | R14: 42257 | S14: 984 | T14: 42623 | U14: 947 | V14: 42988 | W14: 279 | X14: 43353 | Y14: 1228 | Z14: 405 | AA14: 405
Q15: 42624 | R15: 42258 | S15: 869 | T15: 42624 | U15: 989 | V15: 42989 | W15: 805 | X15: 43354 | Y15: 1020 | Z15: 1102 | AA15: 1102
Q16: 42625 | R16: 42259 | S16: 360 | T16: 42625 | U16: 1322 | V16: 42990 | W16: 1069 | X16: 43355 | Y16: 934 | Z16: 1067 | AA16: 1067
... Q34: 42643 | R34: 42277 | S34: 792 | T34: 42643 | U34: 709 | V34: 43008 | W34: 614 | X34: 43373 | Y34: 363 | Z34: 377 | AA34: 377
Q36: Razem | S36: =SUM(S5:S34) -> 22610 | U36: =SUM(U5:U34) -> 28471 | W36: =SUM(W5:W34) -> 18311 | Y36: =SUM(Y5:Y34) -> 26778 | AA36: =SUM(AA5:AA34) -> 23028

Sheet październik
Q3: Data | S3: 2015 | U3: 2016 | W3: 2017 | Y3: 2018 | AA3: 2019
Q5: 42644 | R5: 42278 | S5: 824 | T5: 42644 | U5: 473 | V5: 43009 | W5: 549 | X5: 43374 | Y5: 708 | Z5: 43739 | AA5: 403
Q6: 42645 | R6: 42279 | S6: 692 | T6: 42645 | U6: 640 | V6: 43010 | W6: 541 | X6: 43375 | Y6: 521 | Z6: 43740 | AA6: 469
Q7: 42646 | R7: 42280 | S7: 717 | T7: 42646 | U7: 373 | V7: 43011 | W7: 423 | X7: 43376 | Y7: 242 | Z7: 43741 | AA7: 580
Q8: 42647 | R8: 42281 | S8: 713 | T8: 42647 | U8: 425 | V8: 43012 | W8: 397 | X8: 43377 | Y8: 550 | Z8: 43742 | AA8: 534
Q9: 42648 | R9: 42282 | S9: 755 | T9: 42648 | U9: 167 | V9: 43013 | W9: 255 | X9: 43378 | Y9: 626 | Z9: 43743 | AA9: 347
Q10: 42649 | R10: 42283 | S10: 694 | T10: 42649 | U10: 171 | V10: 43014 | W10: 440 | X10: 43379 | Y10: 714 | Z10: 43744 | AA10: 195
Q11: 42650 | R11: 42284 | S11: 577 | T11: 42650 | U11: 195 | V11: 43015 | W11: 337 | X11: 43380 | Y11: 236 | Z11: 43745 | AA11: 503
Q12: 42651 | R12: 42285 | S12: 585 | T12: 42651 | U12: 203 | V12: 43016 | W12: 318 | X12: 43381 | Y12: 647 | Z12: 43746 | AA12: 445
Q13: 42652 | R13: 42286 | S13: 466 | T13: 42652 | U13: 178 | V13: 43017 | W13: 246 | X13: 43382 | Y13: 766 | Z13: 43747 | AA13: 611
Q14: 42653 | R14: 42287 | S14: 327 | T14: 42653 | U14: 266 | V14: 43018 | W14: 413 | X14: 43383 | Y14: 802 | Z14: 43748 | AA14: 384
Q15: 42654 | R15: 42288 | S15: 302 | T15: 42654 | U15: 362 | V15: 43019 | W15: 378 | X15: 43384 | Y15: 831 | Z15: 43749 | AA15: 499
Q16: 42655 | R16: 42289 | S16: 445 | T16: 42655 | U16: 412 | V16: 43020 | W16: 350 | X16: 43385 | Y16: 810 | Z16: 43750 | AA16: 215
... Q35: 42674 | R35: 42308 | S35: 356 | T35: 42674 | U35: 271 | V35: 43039 | W35: 303 | X35: 43404 | Y35: 540 | Z35: 43769 | AA35: 375
Q37: Razem | S37: =SUM(S5:S35) -> 14395 | U37: =SUM(U5:U35) -> 9507 | W37: =SUM(W5:W35) -> 11229 | Y37: =SUM(Y5:Y35) -> 17137 | AA37: =SUM(AA5:AA35) -> 16425

Sheet listopad
Q3: Data | S3: 2015 | U3: 2016 | V3: Data | W3: 2017 | Y3: 2018 | AA3: 2019
Q5: 42675 | R5: 42309 | S5: 235 | T5: 42675 | U5: 82 | V5: 43040 | W5: 165 | X5: 43405 | Y5: 257 | Z5: 43770 | AA5: 148
Q6: 42676 | R6: 42310 | S6: 418 | T6: 42676 | U6: 165 | V6: 43041 | W6: 197 | X6: 43406 | Y6: 355 | Z6: 43771 | AA6: 85
Q7: 42677 | R7: 42311 | S7: 422 | T7: 42677 | U7: 167 | V7: 43042 | W7: 314 | X7: 43407 | Y7: 261 | Z7: 43772 | AA7: 160
Q8: 42678 | R8: 42312 | S8: 399 | T8: 42678 | U8: 184 | V8: 43043 | W8: 358 | X8: 43408 | Y8: 228 | Z8: 43773 | AA8: 195
Q9: 42679 | R9: 42313 | S9: 368 | T9: 42679 | U9: 159 | V9: 43044 | W9: 370 | X9: 43409 | Y9: 344 | Z9: 43774 | AA9: 352
Q10: 42680 | R10: 42314 | S10: 233 | T10: 42680 | U10: 184 | V10: 43045 | W10: 283 | X10: 43410 | Y10: 487 | Z10: 43775 | AA10: 347
Q11: 42681 | R11: 42315 | S11: 209 | T11: 42681 | U11: 214 | V11: 43046 | W11: 349 | X11: 43411 | Y11: 467 | Z11: 43776 | AA11: 445
Q12: 42682 | R12: 42316 | S12: 68 | T12: 42682 | U12: 284 | V12: 43047 | W12: 276 | X12: 43412 | Y12: 452 | Z12: 43777 | AA12: 395
Q13: 42683 | R13: 42317 | S13: 253 | T13: 42683 | U13: 194 | V13: 43048 | W13: 275 | X13: 43413 | Y13: 300 | Z13: 43778 | AA13: 138
Q14: 42684 | R14: 42318 | S14: 163 | T14: 42684 | U14: 234 | V14: 43049 | W14: 247 | X14: 43414 | Y14: 240 | Z14: 43779 | AA14: 256
Q15: 42685 | R15: 42319 | S15: 168 | T15: 42685 | U15: 86 | V15: 43050 | W15: 24 | X15: 43415 | Y15: 174 | Z15: 43780 | AA15: 193
Q16: 42686 | R16: 42320 | S16: 271 | T16: 42686 | U16: 133 | V16: 43051 | W16: 116 | X16: 43416 | Y16: 275 | Z16: 43781 | AA16: 304
... Q34: 42704 | R34: 42338 | S34: 125 | T34: 42704 | U34: 145 | V34: 43069 | W34: 208 | X34: 43434 | Y34: 92 | Z34: 43799 | AA34: 193
Q36: Razem | S36: =SUM(S5:S34) -> 6489 | U36: =SUM(U5:U34) -> 5476 | V36: Razem | W36: =SUM(W5:W34) -> 6618 | Y36: =SUM(Y5:Y34) -> 7606 | AA36: =SUM(AA5:AA34) -> 8000

Sheet grudzień
Q3: Data | S3: 2014 | U3: 2015 | W3: 2016 | Y3: 2017 | AA3: 2018 | AC3: 2019
Q5: 42705 | R5: 41974 | S5: 180 | T5: 42339 | U5: 109 | V5: 42705 | W5: 116 | X5: 43070 | Y5: 114 | Z5: 43435 | AA5: 61 | AB5: 43800 | AC5: 131
Q6: 42706 | R6: 41975 | S6: 152 | T6: 42340 | U6: 192 | V6: 42706 | W6: 66 | X6: 43071 | Y6: 174 | Z6: 43436 | AA6: 67 | AB6: 43801 | AC6: 223
Q7: 42707 | R7: 41976 | S7: 162 | T7: 42341 | U7: 217 | V7: 42707 | W7: 39 | X7: 43072 | Y7: 67 | Z7: 43437 | AA7: 182 | AB7: 43802 | AC7: 232
Q8: 42708 | R8: 41977 | S8: 99 | T8: 42342 | U8: 196 | V8: 42708 | W8: 24 | X8: 43073 | Y8: 153 | Z8: 43438 | AA8: 181 | AB8: 43803 | AC8: 209
Q9: 42709 | R9: 41978 | S9: 86 | T9: 42343 | U9: 106 | V9: 42709 | W9: 96 | X9: 43074 | Y9: 130 | Z9: 43439 | AA9: 146 | AB9: 43804 | AC9: 244
Q10: 42710 | R10: 41979 | S10: 75 | T10: 42344 | U10: 124 | V10: 42710 | W10: 147 | X10: 43075 | Y10: 103 | Z10: 43440 | AA10: 122 | AB10: 43805 | AC10: 204
Q11: 42711 | R11: 41980 | S11: 77 | T11: 42345 | U11: 220 | V11: 42711 | W11: 126 | X11: 43076 | Y11: 195 | Z11: 43441 | AA11: 127 | AB11: 43806 | AC11: 138
Q12: 42712 | R12: 41981 | S12: 154 | T12: 42346 | U12: 203 | V12: 42712 | W12: 123 | X12: 43077 | Y12: 152 | Z12: 43442 | AA12: 150 | AB12: 43807 | AC12: 90
Q13: 42713 | R13: 41982 | S13: 167 | T13: 42347 | U13: 201 | V13: 42713 | W13: 139 | X13: 43078 | Y13: 133 | Z13: 43443 | AA13: 82 | AB13: 43808 | AC13: 253
Q14: 42714 | R14: 41983 | S14: 138 | T14: 42348 | U14: 202 | V14: 42714 | W14: 75 | X14: 43079 | Y14: 93 | Z14: 43444 | AA14: 193 | AB14: 43809 | AC14: 212
Q15: 42715 | R15: 41984 | S15: 149 | T15: 42349 | U15: 189 | V15: 42715 | W15: 49 | X15: 43080 | Y15: 102 | Z15: 43445 | AA15: 161 | AB15: 43810 | AC15: 217
Q16: 42716 | R16: 41985 | S16: 114 | T16: 42350 | U16: 90 | V16: 42716 | W16: 136 | X16: 43081 | Y16: 160 | Z16: 43446 | AA16: 160 | AB16: 43811 | AC16: 177
... Q35: 42735 | R35: 42004 | S35: 0 | T35: 42369 | U35: 77 | V35: 42735 | W35: 125 | X35: 43100 | Y35: 41 | Z35: 43465 | AA35: 131 | AB35: 43830 | AC35: 136
Q37: Razem | S37: =SUM(S5:S35) -> 2918 | U37: =SUM(U5:U35) -> 4355 | W37: =SUM(W5:W35) -> 3401 | Y37: =SUM(Y5:Y35) -> 3461 | AA37: =SUM(AA5:AA35) -> 2874 | AC37: =SUM(AC5:AC35) -> 4986
