Workbook

Sheet ZBIORCZO
U3: Miesiąc | V3: Liczba
U4: 2015
U5: Grudzień | V5: =N28 -> 3742
U6: 2016
U7: Styczeń | V7: =C29 -> 2042
U8: Luty | V8: =D29 -> 3606
U9: Marzec | V9: =E29 -> 5690
U10: Kwiecień | V10: =F29 -> 13033
U11: Maj | V11: =G29 -> 23336
U12: Czerwiec | V12: =H29 -> 21468
U13: Lipiec | V13: =I29 -> 21423
U14: Sierpień | V14: =J29 -> 19314
U15: Wrzesień | V15: =K29 -> 18917
U16: Październik | V16: =L29 -> 7402
U17: Listopad | V17: =M29 -> 4675
U18: Grudzień | V18: =N29 -> 2957
U19: 2017
U20: Styczeń | V20: =C30 -> 1812
U21: Luty | V21: =D30 -> 2468
U22: Marzec | V22: =E30 -> 7885
U23: Kwiecień | V23: =F30 -> 9567
U24: Maj | V24: =G30 -> 23629
U25: Czerwiec | V25: =H30 -> 20694
U26: Lipiec | V26: =I30 -> 20985
C27: styczeń | D27: luty | E27: marzec | F27: kwiecień | G27: maj | H27: czerwiec | I27: lipiec | J27: sierpień | K27: wrzesień | L27: październik | M27: listopad | N27: grudzień | O27: suma | P27: dynamika | U27: Sierpień | V27: =J30 -> 22628
B28: 2015 | N28: =grudzień!S37 -> 3742 | P28: n/d | U28: Wrzesień | V28: =K30 -> 12947
B29: 2016 | C29: =styczeń!S37 -> 2042 | D29: =luty!S35 -> 3606 | E29: =marzec!S37 -> 5690 | F29: =kwiecień!$S$36 -> 13033 | G29: =maj!S37 -> 23336 | H29: =czerwiec!S36 -> 21468 | I29: =lipiec!S37 -> 21423 | J29: =sierpień!S37 -> 19314 | K29: =wrzesień!S36 -> 18917 | L29: =październik!S37 -> 7402 | M29: =listopad!$S$36 -> 4675 | N29: =grudzień!U37 -> 2957 | O29: =SUM(C29:N29) -> 143863 | P29: n/d | U29: Październik | V29: =L30 -> 9424
B30: 2017 | C30: =styczeń!$U$37 -> 1812 | D30: =luty!U35 -> 2468 | E30: =marzec!U37 -> 7885 | F30: =kwiecień!U36 -> 9567 | G30: =maj!U37 -> 23629 | H30: =czerwiec!U36 -> 20694 | I30: =lipiec!U37 -> 20985 | J30: =sierpień!U37 -> 22628 | K30: =wrzesień!U36 -> 12947 | L30: =październik!U37 -> 9424 | M30: =V30 -> 5744 | N30: =V31 -> 3243 | O30: =SUM(C30:N30) -> 141026 | P30: =O30/O29 -> 0.98027985 | U30: Listopad | V30: =listopad!U36 -> 5744
B31: 2018 | C31: =V33 -> 3074 | D31: =luty!W35 -> 1933 | E31: =marzec!W37 -> 3848 | F31: =kwiecień!W36 -> 16907 | G31: =maj!W37 -> 30345 | H31: =czerwiec!W36 -> 26248 | I31: =lipiec!W37 -> 23792 | J31: =sierpień!W37 -> 23382 | K31: =wrzesień!W36 -> 20403 | L31: =październik!W37 -> 15034 | M31: =V43 -> 7737 | N31: =V44 -> 3177 | O31: =SUM(C31:N31) -> 175880 | P31: =O31/O30 -> 1.2471459 | U31: Grudzień | V31: 3243
B32: 2019 | C32: =V46 -> 2532 | D32: =V47 -> 4089 | E32: =V48 -> 7952 | F32: =V49 -> 17769 | G32: =V50 -> 20457 | H32: =V51 -> 32986 | I32: =V52 -> 26000 | J32: =V53 -> 28253 | K32: =V54 -> 20816 | L32: =V55 -> 16190 | M32: =V56 -> 7686 | N32: =V57 -> 5238 | O32: =SUM(C32:N32) -> 189968 | P32: =O32/O31 -> 1.0801001 | U32: 2018
B33: 2020 | C33: =V59 -> 5971 | D33: =luty!AA35 -> 5785 | E33: =V61 -> 8361 | F33: =V62 -> 13137 | G33: =V63 -> 22517 | H33: =V64 -> 30962 | I33: =V65 -> 31847 | J33: =V66 -> 29939 | K33: =V67 -> 26671 | L33: =V68 -> 17583 | M33: =V69 -> 11363 | N33: 6083 | O33: =SUM(C33:N33) -> 210219 | P33: =O33/O32 -> 1.1066022 | U33: Styczeń | V33: =styczeń!W37 -> 3074
B34: 2021 | C34: =V72 -> 3050 | D34: =V73 -> 3306 | E34: =V74 -> 7964 | F34: =V75 -> 13068 | G34: =V76 -> 22257 | H34: 31263 | I34: =V78 -> 29750 | J34: 23807 | K34: 22562 | L34: =V81 -> 17632 | M34: =V82 -> 9067 | N34: =V83 -> 3330 | O34: =SUM(C34:N34) -> 187056 | P34: =O34/O33 -> 0.88981491 | U34: Luty | V34: =D31 -> 1933
B35: 2022 | C35: ='[1]eco-counter'!$Q$36 -> 3832 | D35: =V86 -> 4627 | E35: =V87 -> 13009 | F35: ='[2]eco-counter'!$P$35 -> 14129 | G35: ='[3]eco-counter'!$O$36 -> 25783 | H35: ='[4]eco-counter'!$Q$35 -> 32519 | I35: 32431 | J35: 32378 | K35: 23044 | L35: 21064 | M35: 12863 | N35: 4910 | O35: =SUM(C35:N35) -> 220589 | P35: =O35/O34 -> 1.1792672 | U35: Marzec | V35: =E31 -> 3848
B36: 2023 | C36: 6001 | D36: 4975 | E36: 9094 | F36: =V101 -> 16579 | G36: 33569 | H36: 34090 | I36: 32014 | J36: 28041 | K36: 35332 | L36: 20607 | M36: 10742 | N36: 4267 | O36: =SUM(C36:N36) -> 235311 | P36: =O36/O35 -> 1.0667395 | U36: Kwiecień | V36: =F31 -> 16907
B37: 2024 | C37: 3961 | D37: 7000 | E37: 13781 | F37: 21078 | G37: 37721 | H37: 35281 | I37: 38335 | J37: 38573 | K37: 34601 | L37: 24442 | M37: 14249 | N37: 9783 | O37: =SUM(C37:N37) -> 278805 | P37: =O37/O36 -> 1.1848362 | U37: Maj | V37: =G31 -> 30345
B38: 2025 | C38: ='[5]eco-counter'!$P$35 -> 9504 | D38: ='[5]eco-counter'!$P$64 -> 8883 | E38: ='[6]eco-counter'!$R$36 -> 17630 | F38: ='[7]eco-counter'!$P$34 -> 23810 | G38: ='[8]eco-counter'!$O$36 -> 29597 | H38: ='[8]eco-counter'!$O$71 -> 32395 | I38: ='[9]eco-counter'!$P$36 -> 36093 | J38: ='[9]eco-counter'!$P$71 -> 35618 | K38: 36781 | L38: 24716 | M38: 17260 | N38: 12654 | O38: =SUM(C38:N38) -> 284941 | P38: =O38/O37 -> 1.0220082 | U38: Czerwiec | V38: =H31 -> 26248
B39: 2026 | C39: 3623 | D39: 2794 | E39: 21812 | F39: 25163 | G39: 37637 | H39: 38426 | I39: 38824 | J39: 40670 | O39: =SUM(C39:N39) -> 208949 | P39: =O39/O38 -> 0.73330619 | U39: Lipiec | V39: =I31 -> 23792
U40: Sierpień | V40: =J31 -> 23382
U41: Wrzesień | V41: =K31 -> 20403
U42: Październik | V42: =L31 -> 15034
...

Sheet styczeń
Q3: Data | S3: 2016 | U3: 2017 | W3: 2018 | Y3: 2019 | AA3: 2020
Q5: 42370 | R5: 42370 | S5: 36 | T5: 42736 | U5: 47 | V5: 43101 | W5: 71 | X5: 43466 | Y5: 52 | Z5: 43831 | AA5: 86
Q6: 42371 | R6: 42371 | S6: 41 | T6: 42737 | U6: 124 | V6: 43102 | W6: 110 | X6: 43467 | Y6: 65 | Z6: 43832 | AA6: 216
Q7: 42372 | R7: 42372 | S7: 28 | T7: 42738 | U7: 119 | V7: 43103 | W7: 127 | X7: 43468 | Y7: 50 | Z7: 43833 | AA7: 202
Q8: 42373 | R8: 42373 | S8: 77 | T8: 42739 | U8: 83 | V8: 43104 | W8: 137 | X8: 43469 | Y8: 90 | Z8: 43834 | AA8: 55
Q9: 42374 | R9: 42374 | S9: 75 | T9: 42740 | U9: 36 | V9: 43105 | W9: 103 | X9: 43470 | Y9: 72 | Z9: 43835 | AA9: 129
Q10: 42375 | R10: 42375 | S10: 24 | T10: 42741 | U10: 22 | V10: 43106 | W10: 77 | X10: 43471 | Y10: 60 | Z10: 43836 | AA10: 93
Q11: 42376 | R11: 42376 | S11: 80 | T11: 42742 | U11: 15 | V11: 43107 | W11: 139 | X11: 43472 | Y11: 91 | Z11: 43837 | AA11: 267
Q12: 42377 | R12: 42377 | S12: 68 | T12: 42743 | U12: 6 | V12: 43108 | W12: 156 | X12: 43473 | Y12: 134 | Z12: 43838 | AA12: 234
Q13: 42378 | R13: 42378 | S13: 41 | T13: 42744 | U13: 54 | V13: 43109 | W13: 158 | X13: 43474 | Y13: 102 | Z13: 43839 | AA13: 221
Q14: 42379 | R14: 42379 | S14: 43 | T14: 42745 | U14: 24 | V14: 43110 | W14: 143 | X14: 43475 | Y14: 114 | Z14: 43840 | AA14: 171
Q15: 42380 | R15: 42380 | S15: 73 | T15: 42746 | U15: 39 | V15: 43111 | W15: 169 | X15: 43476 | Y15: 134 | Z15: 43841 | AA15: 150
Q16: 42381 | R16: 42381 | S16: 97 | T16: 42747 | U16: 38 | V16: 43112 | W16: 128 | X16: 43477 | Y16: 116 | Z16: 43842 | AA16: 154
... Q35: 42400 | R35: 42400 | S35: 39 | T35: 42766 | U35: 96 | V35: 43131 | W35: 113 | X35: 43496 | Y35: 94 | Z35: 43861 | AA35: 159
Q37: Razem | S37: =SUM(S5:S35) -> 2042 | U37: =SUM(U5:U35) -> 1812 | W37: =SUM(W5:W35) -> 3074 | Y37: =SUM(Y5:Y35) -> 2532 | AA37: =SUM(AA5:AA35) -> 5971

Sheet luty
Q3: Data | S3: 2016 | U3: 2017 | W3: 2018 | Y3: 2019 | AA3: 2020
Q5: 42401 | R5: 42401 | S5: 109 | T5: 42767 | U5: 84 | V5: 43132 | W5: 148 | X5: 43497 | Y5: 76 | Z5: 43862 | AA5: 118
Q6: 42402 | R6: 42402 | S6: 79 | T6: 42768 | U6: 96 | V6: 43133 | W6: 141 | X6: 43498 | Y6: 61 | Z6: 43863 | AA6: 114
Q7: 42403 | R7: 42403 | S7: 78 | T7: 42769 | U7: 93 | V7: 43134 | W7: 65 | X7: 43499 | Y7: 94 | Z7: 43864 | AA7: 289
Q8: 42404 | R8: 42404 | S8: 73 | T8: 42770 | U8: 59 | V8: 43135 | W8: 54 | X8: 43500 | Y8: 103 | Z8: 43865 | AA8: 187
Q9: 42405 | R9: 42405 | S9: 105 | T9: 42771 | U9: 79 | V9: 43136 | W9: 42 | X9: 43501 | Y9: 116 | Z9: 43866 | AA9: 254
Q10: 42406 | R10: 42406 | S10: 89 | T10: 42772 | U10: 104 | V10: 43137 | W10: 49 | X10: 43502 | Y10: 109 | Z10: 43867 | AA10: 183
Q11: 42407 | R11: 42407 | S11: 143 | T11: 42773 | U11: 52 | V11: 43138 | W11: 35 | X11: 43503 | Y11: 127 | Z11: 43868 | AA11: 264
Q12: 42408 | R12: 42408 | S12: 160 | T12: 42774 | U12: 28 | V12: 43139 | W12: 37 | X12: 43504 | Y12: 161 | Z12: 43869 | AA12: 206
Q13: 42409 | R13: 42409 | S13: 140 | T13: 42775 | U13: 32 | V13: 43140 | W13: 38 | X13: 43505 | Y13: 79 | Z13: 43870 | AA13: 154
Q14: 42410 | R14: 42410 | S14: 163 | T14: 42776 | U14: 58 | V14: 43141 | W14: 22 | X14: 43506 | Y14: 138 | Z14: 43871 | AA14: 139
Q15: 42411 | R15: 42411 | S15: 139 | T15: 42777 | U15: 34 | V15: 43142 | W15: 24 | X15: 43507 | Y15: 106 | Z15: 43872 | AA15: 151
Q16: 42412 | R16: 42412 | S16: 117 | T16: 42778 | U16: 34 | V16: 43143 | W16: 67 | X16: 43508 | Y16: 163 | Z16: 43873 | AA16: 163
... Q32: 42428 | R32: 42428 | S32: 112 | T32: 42794 | U32: 184 | V32: 43159 | W32: 43 | X32: 43524 | Y32: 244 | Z32: 43889 | AA32: 215
Q33: 42429 | R33: 42429 | S33: 168 | Z33: 43890 | AA33: 149
Q35: Razem | S35: =SUM(S5:S33) -> 3606 | U35: =SUM(U5:U33) -> 2468 | W35: =SUM(W5:W33) -> 1933 | Y35: =SUM(Y5:Y33) -> 4089 | AA35: =SUM(AA5:AA33) -> 5785

Sheet marzec
Q3: Data | S3: 2016 | U3: 2017 | W3: 2018 | Y3: 2019 | AA3: 2020
Q5: 42430 | R5: 42430 | S5: 169 | T5: 42795 | U5: 179 | V5: 43160 | W5: 41 | X5: 43525 | Y5: 200 | Z5: niedz. 1 mar | AA5: 221
Q6: 42431 | R6: 42431 | S6: 163 | T6: 42796 | U6: 134 | V6: 43161 | W6: 51 | X6: 43526 | Y6: 186 | Z6: pon. 2 mar | AA6: 306
Q7: 42432 | R7: 42432 | S7: 161 | T7: 42797 | U7: 215 | V7: 43162 | W7: 28 | X7: 43527 | Y7: 122 | Z7: wt. 3 mar | AA7: 199
Q8: 42433 | R8: 42433 | S8: 108 | T8: 42798 | U8: 216 | V8: 43163 | W8: 41 | X8: 43528 | Y8: 164 | Z8: śr. 4 mar | AA8: 315
Q9: 42434 | R9: 42434 | S9: 102 | T9: 42799 | U9: 138 | V9: 43164 | W9: 77 | X9: 43529 | Y9: 90 | Z9: czw. 5 mar | AA9: 318
Q10: 42435 | R10: 42435 | S10: 110 | T10: 42800 | U10: 150 | V10: 43165 | W10: 105 | X10: 43530 | Y10: 209 | Z10: pt. 6 mar | AA10: 250
Q11: 42436 | R11: 42436 | S11: 248 | T11: 42801 | U11: 141 | V11: 43166 | W11: 68 | X11: 43531 | Y11: 227 | Z11: sob. 7 mar | AA11: 120
Q12: 42437 | R12: 42437 | S12: 230 | T12: 42802 | U12: 200 | V12: 43167 | W12: 73 | X12: 43532 | Y12: 164 | Z12: niedz. 8 mar | AA12: 298
Q13: 42438 | R13: 42438 | S13: 201 | T13: 42803 | U13: 197 | V13: 43168 | W13: 70 | X13: 43533 | Y13: 74 | Z13: pon. 9 mar | AA13: 372
Q14: 42439 | R14: 42439 | S14: 230 | T14: 42804 | U14: 232 | V14: 43169 | W14: 112 | X14: 43534 | Y14: 92 | Z14: wt. 10 mar | AA14: 352
Q15: 42440 | R15: 42440 | S15: 163 | T15: 42805 | U15: 113 | V15: 43170 | W15: 138 | X15: 43535 | Y15: 213 | Z15: śr. 11 mar | AA15: 254
Q16: 42441 | R16: 42441 | S16: 101 | T16: 42806 | U16: 145 | V16: 43171 | W16: 189 | X16: 43536 | Y16: 184 | Z16: czw. 12 mar | AA16: 194
... Q35: 42460 | R35: 42460 | S35: 237 | T35: 42825 | U35: 487 | V35: 43190 | W35: 139 | X35: 43555 | Y35: 260 | Z35: wt. 31 mar | AA35: 112
Q37: Razem | S37: =SUM(S5:S35) -> 5690 | U37: =SUM(U5:U35) -> 7885 | W37: =SUM(W5:W35) -> 3848 | Y37: =SUM(Y5:Y35) -> 7952 | AA37: =SUM(AA5:AA35) -> 8361

Sheet kwiecień
Q3: Data | S3: 2016 | U3: 2017 | W3: 2018 | Y3: 2019 | AA3: 2020
Q5: 42461 | R5: 42461 | S5: 283 | T5: 42826 | U5: 671 | V5: 43191 | W5: 19 | X5: 43556 | Y5: 628 | Z5: śr. 1 kwi | AA5: 158
Q6: 42462 | R6: 42462 | S6: 460 | T6: 42827 | U6: 521 | V6: 43192 | W6: 94 | X6: 43557 | Y6: 519 | Z6: czw. 2 kwi | AA6: 185
Q7: 42463 | R7: 42463 | S7: 432 | T7: 42828 | U7: 494 | V7: 43193 | W7: 185 | X7: 43558 | Y7: 619 | Z7: pt. 3 kwi | AA7: 180
Q8: 42464 | R8: 42464 | S8: 553 | T8: 42829 | U8: 496 | V8: 43194 | W8: 534 | X8: 43559 | Y8: 610 | Z8: sob. 4 kwi | AA8: 224
Q9: 42465 | R9: 42465 | S9: 703 | T9: 42830 | U9: 378 | V9: 43195 | W9: 427 | X9: 43560 | Y9: 676 | Z9: niedz. 5 kwi | AA9: 308
Q10: 42466 | R10: 42466 | S10: 347 | T10: 42831 | U10: 342 | V10: 43196 | W10: 403 | X10: 43561 | Y10: 673 | Z10: pon. 6 kwi | AA10: 444
Q11: 42467 | R11: 42467 | S11: 451 | T11: 42832 | U11: 336 | V11: 43197 | W11: 516 | X11: 43562 | Y11: 713 | Z11: wt. 7 kwi | AA11: 486
Q12: 42468 | R12: 42468 | S12: 475 | T12: 42833 | U12: 461 | V12: 43198 | W12: 784 | X12: 43563 | Y12: 472 | Z12: śr. 8 kwi | AA12: 469
Q13: 42469 | R13: 42469 | S13: 525 | T13: 42834 | U13: 345 | V13: 43199 | W13: 654 | X13: 43564 | Y13: 473 | Z13: czw. 9 kwi | AA13: 412
Q14: 42470 | R14: 42470 | S14: 298 | T14: 42835 | U14: 536 | V14: 43200 | W14: 594 | X14: 43565 | Y14: 355 | Z14: pt. 10 kwi | AA14: 325
Q15: 42471 | R15: 42471 | S15: 489 | T15: 42836 | U15: 285 | V15: 43201 | W15: 521 | X15: 43566 | Y15: 267 | Z15: sob. 11 kwi | AA15: 289
Q16: 42472 | R16: 42472 | S16: 462 | T16: 42837 | U16: 231 | V16: 43202 | W16: 624 | X16: 43567 | Y16: 270 | Z16: niedz. 12 kwi | AA16: 163
... Q34: 42490 | R34: 42490 | S34: 524 | T34: 42855 | U34: 394 | V34: 43220 | W34: 703 | X34: 43585 | Y34: 795 | Z34: czw. 30 kwi | AA34: 751
Q36: Razem | S36: =SUM(S5:S34) -> 13033 | U36: =SUM(U5:U34) -> 9567 | W36: =SUM(W5:W34) -> 16907 | Y36: =SUM(Y5:Y34) -> 17769 | AA36: =SUM(AA5:AA34) -> 13137

Sheet maj
Q3: Data | S3: 2016 | U3: 2017 | W3: 2018 | Y3: 2019
Q5: 42491 | R5: 42491 | S5: 437 | T5: 42856 | U5: 569 | V5: 43221 | W5: 771 | X5: 43586 | Y5: 770
Q6: 42492 | R6: 42492 | S6: 645 | T6: 42857 | U6: 500 | V6: 43222 | W6: 659 | X6: 43587 | Y6: 254
Q7: 42493 | R7: 42493 | S7: 855 | T7: 42858 | U7: 425 | V7: 43223 | W7: 573 | X7: 43588 | Y7: 335
Q8: 42494 | R8: 42494 | S8: 792 | T8: 42859 | U8: 332 | V8: 43224 | W8: 647 | X8: 43589 | Y8: 354
Q9: 42495 | R9: 42495 | S9: 866 | T9: 42860 | U9: 361 | V9: 43225 | W9: 722 | X9: 43590 | Y9: 528
Q10: 42496 | R10: 42496 | S10: 839 | T10: 42861 | U10: 742 | V10: 43226 | W10: 904 | X10: 43591 | Y10: 647
Q11: 42497 | R11: 42497 | S11: 881 | T11: 42862 | U11: 356 | V11: 43227 | W11: 1100 | X11: 43592 | Y11: 786
Q12: 42498 | R12: 42498 | S12: 877 | T12: 42863 | U12: 400 | V12: 43228 | W12: 1226 | X12: 43593 | Y12: 913
Q13: 42499 | R13: 42499 | S13: 957 | T13: 42864 | U13: 392 | V13: 43229 | W13: 1218 | X13: 43594 | Y13: 708
Q14: 42500 | R14: 42500 | S14: 1115 | T14: 42865 | U14: 204 | V14: 43230 | W14: 1273 | X14: 43595 | Y14: 786
Q15: 42501 | R15: 42501 | S15: 893 | T15: 42866 | U15: 559 | V15: 43231 | W15: 744 | X15: 43596 | Y15: 604
Q16: 42502 | R16: 42502 | S16: 864 | T16: 42867 | U16: 738 | V16: 43232 | W16: 797 | X16: 43597 | Y16: 384
... Q35: 42521 | R35: 42521 | S35: 848 | T35: 42886 | U35: 631 | V35: 43251 | W35: 936 | X35: 43616 | Y35: 818
Q37: Razem | S37: =SUM(S5:S35) -> 23336 | U37: =SUM(U5:U35) -> 23629 | W37: =SUM(W5:W35) -> 30345 | Y37: =SUM(Y5:Y35) -> 20457

Sheet czerwiec
Q3: Data | S3: 2016 | U3: 2017 | W3: 2018 | Y3: 2019
Q5: 42522 | R5: 42522 | S5: 686 | T5: 42887 | U5: 609 | V5: 43252 | W5: 864 | X5: 43617 | Y5: 728
Q6: 42523 | R6: 42523 | S6: 1004 | T6: 42888 | U6: 738 | V6: 43253 | W6: 766 | X6: 43618 | Y6: 892
Q7: 42524 | R7: 42524 | S7: 976 | T7: 42889 | U7: 786 | V7: 43254 | W7: 785 | X7: 43619 | Y7: 1303
Q8: 42525 | R8: 42525 | S8: 813 | T8: 42890 | U8: 112 | V8: 43255 | W8: 1192 | X8: 43620 | Y8: 1450
Q9: 42526 | R9: 42526 | S9: 738 | T9: 42891 | U9: 842 | V9: 43256 | W9: 846 | X9: 43621 | Y9: 1468
Q10: 42527 | R10: 42527 | S10: 838 | T10: 42892 | U10: 786 | V10: 43257 | W10: 1127 | X10: 43622 | Y10: 1397
Q11: 42528 | R11: 42528 | S11: 988 | T11: 42893 | U11: 559 | V11: 43258 | W11: 1180 | X11: 43623 | Y11: 1031
Q12: 42529 | R12: 42529 | S12: 863 | T12: 42894 | U12: 806 | V12: 43259 | W12: 1126 | X12: 43624 | Y12: 759
Q13: 42530 | R13: 42530 | S13: 980 | T13: 42895 | U13: 912 | V13: 43260 | W13: 891 | X13: 43625 | Y13: 1159
Q14: 42531 | R14: 42531 | S14: 475 | T14: 42896 | U14: 460 | V14: 43261 | W14: 901 | X14: 43626 | Y14: 1118
Q15: 42532 | R15: 42532 | S15: 447 | T15: 42897 | U15: 849 | V15: 43262 | W15: 821 | X15: 43627 | Y15: 1356
Q16: 42533 | R16: 42533 | S16: 762 | T16: 42898 | U16: 527 | V16: 43263 | W16: 922 | X16: 43628 | Y16: 1413
... Q34: 42551 | R34: 42551 | S34: 769 | T34: 42916 | U34: 289 | V34: 43281 | W34: 407 | X34: 43646 | Y34: 728
Q36: Razem | S36: =SUM(S5:S34) -> 21468 | U36: =SUM(U5:U34) -> 20694 | W36: =SUM(W5:W35) -> 26248 | Y36: =SUM(Y5:Y34) -> 32986

Sheet lipiec
Q3: Data | S3: 2016 | U3: 2017 | W3: 2018 | Y3: 2019
Q5: 42552 | R5: 42552 | S5: 806 | T5: 42917 | U5: 149 | V5: 43282 | W5: 367 | X5: 43647 | Y5: 1146
Q6: 42553 | R6: 42553 | S6: 485 | T6: 42918 | U6: 463 | V6: 43283 | W6: 681 | X6: 43648 | Y6: 904
Q7: 42554 | R7: 42554 | S7: 552 | T7: 42919 | U7: 747 | V7: 43284 | W7: 893 | X7: 43649 | Y7: 1044
Q8: 42555 | R8: 42555 | S8: 739 | T8: 42920 | U8: 578 | V8: 43285 | W8: 1218 | X8: 43650 | Y8: 864
Q9: 42556 | R9: 42556 | S9: 962 | T9: 42921 | U9: 739 | V9: 43286 | W9: 1053 | X9: 43651 | Y9: 669
Q10: 42557 | R10: 42557 | S10: 440 | T10: 42922 | U10: 956 | V10: 43287 | W10: 940 | X10: 43652 | Y10: 377
Q11: 42558 | R11: 42558 | S11: 566 | T11: 42923 | U11: 832 | V11: 43288 | W11: 745 | X11: 43653 | Y11: 453
Q12: 42559 | R12: 42559 | S12: 686 | T12: 42924 | U12: 448 | V12: 43289 | W12: 741 | X12: 43654 | Y12: 321
Q13: 42560 | R13: 42560 | S13: 432 | T13: 42925 | U13: 723 | V13: 43290 | W13: 766 | X13: 43655 | Y13: 414
Q14: 42561 | R14: 42561 | S14: 486 | T14: 42926 | U14: 795 | V14: 43291 | W14: 889 | X14: 43656 | Y14: 725
Q15: 42562 | R15: 42562 | S15: 711 | T15: 42927 | U15: 855 | V15: 43292 | W15: 779 | X15: 43657 | Y15: 1156
Q16: 42563 | R16: 42563 | S16: 912 | T16: 42928 | U16: 738 | V16: 43293 | W16: 420 | X16: 43658 | Y16: 1026
... Q35: 42582 | R35: 42582 | S35: 625 | T35: 42947 | U35: 795 | V35: 43312 | W35: 966 | X35: 43677 | Y35: 922
Q37: Razem | S37: =SUM(S5:S35) -> 21423 | U37: =SUM(U5:U35) -> 20985 | W37: =SUM(W5:W35) -> 23792 | Y37: =SUM(Y5:Y35) -> 26000

Sheet sierpień
Q3: Data | S3: 2016 | U3: 2017 | W3: 2018 | Y3: 2019
Q5: 42583 | R5: 42583 | S5: 443 | T5: 42948 | U5: 903 | V5: 43313 | W5: 744 | X5: 43678 | Y5: 1099
Q6: 42584 | R6: 42584 | S6: 638 | T6: 42949 | U6: 874 | V6: 43314 | W6: 683 | X6: 43679 | Y6: 898
Q7: 42585 | R7: 42585 | S7: 822 | T7: 42950 | U7: 573 | V7: 43315 | W7: 810 | X7: 43680 | Y7: 631
Q8: 42586 | R8: 42586 | S8: 633 | T8: 42951 | U8: 787 | V8: 43316 | W8: 546 | X8: 43681 | Y8: 712
Q9: 42587 | R9: 42587 | S9: 421 | T9: 42952 | U9: 666 | V9: 43317 | W9: 500 | X9: 43682 | Y9: 844
Q10: 42588 | R10: 42588 | S10: 418 | T10: 42953 | U10: 573 | V10: 43318 | W10: 982 | X10: 43683 | Y10: 727
Q11: 42589 | R11: 42589 | S11: 553 | T11: 42954 | U11: 855 | V11: 43319 | W11: 963 | X11: 43684 | Y11: 890
Q12: 42590 | R12: 42590 | S12: 787 | T12: 42955 | U12: 969 | V12: 43320 | W12: 939 | X12: 43685 | Y12: 1120
Q13: 42591 | R13: 42591 | S13: 821 | T13: 42956 | U13: 963 | V13: 43321 | W13: 897 | X13: 43686 | Y13: 945
Q14: 42592 | R14: 42592 | S14: 811 | T14: 42957 | U14: 796 | V14: 43322 | W14: 646 | X14: 43687 | Y14: 690
Q15: 42593 | R15: 42593 | S15: 675 | T15: 42958 | U15: 761 | V15: 43323 | W15: 526 | X15: 43688 | Y15: 776
Q16: 42594 | R16: 42594 | S16: 511 | T16: 42959 | U16: 420 | V16: 43324 | W16: 505 | X16: 43689 | Y16: 972
... Q35: 42613 | R35: 42613 | S35: 945 | T35: 42978 | U35: 853 | V35: 43343 | W35: 726 | X35: 43708 | Y35: 767
Q37: Razem | S37: =SUM(S5:S35) -> 19314 | U37: =SUM(U5:U35) -> 22628 | W37: =SUM(W5:W35) -> 23382 | Y37: =SUM(Y5:Y35) -> 28253

Sheet wrzesień
Q3: Data | S3: 2016 | U3: 2017 | W3: 2018 | Y3: 2019
Q5: 42614 | R5: 42614 | S5: 835 | T5: 42979 | U5: 445 | V5: 43344 | W5: 701 | X5: 873 | Y5: 764
Q6: 42615 | R6: 42615 | S6: 782 | T6: 42980 | U6: 169 | V6: 43345 | W6: 735 | X6: 917 | Y6: 903
Q7: 42616 | R7: 42616 | S7: 611 | T7: 42981 | U7: 267 | V7: 43346 | W7: 954 | X7: 1121 | Y7: 967
Q8: 42617 | R8: 42617 | S8: 103 | T8: 42982 | U8: 338 | V8: 43347 | W8: 960 | X8: 1259 | Y8: 1075
Q9: 42618 | R9: 42618 | S9: 581 | T9: 42983 | U9: 497 | V9: 43348 | W9: 977 | X9: 1289 | Y9: 1064
Q10: 42619 | R10: 42619 | S10: 817 | T10: 42984 | U10: 244 | V10: 43349 | W10: 807 | X10: 1150 | Y10: 1028
Q11: 42620 | R11: 42620 | S11: 869 | T11: 42985 | U11: 224 | V11: 43350 | W11: 960 | X11: 528 | Y11: 455
Q12: 42621 | R12: 42621 | S12: 942 | T12: 42986 | U12: 430 | V12: 43351 | W12: 526 | X12: 637 | Y12: 556
Q13: 42622 | R13: 42622 | S13: 829 | T13: 42987 | U13: 486 | V13: 43352 | W13: 603 | X13: 938 | Y13: 848
Q14: 42623 | R14: 42623 | S14: 602 | T14: 42988 | U14: 237 | V14: 43353 | W14: 907 | X14: 405 | Y14: 387
Q15: 42624 | R15: 42624 | S15: 609 | T15: 42989 | U15: 537 | V15: 43354 | W15: 826 | X15: 1102 | Y15: 985
Q16: 42625 | R16: 42625 | S16: 837 | T16: 42990 | U16: 699 | V16: 43355 | W16: 779 | X16: 1067 | Y16: 899
... Q34: 42643 | R34: 42643 | S34: 534 | T34: 43008 | U34: 365 | V34: 43373 | W34: 247 | X34: 377 | Y34: 345
Q36: Razem | S36: =SUM(S5:S34) -> 18917 | U36: =SUM(U5:U34) -> 12947 | W36: =SUM(W5:W34) -> 20403 | Y36: =SUM(Y5:Y34) -> 20816

Sheet październik
Q3: Data | S3: 2016 | U3: 2017 | W3: 2018 | Y3: 2019
Q5: 42644 | R5: 42644 | S5: 409 | T5: 43009 | U5: 415 | V5: 43374 | W5: 584 | X5: 43739 | Y5: 427
Q6: 42645 | R6: 42645 | S6: 378 | T6: 43010 | U6: 410 | V6: 43375 | W6: 463 | X6: 43740 | Y6: 510
Q7: 42646 | R7: 42646 | S7: 269 | T7: 43011 | U7: 334 | V7: 43376 | W7: 250 | X7: 43741 | Y7: 560
Q8: 42647 | R8: 42647 | S8: 336 | T8: 43012 | U8: 337 | V8: 43377 | W8: 526 | X8: 43742 | Y8: 515
Q9: 42648 | R9: 42648 | S9: 156 | T9: 43013 | U9: 206 | V9: 43378 | W9: 524 | X9: 43743 | Y9: 336
Q10: 42649 | R10: 42649 | S10: 133 | T10: 43014 | U10: 391 | V10: 43379 | W10: 517 | X10: 43744 | Y10: 182
Q11: 42650 | R11: 42650 | S11: 132 | T11: 43015 | U11: 268 | V11: 43380 | W11: 252 | X11: 43745 | Y11: 496
Q12: 42651 | R12: 42651 | S12: 142 | T12: 43016 | U12: 287 | V12: 43381 | W12: 511 | X12: 43746 | Y12: 426
Q13: 42652 | R13: 42652 | S13: 152 | T13: 43017 | U13: 217 | V13: 43382 | W13: 650 | X13: 43747 | Y13: 621
Q14: 42653 | R14: 42653 | S14: 201 | T14: 43018 | U14: 351 | V14: 43383 | W14: 746 | X14: 43748 | Y14: 441
Q15: 42654 | R15: 42654 | S15: 300 | T15: 43019 | U15: 314 | V15: 43384 | W15: 737 | X15: 43749 | Y15: 507
Q16: 42655 | R16: 42655 | S16: 312 | T16: 43020 | U16: 320 | V16: 43385 | W16: 677 | X16: 43750 | Y16: 222
... Q34: 42673 | R34: 42673 | S34: 112 | T34: 43038 | U34: 193 | V34: 43403 | W34: 504 | X34: 43768 | Y34: 493
Q35: 42674 | S35: 272 | T35: 43039 | U35: 278 | V35: 43404 | W35: 608 | X35: 43769 | Y35: 415
Q37: Razem | S37: =SUM(S5:S35) -> 7402 | U37: =SUM(U5:U36) -> 9424 | W37: =SUM(W5:W35) -> 15034 | Y37: =SUM(Y5:Y35) -> 16190

Sheet listopad
Q3: Data | S3: 2016 | T3: Data | U3: 2017 | W3: 2018 | Z3: 2019
Q5: 42675 | R5: 42675 | S5: 78 | T5: 43040 | U5: 137 | V5: 43405 | W5: 328 | Y5: 43770 | Z5: 207
Q6: 42676 | R6: 42676 | S6: 153 | T6: 43041 | U6: 167 | V6: 43406 | W6: 381 | Y6: 43771 | Z6: 94
Q7: 42677 | R7: 42677 | S7: 146 | T7: 43042 | U7: 261 | V7: 43407 | W7: 287 | Y7: 43772 | Z7: 141
Q8: 42678 | R8: 42678 | S8: 147 | T8: 43043 | U8: 255 | V8: 43408 | W8: 225 | Y8: 43773 | Z8: 179
Q9: 42679 | R9: 42679 | S9: 101 | T9: 43044 | U9: 271 | V9: 43409 | W9: 369 | Y9: 43774 | Z9: 321
Q10: 42680 | R10: 42680 | S10: 165 | T10: 43045 | U10: 250 | V10: 43410 | W10: 469 | Y10: 43775 | Z10: 336
Q11: 42681 | R11: 42681 | S11: 185 | T11: 43046 | U11: 307 | V11: 43411 | W11: 449 | Y11: 43776 | Z11: 425
Q12: 42682 | R12: 42682 | S12: 236 | T12: 43047 | U12: 247 | V12: 43412 | W12: 453 | Y12: 43777 | Z12: 368
Q13: 42683 | R13: 42683 | S13: 189 | T13: 43048 | U13: 253 | V13: 43413 | W13: 320 | Y13: 43778 | Z13: 134
Q14: 42684 | R14: 42684 | S14: 212 | T14: 43049 | U14: 209 | V14: 43414 | W14: 209 | Y14: 43779 | Z14: 228
Q15: 42685 | R15: 42685 | S15: 48 | T15: 43050 | U15: 26 | V15: 43415 | W15: 138 | Y15: 43780 | Z15: 194
Q16: 42686 | R16: 42686 | S16: 92 | T16: 43051 | U16: 107 | V16: 43416 | W16: 215 | Y16: 43781 | Z16: 271
... Q34: 42704 | R34: 42704 | S34: 139 | T34: 43069 | U34: 156 | V34: 43434 | W34: 126 | Y34: 43799 | Z34: 183
Q36: Razem | S36: =SUM(S5:S34) -> 4675 | T36: Razem | U36: =SUM(U5:U34) -> 5744 | W36: =SUM(W5:W34) -> 7737 | Z36: =SUM(Z5:Z34) -> 7686

Sheet grudzień
Q3: Data | S3: 2015 | U3: 2016 | W3: 2017 | Y3: 2018 | AA3: 2019
Q5: 42705 | R5: 42339 | S5: 119 | T5: 42705 | U5: 133 | V5: 43070 | W5: 96 | X5: 43435 | Y5: 70 | Z5: 43800 | AA5: 120
Q6: 42706 | R6: 42340 | S6: 158 | T6: 42706 | U6: 14 | V6: 43071 | W6: 126 | X6: 43436 | Y6: 92 | Z6: 43801 | AA6: 206
Q7: 42707 | R7: 42341 | S7: 182 | T7: 42707 | U7: 20 | V7: 43072 | W7: 89 | X7: 43437 | Y7: 147 | Z7: 43802 | AA7: 223
Q8: 42708 | R8: 42342 | S8: 164 | T8: 42708 | U8: 19 | V8: 43073 | W8: 149 | X8: 43438 | Y8: 222 | Z8: 43803 | AA8: 226
Q9: 42709 | R9: 42343 | S9: 98 | T9: 42709 | U9: 41 | V9: 43074 | W9: 127 | X9: 43439 | Y9: 181 | Z9: 43804 | AA9: 269
Q10: 42710 | R10: 42344 | S10: 110 | T10: 42710 | U10: 134 | V10: 43075 | W10: 90 | X10: 43440 | Y10: 123 | Z10: 43805 | AA10: 205
Q11: 42711 | R11: 42345 | S11: 189 | T11: 42711 | U11: 110 | V11: 43076 | W11: 154 | X11: 43441 | Y11: 135 | Z11: 43806 | AA11: 127
Q12: 42712 | R12: 42346 | S12: 175 | T12: 42712 | U12: 104 | V12: 43077 | W12: 129 | X12: 43442 | Y12: 122 | Z12: 43807 | AA12: 104
Q13: 42713 | R13: 42347 | S13: 188 | T13: 42713 | U13: 134 | V13: 43078 | W13: 99 | X13: 43443 | Y13: 53 | Z13: 43808 | AA13: 252
Q14: 42714 | R14: 42348 | S14: 192 | T14: 42714 | U14: 55 | V14: 43079 | W14: 89 | X14: 43444 | Y14: 186 | Z14: 43809 | AA14: 205
Q15: 42715 | R15: 42349 | S15: 145 | T15: 42715 | U15: 58 | V15: 43080 | W15: 97 | X15: 43445 | Y15: 167 | Z15: 43810 | AA15: 197
Q16: 42716 | R16: 42350 | S16: 69 | T16: 42716 | U16: 116 | V16: 43081 | W16: 152 | X16: 43446 | Y16: 142 | Z16: 43811 | AA16: 176
... Q35: 42735 | R35: 42369 | S35: 78 | T35: 42735 | U35: 94 | V35: 43100 | W35: 17 | X35: 43465 | Y35: 134 | Z35: 43830 | AA35: 139
Q37: Razem | S37: =SUM(S5:S35) -> 3742 | U37: =SUM(U5:U35) -> 2957 | W37: =SUM(W5:W35) -> 3243 | Y37: =SUM(Y5:Y35) -> 3177 | AA37: =SUM(AA5:AA35) -> 5238
