Workbook

Sheet ZBIORCZO
U3: Miesiąc | V3: Liczba
U4: 2014
U5: Grudzień | V5: =N28 -> 2720
U6: 2015
U7: Styczeń | V7: =C29 -> 2184
U8: Luty | V8: =D29 -> 2745
U9: Marzec | V9: =E29 -> 5478
U10: Kwiecień | V10: =F29 -> 8382
U11: Maj | V11: =G29 -> 16107
U12: Czerwiec | V12: =H29 -> 17513
U13: Lipiec | V13: =I29 -> 16449
U14: Sierpień | V14: =J29 -> 19432
U15: Wrzesień | V15: =K29 -> 13428
U16: Październik | V16: =L29 -> 9295
U17: Listopad | V17: =M29 -> 4763
U18: Grudzień | V18: =N29 -> 3471
U19: 2016
U20: Styczeń | V20: =C30 -> 1964
U21: Luty | V21: =D30 -> 3019
U22: Marzec | V22: =E30 -> 5107
U23: Kwiecień | V23: =F30 -> 11721
U24: Maj | V24: =G30 -> 21557
U25: Czerwiec | V25: =H30 -> 19041
U26: Lipiec | V26: =I30 -> 19022
C27: styczeń | D27: luty | E27: marzec | F27: kwiecień | G27: maj | H27: czerwiec | I27: lipiec | J27: sierpień | K27: wrzesień | L27: październik | M27: listopad | N27: grudzień | O27: suma | P27: dynamika | U27: Sierpień | V27: =J30 -> 17021
B28: 2014 | N28: 2720 | P28: n/d | U28: Wrzesień | V28: =K30 -> 16686
B29: 2015 | C29: 2184 | D29: 2745 | E29: 5478 | F29: 8382 | G29: 16107 | H29: 17513 | I29: 16449 | J29: 19432 | K29: 13428 | L29: 9295 | M29: 4763 | N29: 3471 | O29: =SUM(C29:N29) -> 119247 | P29: n/d | U29: Październik | V29: =L30 -> 7568
B30: 2016 | C30: 1964 | D30: 3019 | E30: 5107 | F30: 11721 | G30: 21557 | H30: 19041 | I30: 19022 | J30: 17021 | K30: 16686 | L30: 7568 | M30: 4435 | N30: 3055 | O30: =SUM(C30:N30) -> 130196 | P30: =O30/O29 -> 1.0918178 | U30: Listopad | V30: =M30 -> 4435
B31: 2017 | C31: 2135 | D31: 2732 | E31: 7330 | F31: 9055 | G31: 21279 | H31: 17997 | I31: 17573 | J31: 19203 | K31: 11162 | L31: 8468 | M31: 5577 | N31: 3302 | O31: =SUM(C31:N31) -> 125813 | P31: =O31/O30 -> 0.96633537 | U31: Grudzień | V31: =N30 -> 3055
B32: 2018 | C32: 2943 | D32: 2069 | E32: 3558 | F32: 14379 | G32: 24430 | H32: 20448 | I32: 19638 | J32: 18688 | K32: 16495 | L32: 12768 | M32: 7106 | N32: 3207 | O32: =SUM(C32:N32) -> 145729 | P32: =O32/O31 -> 1.1582984 | U32: 2017
B33: 2019 | C33: 2490 | D33: 3662 | E33: 7382 | F33: 14235 | G33: 16441 | H33: 23517 | I33: 20229 | J33: 20479 | K33: 16620 | L33: 12527 | M33: 5997 | N33: 4210 | O33: =SUM(C33:N33) -> 147789 | P33: =O33/O32 -> 1.0141358 | U33: Styczeń | V33: =C31 -> 2135
B34: 2020 | C34: 4770 | D34: 4991 | E34: 5816 | F34: 7900 | G34: 14387 | M34: 9647 | N34: 5292 | P34: n/d | R34: awaria licznika | U34: Luty | V34: =D31 -> 2732
B35: 2021 | C35: 3339 | D35: 3239 | E35: 7798 | F35: 10421 | G35: 18522 | H35: 25084 | I35: 22857 | J35: 18533 | K35: 18845 | L35: 16047 | M35: 8989 | N35: 3885 | O35: =SUM(C35:N35) -> 157559 | P35: =O35/O33 -> 1.0661078 | U35: Marzec | V35: =E31 -> 7330
B36: 2022 | C36: 4366 | D36: 4433 | E36: 11433 | F36: 11901 | G36: 20663 | H36: 23877 | I36: 22497 | J36: 23981 | K36: 17758 | L36: 17106 | M36: 10824 | N36: 4503 | O36: =SUM(C36:N36) -> 173342 | P36: =O36/O35 -> 1.100172 | U36: Kwiecień | V36: =F31 -> 9055
B37: 2023 | C37: 5643 | D37: 4843 | E37: 7983 | F37: 13783 | G37: 26849 | H37: 26814 | I37: 22233 | J37: 18870 | K37: 24810 | L37: 14804 | M37: 8835 | N37: 4181 | O37: =SUM(C37:N37) -> 179648 | P37: =O37/O36 -> 1.036379 | U37: Maj | V37: =G31 -> 21279
B38: 2024 | C38: 3647 | D38: 5486 | E38: 10373 | F38: 15195 | G38: 25627 | H38: 22975 | I38: 24419 | J38: 25181 | K38: 21954 | L38: 17333 | M38: 10978 | N38: 7358 | O38: =SUM(C38:N38) -> 190526 | P38: =O38/O37 -> 1.0605517 | U38: Czerwiec | V38: =H31 -> 17997
B39: 2025 | C39: 6160 | D39: 6390 | E39: 13927 | F39: 17235 | G39: 22072 | H39: 22241 | I39: 23890 | J39: 23869 | K39: 23363 | L39: 17150 | M39: 13384 | N39: 11866 | O39: =SUM(C39:N39) -> 201547 | P39: =O39/O38 -> 1.0578451 | U39: Czerwiec | V39: =H32 -> 20448
B40: 2026 | C40: 4049 | D40: 4510 | E40: 17590 | F40: 19574 | G40: 26950 | H40: 26745 | I40: 23522 | O40: =SUM(C40:N40) -> 122940 | P40: =O40/O39 -> 0.60998179 | U40: Czerwiec | V40: =H33 -> 23517
U41: Wrzesień | V41: =K31 -> 11162
U42: Październik | V42: =L31 -> 8468
U43: Listopad | V43: =listopad!$W$36 -> 5577
U44: Grudzień | V44: =grudzień!Y37 -> 3302
U45: 2018
U46: Styczeń | V46: =styczeń!Y37 -> 2943
U47: Luty | V47: =D32 -> 2069
U48: Marzec | V48: =E32 -> 3558
U49: Kwiecień | V49: =F32 -> 14379
U50: Maj | V50: =G32 -> 24430
U51: Czerwiec | V51: =H32 -> 20448
U52: Lipiec | V52: =I32 -> 19638
U53: Sierpień | V53: =J32 -> 18688
U54: Wrzesień | V54: =K32 -> 16495
U55: Październik | V55: =L32 -> 12768
U56: Listopad | V56: =listopad!Y36 -> 7106
U57: Grudzień | V57: =grudzień!AA37 -> 3207
U58: 2019
U59: Styczeń | V59: =styczeń!AA37 -> 2490
U60: Luty | V60: =luty!AA35 -> 3662
U61: Marzec | V61: =marzec!AA37 -> 7382
U62: Kwiecień | V62: =kwiecień!$AA$36 -> 14235
U63: Maj | V63: =maj!AA37 -> 16441
U64: Czerwiec | V64: =czerwiec!AA36 -> 23517
U65: Lipiec | V65: =lipiec!AA37 -> 20229
U66: Sierpień | V66: =sierpień!AA37 -> 20479
U67: Wrzesień | V67: =wrzesień!AA36 -> 16620
U68: Październik | V68: =październik!$AA$37 -> 12527
U69: Listopad | V69: =listopad!AA36 -> 5997
U70: Grudzień | V70: =grudzień!AC37 -> 4210
U71: 2020
U72: Styczeń | V72: =styczeń!AC37 -> 4770
U73: Luty | V73: =D34 -> 4991
U74: Marzec | V74: =marzec!$AC$37 -> 5816
U75: Kwiecień | V75: =kwiecień!AC36 -> 7900
U76: Maj | V76: 14387
U77: Czerwiec
U78: Lipiec
U79: Sierpień
U80: Wrzesień
U81: Październik
U82: Listopad | V82: 9647
U83: Grudzień | V83: 5292
U84: 2021
U85: Styczeń | V85: 3339
U86: Luty | V86: 3239
U87: Marzec | V87: 7798
U88: Kwiecień | V88: 10421
U89: Maj | V89: 18522
U90: Czerwiec | V90: 25084
U91: Lipiec | V91: 22857
U92: Sierpień | V92: =J35 -> 18533
U93: Wrzesień | V93: =K35 -> 18845
U94: Październik | V94: ='[1]eco-counter'!$U$36 -> 16047
U95: Listopad | V95: 8989
U96: Grudzień | V96: 3885
U97: 2022
U98: Styczeń | V98: =C36 -> 4366
U99: Luty | V99: 4433
U100: Marzec | V100: =E36 -> 11433
U101: Kwiecień | V101: =F36 -> 11901
U102: Maj | V102: =G36 -> 20663
...

Sheet styczeń
Q3: Data | S3: 2015 | U3: 2016 | W3: 2017 | Y3: 2018 | AA3: 2019 | AC3: 2020
Q5: 42370 | R5: 42005 | S5: 17 | T5: 42370 | U5: 45 | V5: 42736 | W5: 63 | X5: 43101 | Y5: 63 | Z5: 43466 | AA5: 23 | AB5: 43831 | AC5: 57
Q6: 42371 | R6: 42006 | S6: 45 | T6: 42371 | U6: 26 | V6: 42737 | W6: 115 | X6: 43102 | Y6: 125 | Z6: 43467 | AA6: 60 | AB6: 43832 | AC6: 157
Q7: 42372 | R7: 42007 | S7: 31 | T7: 42372 | U7: 35 | V7: 42738 | W7: 102 | X7: 43103 | Y7: 117 | Z7: 43468 | AA7: 51 | AB7: 43833 | AC7: 161
Q8: 42373 | R8: 42008 | S8: 48 | T8: 42373 | U8: 63 | V8: 42739 | W8: 88 | X8: 43104 | Y8: 135 | Z8: 43469 | AA8: 79 | AB8: 43834 | AC8: 46
Q9: 42374 | R9: 42009 | S9: 102 | T9: 42374 | U9: 58 | V9: 42740 | W9: 22 | X9: 43105 | Y9: 101 | Z9: 43470 | AA9: 56 | AB9: 43835 | AC9: 125
Q10: 42375 | R10: 42010 | S10: 51 | T10: 42375 | U10: 31 | V10: 42741 | W10: 20 | X10: 43106 | Y10: 63 | Z10: 43471 | AA10: 51 | AB10: 43836 | AC10: 64
Q11: 42376 | R11: 42011 | S11: 67 | T11: 42376 | U11: 65 | V11: 42742 | W11: 25 | X11: 43107 | Y11: 91 | Z11: 43472 | AA11: 100 | AB11: 43837 | AC11: 177
Q12: 42377 | R12: 42012 | S12: 74 | T12: 42377 | U12: 80 | V12: 42743 | W12: 26 | X12: 43108 | Y12: 139 | Z12: 43473 | AA12: 123 | AB12: 43838 | AC12: 186
Q13: 42378 | R13: 42013 | S13: 61 | T13: 42378 | U13: 46 | V13: 42744 | W13: 75 | X13: 43109 | Y13: 142 | Z13: 43474 | AA13: 117 | AB13: 43839 | AC13: 183
Q14: 42379 | R14: 42014 | S14: 50 | T14: 42379 | U14: 49 | V14: 42745 | W14: 82 | X14: 43110 | Y14: 153 | Z14: 43475 | AA14: 122 | AB14: 43840 | AC14: 138
Q15: 42380 | R15: 42015 | S15: 17 | T15: 42380 | U15: 54 | V15: 42746 | W15: 69 | X15: 43111 | Y15: 134 | Z15: 43476 | AA15: 127 | AB15: 43841 | AC15: 133
Q16: 42381 | R16: 42016 | S16: 66 | T16: 42381 | U16: 96 | V16: 42747 | W16: 76 | X16: 43112 | Y16: 132 | Z16: 43477 | AA16: 78 | AB16: 43842 | AC16: 89
... Q35: 42400 | R35: 42035 | S35: 30 | T35: 42400 | U35: 64 | V35: 42766 | W35: 123 | X35: 43131 | Y35: 104 | Z35: 43496 | AA35: 94 | AB35: 43861 | AC35: 126
Q37: Razem | S37: =SUM(S5:S35) -> 2184 | U37: =SUM(U5:U35) -> 1964 | W37: =SUM(W5:W35) -> 2135 | Y37: =SUM(Y5:Y35) -> 2943 | AA37: =SUM(AA5:AA35) -> 2490 | AC37: =SUM(AC5:AC35) -> 4770

Sheet luty
Q3: Data | S3: 2015 | U3: 2016 | W3: 2017 | Y3: 2018 | AA3: 2019 | AC3: 2020
Q5: 42401 | R5: 42036 | S5: 34 | T5: 42401 | U5: 123 | V5: 42767 | W5: 116 | X5: 43132 | Y5: 109 | Z5: 43497 | AA5: 77 | AB5: 43862 | AC5: 106
Q6: 42402 | R6: 42037 | S6: 69 | T6: 42402 | U6: 70 | V6: 42768 | W6: 94 | X6: 43133 | Y6: 149 | Z6: 43498 | AA6: 51 | AB6: 43863 | AC6: 80
Q7: 42403 | R7: 42038 | S7: 71 | T7: 42403 | U7: 73 | V7: 42769 | W7: 115 | X7: 43134 | Y7: 53 | Z7: 43499 | AA7: 57 | AB7: 43864 | AC7: 229
Q8: 42404 | R8: 42039 | S8: 66 | T8: 42404 | U8: 72 | V8: 42770 | W8: 71 | X8: 43135 | Y8: 52 | Z8: 43500 | AA8: 114 | AB8: 43865 | AC8: 190
Q9: 42405 | R9: 42040 | S9: 46 | T9: 42405 | U9: 99 | V9: 42771 | W9: 64 | X9: 43136 | Y9: 61 | Z9: 43501 | AA9: 109 | AB9: 43866 | AC9: 240
Q10: 42406 | R10: 42041 | S10: 53 | T10: 42406 | U10: 106 | V10: 42772 | W10: 118 | X10: 43137 | Y10: 65 | Z10: 43502 | AA10: 110 | AB10: 43867 | AC10: 155
Q11: 42407 | R11: 42042 | S11: 41 | T11: 42407 | U11: 143 | V11: 42773 | W11: 64 | X11: 43138 | Y11: 59 | Z11: 43503 | AA11: 129 | AB11: 43868 | AC11: 199
Q12: 42408 | R12: 42043 | S12: 25 | T12: 42408 | U12: 126 | V12: 42774 | W12: 50 | X12: 43139 | Y12: 46 | Z12: 43504 | AA12: 123 | AB12: 43869 | AC12: 184
Q13: 42409 | R13: 42044 | S13: 70 | T13: 42409 | U13: 130 | V13: 42775 | W13: 66 | X13: 43140 | Y13: 61 | Z13: 43505 | AA13: 75 | AB13: 43870 | AC13: 123
Q14: 42410 | R14: 42045 | S14: 116 | T14: 42410 | U14: 133 | V14: 42776 | W14: 65 | X14: 43141 | Y14: 23 | Z14: 43506 | AA14: 100 | AB14: 43871 | AC14: 120
Q15: 42411 | R15: 42046 | S15: 85 | T15: 42411 | U15: 130 | V15: 42777 | W15: 54 | X15: 43142 | Y15: 16 | Z15: 43507 | AA15: 99 | AB15: 43872 | AC15: 137
Q16: 42412 | R16: 42047 | S16: 99 | T16: 42412 | U16: 92 | V16: 42778 | W16: 27 | X16: 43143 | Y16: 70 | Z16: 43508 | AA16: 125 | AB16: 43873 | AC16: 129
... Q32: 42428 | R32: 42063 | S32: 161 | T32: 42428 | U32: 115 | V32: 42794 | W32: 171 | X32: 43159 | Y32: 44 | Z32: 43524 | AA32: 217 | AB32: 43889 | AC32: 165
Q33: 42429 | T33: 42429 | U33: 124 | AB33: 43890 | AC33: 111
Q35: Razem | S35: =SUM(S5:S33) -> 2745 | U35: =SUM(U5:U33) -> 3019 | W35: =SUM(W5:W33) -> 2732 | Y35: =SUM(Y5:Y33) -> 2069 | AA35: =SUM(AA5:AA33) -> 3662 | AC35: =SUM(AC5:AC33) -> 4991

Sheet marzec
Q3: Data | S3: 2015 | U3: 2016 | W3: 2017 | Y3: 2018 | AA3: 2019 | AC3: 2020
Q5: 42430 | R5: 42064 | S5: 132 | T5: 42430 | U5: 140 | V5: 42795 | W5: 155 | X5: 43160 | Y5: 43 | Z5: 43525 | AA5: 191 | AB5: niedz. 1 mar | AC5: 178
Q6: 42431 | R6: 42065 | S6: 125 | T6: 42431 | U6: 143 | V6: 42796 | W6: 126 | X6: 43161 | Y6: 44 | Z6: 43526 | AA6: 166 | AB6: pon. 2 mar | AC6: 216
Q7: 42432 | R7: 42066 | S7: 129 | T7: 42432 | U7: 121 | V7: 42797 | W7: 190 | X7: 43162 | Y7: 24 | Z7: 43527 | AA7: 110 | AB7: wt. 3 mar | AC7: 178
Q8: 42433 | R8: 42067 | S8: 102 | T8: 42433 | U8: 118 | V8: 42798 | W8: 229 | X8: 43163 | Y8: 31 | Z8: 43528 | AA8: 177 | AB8: śr. 4 mar | AC8: 266
Q9: 42434 | R9: 42068 | S9: 160 | T9: 42434 | U9: 108 | V9: 42799 | W9: 134 | X9: 43164 | Y9: 62 | Z9: 43529 | AA9: 69 | AB9: czw. 5 mar | AC9: 255
Q10: 42435 | R10: 42069 | S10: 150 | T10: 42435 | U10: 150 | V10: 42800 | W10: 140 | X10: 43165 | Y10: 98 | Z10: 43530 | AA10: 202 | AB10: pt. 6 mar | AC10: 181
Q11: 42436 | R11: 42070 | S11: 134 | T11: 42436 | U11: 205 | V11: 42801 | W11: 149 | X11: 43166 | Y11: 93 | Z11: 43531 | AA11: 240 | AB11: sob. 7 mar | AC11: 121
Q12: 42437 | R12: 42071 | S12: 263 | T12: 42437 | U12: 172 | V12: 42802 | W12: 146 | X12: 43167 | Y12: 104 | Z12: 43532 | AA12: 202 | AB12: niedz. 8 mar | AC12: 247
Q13: 42438 | R13: 42072 | S13: 218 | T13: 42438 | U13: 177 | V13: 42803 | W13: 193 | X13: 43168 | Y13: 75 | Z13: 43533 | AA13: 72 | AB13: pon. 9 mar | AC13: 257
Q14: 42439 | R14: 42073 | S14: 251 | T14: 42439 | U14: 168 | V14: 42804 | W14: 189 | X14: 43169 | Y14: 111 | Z14: 43534 | AA14: 78 | AB14: wt. 10 mar | AC14: 269
Q15: 42440 | R15: 42074 | S15: 181 | T15: 42440 | U15: 139 | V15: 42805 | W15: 102 | X15: 43170 | Y15: 118 | Z15: 43535 | AA15: 258 | AB15: śr. 11 mar | AC15: 222
Q16: 42441 | R16: 42075 | S16: 178 | T16: 42441 | U16: 125 | V16: 42806 | W16: 158 | X16: 43171 | Y16: 169 | Z16: 43536 | AA16: 189 | AB16: czw. 12 mar | AC16: 143
... Q35: 42460 | R35: 42094 | S35: 103 | T35: 42460 | U35: 212 | V35: 42825 | W35: 374 | X35: 43190 | Y35: 87 | Z35: 43555 | AA35: 327 | AB35: wt. 31 mar | AC35: 96
Q37: Razem | S37: =SUM(S5:S35) -> 5478 | U37: =SUM(U5:U35) -> 5107 | W37: =SUM(W5:W35) -> 7330 | Y37: =SUM(Y5:Y35) -> 3558 | AA37: =SUM(AA5:AA35) -> 7382 | AC37: =SUM(AC5:AC35) -> 5816

Sheet kwiecień
Q3: Data | S3: 2015 | U3: 2016 | W3: 2017 | Y3: 2018 | AA3: 2019 | AC3: 2020
Q5: 42461 | R5: 42095 | S5: 81 | T5: 42461 | U5: 221 | V5: 42826 | W5: 760 | X5: 43191 | Y5: 7 | Z5: 43556 | AA5: 509 | AB5: śr. 1 kwi | AC5: 104
Q6: 42462 | R6: 42096 | S6: 164 | T6: 42462 | U6: 459 | V6: 42827 | W6: 443 | X6: 43192 | Y6: 69 | Z6: 43557 | AA6: 455 | AB6: czw. 2 kwi | AC6: 118
Q7: 42463 | R7: 42097 | S7: 185 | T7: 42463 | U7: 518 | V7: 42828 | W7: 410 | X7: 43193 | Y7: 150 | Z7: 43558 | AA7: 526 | AB7: pt. 3 kwi | AC7: 119
Q8: 42464 | R8: 42098 | S8: 75 | T8: 42464 | U8: 442 | V8: 42829 | W8: 450 | X8: 43194 | Y8: 410 | Z8: 43559 | AA8: 505 | AB8: sob. 4 kwi | AC8: 143
Q9: 42465 | R9: 42099 | S9: 38 | T9: 42465 | U9: 634 | V9: 42830 | W9: 343 | X9: 43195 | Y9: 339 | Z9: 43560 | AA9: 539 | AB9: niedz. 5 kwi | AC9: 160
Q10: 42466 | R10: 42100 | S10: 71 | T10: 42466 | U10: 331 | V10: 42831 | W10: 345 | X10: 43196 | Y10: 256 | Z10: 43561 | AA10: 606 | AB10: pon. 6 kwi | AC10: 254
Q11: 42467 | R11: 42101 | S11: 194 | T11: 42467 | U11: 384 | V11: 42832 | W11: 285 | X11: 43197 | Y11: 418 | Z11: 43562 | AA11: 599 | AB11: wt. 7 kwi | AC11: 296
Q12: 42468 | R12: 42102 | S12: 228 | T12: 42468 | U12: 418 | V12: 42833 | W12: 407 | X12: 43198 | Y12: 802 | Z12: 43563 | AA12: 404 | AB12: śr. 8 kwi | AC12: 299
Q13: 42469 | R13: 42103 | S13: 299 | T13: 42469 | U13: 505 | V13: 42834 | W13: 395 | X13: 43199 | Y13: 524 | Z13: 43564 | AA13: 379 | AB13: czw. 9 kwi | AC13: 209
Q14: 42470 | R14: 42104 | S14: 399 | T14: 42470 | U14: 356 | V14: 42835 | W14: 493 | X14: 43200 | Y14: 468 | Z14: 43565 | AA14: 296 | AB14: pt. 10 kwi | AC14: 225
Q15: 42471 | R15: 42105 | S15: 592 | T15: 42471 | U15: 413 | V15: 42836 | W15: 259 | X15: 43201 | Y15: 350 | Z15: 43566 | AA15: 272 | AB15: sob. 11 kwi | AC15: 151
Q16: 42472 | R16: 42106 | S16: 277 | T16: 42472 | U16: 433 | V16: 42837 | W16: 247 | X16: 43202 | Y16: 503 | Z16: 43567 | AA16: 269 | AB16: niedz. 12 kwi | AC16: 107
... Q34: 42490 | R34: 42124 | S34: 378 | T34: 42490 | U34: 473 | V34: 42855 | W34: 393 | X34: 43220 | Y34: 628 | Z34: 43585 | AA34: 618 | AB34: czw. 30 kwi | AC34: 415
Q36: Razem | S36: =SUM(S5:S34) -> 8382 | U36: =SUM(U5:U34) -> 11721 | W36: =SUM(W5:W34) -> 9055 | Y36: =SUM(Y5:Y34) -> 14379 | AA36: =SUM(AA5:AA34) -> 14235 | AC36: =SUM(AC5:AC34) -> 7900

Sheet maj
Q3: Data | S3: 2015 | U3: 2016 | W3: 2017 | Y3: 2018 | AA3: 2019
Q5: 42491 | R5: 42125 | S5: 197 | T5: 42491 | U5: 458 | V5: 42856 | W5: 581 | X5: 43221 | Y5: 717 | Z5: 43586 | AA5: 589
Q6: 42492 | R6: 42126 | S6: 336 | T6: 42492 | U6: 630 | V6: 42857 | W6: 424 | X6: 43222 | Y6: 543 | Z6: 43587 | AA6: 205
Q7: 42493 | R7: 42127 | S7: 564 | T7: 42493 | U7: 819 | V7: 42858 | W7: 423 | X7: 43223 | Y7: 489 | Z7: 43588 | AA7: 235
Q8: 42494 | R8: 42128 | S8: 254 | T8: 42494 | U8: 633 | V8: 42859 | W8: 309 | X8: 43224 | Y8: 612 | Z8: 43589 | AA8: 316
Q9: 42495 | R9: 42129 | S9: 563 | T9: 42495 | U9: 743 | V9: 42860 | W9: 384 | X9: 43225 | Y9: 710 | Z9: 43590 | AA9: 345
Q10: 42496 | R10: 42130 | S10: 585 | T10: 42496 | U10: 752 | V10: 42861 | W10: 765 | X10: 43226 | Y10: 823 | Z10: 43591 | AA10: 564
Q11: 42497 | R11: 42131 | S11: 486 | T11: 42497 | U11: 847 | V11: 42862 | W11: 290 | X11: 43227 | Y11: 910 | Z11: 43592 | AA11: 626
Q12: 42498 | R12: 42132 | S12: 546 | T12: 42498 | U12: 946 | V12: 42863 | W12: 405 | X12: 43228 | Y12: 997 | Z12: 43593 | AA12: 706
Q13: 42499 | R13: 42133 | S13: 586 | T13: 42499 | U13: 832 | V13: 42864 | W13: 417 | X13: 43229 | Y13: 964 | Z13: 43594 | AA13: 541
Q14: 42500 | R14: 42134 | S14: 274 | T14: 42500 | U14: 911 | V14: 42865 | W14: 197 | X14: 43230 | Y14: 969 | Z14: 43595 | AA14: 679
Q15: 42501 | R15: 42135 | S15: 655 | T15: 42501 | U15: 755 | V15: 42866 | W15: 500 | X15: 43231 | Y15: 638 | Z15: 43596 | AA15: 485
Q16: 42502 | R16: 42136 | S16: 668 | T16: 42502 | U16: 677 | V16: 42867 | W16: 630 | X16: 43232 | Y16: 655 | Z16: 43597 | AA16: 304
... Q35: 42521 | R35: 42155 | S35: 531 | T35: 42521 | U35: 780 | V35: 42886 | W35: 602 | X35: 43251 | Y35: 856 | Z35: 43616 | AA35: 704
Q37: Razem | S37: =SUM(S5:S35) -> 16107 | U37: =SUM(U5:U35) -> 21557 | W37: =SUM(W5:W35) -> 21279 | Y37: =SUM(Y5:Y35) -> 24430 | AA37: =SUM(AA5:AA35) -> 16441

Sheet czerwiec
Q3: Data | S3: 2015 | U3: 2016 | W3: 2017 | Y3: 2018 | AA3: 2019
Q5: 42522 | R5: 42156 | S5: 483 | T5: 42522 | U5: 829 | V5: 42887 | W5: 628 | X5: 43252 | Y5: 624 | Z5: 43617 | AA5: 521
Q6: 42523 | R6: 42157 | S6: 599 | T6: 42523 | U6: 830 | V6: 42888 | W6: 641 | X6: 43253 | Y6: 679 | Z6: 43618 | AA6: 834
Q7: 42524 | R7: 42158 | S7: 556 | T7: 42524 | U7: 942 | V7: 42889 | W7: 691 | X7: 43254 | Y7: 702 | Z7: 43619 | AA7: 886
Q8: 42525 | R8: 42159 | S8: 717 | T8: 42525 | U8: 801 | V8: 42890 | W8: 69 | X8: 43255 | Y8: 910 | Z8: 43620 | AA8: 877
Q9: 42526 | R9: 42160 | S9: 670 | T9: 42526 | U9: 708 | V9: 42891 | W9: 698 | X9: 43256 | Y9: 683 | Z9: 43621 | AA9: 977
Q10: 42527 | R10: 42161 | S10: 657 | T10: 42527 | U10: 746 | V10: 42892 | W10: 627 | X10: 43257 | Y10: 882 | Z10: 43622 | AA10: 965
Q11: 42528 | R11: 42162 | S11: 619 | T11: 42528 | U11: 813 | V11: 42893 | W11: 546 | X11: 43258 | Y11: 899 | Z11: 43623 | AA11: 670
Q12: 42529 | R12: 42163 | S12: 620 | T12: 42529 | U12: 719 | V12: 42894 | W12: 639 | X12: 43259 | Y12: 842 | Z12: 43624 | AA12: 582
Q13: 42530 | R13: 42164 | S13: 697 | T13: 42530 | U13: 765 | V13: 42895 | W13: 743 | X13: 43260 | Y13: 749 | Z13: 43625 | AA13: 867
Q14: 42531 | R14: 42165 | S14: 703 | T14: 42531 | U14: 467 | V14: 42896 | W14: 460 | X14: 43261 | Y14: 924 | Z14: 43626 | AA14: 731
Q15: 42532 | R15: 42166 | S15: 716 | T15: 42532 | U15: 446 | V15: 42897 | W15: 909 | X15: 43262 | Y15: 639 | Z15: 43627 | AA15: 868
Q16: 42533 | R16: 42167 | S16: 648 | T16: 42533 | U16: 719 | V16: 42898 | W16: 509 | X16: 43263 | Y16: 599 | Z16: 43628 | AA16: 970
... Q34: 42551 | R34: 42185 | S34: 774 | T34: 42551 | U34: 641 | V34: 42916 | W34: 244 | X34: 43281 | Y34: 360 | Z34: 43646 | AA34: 632
Q36: Razem | S36: =SUM(S5:S34) -> 17513 | U36: =SUM(U5:U34) -> 19041 | W36: =SUM(W5:W34) -> 17997 | Y36: =SUM(Y5:Y35) -> 20448 | AA36: =SUM(AA5:AA34) -> 23517

Sheet lipiec
Q3: Data | S3: 2015 | U3: 2016 | W3: 2017 | Y3: 2018 | AA3: 2019
Q5: 42552 | R5: 42186 | S5: 756 | T5: 42552 | U5: 677 | V5: 42917 | W5: 95 | X5: 43282 | Y5: 315 | Z5: 43647 | AA5: 787
Q6: 42553 | R6: 42187 | S6: 753 | T6: 42553 | U6: 484 | V6: 42918 | W6: 461 | X6: 43283 | Y6: 478 | Z6: 43648 | AA6: 631
Q7: 42554 | R7: 42188 | S7: 705 | T7: 42554 | U7: 504 | V7: 42919 | W7: 661 | X7: 43284 | Y7: 680 | Z7: 43649 | AA7: 728
Q8: 42555 | R8: 42189 | S8: 575 | T8: 42555 | U8: 662 | V8: 42920 | W8: 494 | X8: 43285 | Y8: 901 | Z8: 43650 | AA8: 653
Q9: 42556 | R9: 42190 | S9: 501 | T9: 42556 | U9: 707 | V9: 42921 | W9: 569 | X9: 43286 | Y9: 806 | Z9: 43651 | AA9: 546
Q10: 42557 | R10: 42191 | S10: 441 | T10: 42557 | U10: 327 | V10: 42922 | W10: 790 | X10: 43287 | Y10: 708 | Z10: 43652 | AA10: 272
Q11: 42558 | R11: 42192 | S11: 755 | T11: 42558 | U11: 527 | V11: 42923 | W11: 667 | X11: 43288 | Y11: 598 | Z11: 43653 | AA11: 342
Q12: 42559 | R12: 42193 | S12: 496 | T12: 42559 | U12: 571 | V12: 42924 | W12: 340 | X12: 43289 | Y12: 645 | Z12: 43654 | AA12: 231
Q13: 42560 | R13: 42194 | S13: 487 | T13: 42560 | U13: 431 | V13: 42925 | W13: 733 | X13: 43290 | Y13: 537 | Z13: 43655 | AA13: 323
Q14: 42561 | R14: 42195 | S14: 316 | T14: 42561 | U14: 452 | V14: 42926 | W14: 642 | X14: 43291 | Y14: 676 | Z14: 43656 | AA14: 586
Q15: 42562 | R15: 42196 | S15: 434 | T15: 42562 | U15: 598 | V15: 42927 | W15: 617 | X15: 43292 | Y15: 638 | Z15: 43657 | AA15: 881
Q16: 42563 | R16: 42197 | S16: 501 | T16: 42563 | U16: 810 | V16: 42928 | W16: 605 | X16: 43293 | Y16: 374 | Z16: 43658 | AA16: 746
... Q35: 42582 | R35: 42216 | S35: 301 | T35: 42582 | U35: 574 | V35: 42947 | W35: 771 | X35: 43312 | Y35: 761 | Z35: 43677 | AA35: 827
Q37: Razem | S37: =SUM(S5:S35) -> 16449 | U37: =SUM(U5:U35) -> 19022 | W37: =SUM(W5:W35) -> 17573 | Y37: =SUM(Y5:Y35) -> 19638 | AA37: =SUM(AA5:AA35) -> 20229

Sheet sierpień
Q3: Data | S3: 2015 | U3: 2016 | W3: 2017 | Y3: 2018 | AA3: 2019
Q5: 42583 | R5: 42217 | S5: 489 | T5: 42583 | U5: 428 | V5: 42948 | W5: 871 | X5: 43313 | Y5: 595 | Z5: 43678 | AA5: 519
Q6: 42584 | R6: 42218 | S6: 715 | T6: 42584 | U6: 508 | V6: 42949 | W6: 782 | X6: 43314 | Y6: 592 | Z6: 43679 | AA6: 680
Q7: 42585 | R7: 42219 | S7: 689 | T7: 42585 | U7: 745 | V7: 42950 | W7: 486 | X7: 43315 | Y7: 693 | Z7: 43680 | AA7: 579
Q8: 42586 | R8: 42220 | S8: 676 | T8: 42586 | U8: 593 | V8: 42951 | W8: 751 | X8: 43316 | Y8: 517 | Z8: 43681 | AA8: 541
Q9: 42587 | R9: 42221 | S9: 738 | T9: 42587 | U9: 318 | V9: 42952 | W9: 662 | X9: 43317 | Y9: 495 | Z9: 43682 | AA9: 536
Q10: 42588 | R10: 42222 | S10: 737 | T10: 42588 | U10: 348 | V10: 42953 | W10: 500 | X10: 43318 | Y10: 734 | Z10: 43683 | AA10: 587
Q11: 42589 | R11: 42223 | S11: 604 | T11: 42589 | U11: 494 | V11: 42954 | W11: 774 | X11: 43319 | Y11: 738 | Z11: 43684 | AA11: 785
Q12: 42590 | R12: 42224 | S12: 491 | T12: 42590 | U12: 687 | V12: 42955 | W12: 846 | X12: 43320 | Y12: 725 | Z12: 43685 | AA12: 655
Q13: 42591 | R13: 42225 | S13: 542 | T13: 42591 | U13: 630 | V13: 42956 | W13: 826 | X13: 43321 | Y13: 737 | Z13: 43686 | AA13: 601
Q14: 42592 | R14: 42226 | S14: 657 | T14: 42592 | U14: 644 | V14: 42957 | W14: 673 | X14: 43322 | Y14: 527 | Z14: 43687 | AA14: 373
Q15: 42593 | R15: 42227 | S15: 708 | T15: 42593 | U15: 555 | V15: 42958 | W15: 671 | X15: 43323 | Y15: 439 | Z15: 43688 | AA15: 723
Q16: 42594 | R16: 42228 | S16: 569 | T16: 42594 | U16: 522 | V16: 42959 | W16: 369 | X16: 43324 | Y16: 376 | Z16: 43689 | AA16: 646
... Q35: 42613 | R35: 42247 | S35: 708 | T35: 42613 | U35: 685 | V35: 42978 | W35: 684 | X35: 43343 | Y35: 513 | Z35: 43708 | AA35: 629
Q37: Razem | S37: =SUM(S5:S35) -> 19432 | U37: =SUM(U5:U35) -> 17021 | W37: =SUM(W5:W35) -> 19203 | Y37: =SUM(Y5:Y35) -> 18688 | AA37: =SUM(AA5:AA35) -> 20479

Sheet wrzesień
Q3: Data | S3: 2015 | U3: 2016 | W3: 2017 | Y3: 2018 | AA3: 2019
Q5: 42614 | R5: 42248 | S5: 708 | T5: 42614 | U5: 676 | V5: 42979 | W5: 319 | X5: 43344 | Y5: 559 | Z5: 873 | AA5: 687
Q6: 42615 | R6: 42249 | S6: 544 | T6: 42615 | U6: 653 | V6: 42980 | W6: 158 | X6: 43345 | Y6: 592 | Z6: 917 | AA6: 691
Q7: 42616 | R7: 42250 | S7: 729 | T7: 42616 | U7: 595 | V7: 42981 | W7: 269 | X7: 43346 | Y7: 709 | Z7: 1121 | AA7: 789
Q8: 42617 | R8: 42251 | S8: 459 | T8: 42617 | U8: 66 | V8: 42982 | W8: 264 | X8: 43347 | Y8: 732 | Z8: 1259 | AA8: 912
Q9: 42618 | R9: 42252 | S9: 388 | T9: 42618 | U9: 465 | V9: 42983 | W9: 423 | X9: 43348 | Y9: 756 | Z9: 1289 | AA9: 813
Q10: 42619 | R10: 42253 | S10: 182 | T10: 42619 | U10: 660 | V10: 42984 | W10: 211 | X10: 43349 | Y10: 632 | Z10: 1150 | AA10: 819
Q11: 42620 | R11: 42254 | S11: 116 | T11: 42620 | U11: 777 | V11: 42985 | W11: 183 | X11: 43350 | Y11: 735 | Z11: 528 | AA11: 367
Q12: 42621 | R12: 42255 | S12: 278 | T12: 42621 | U12: 751 | V12: 42986 | W12: 346 | X12: 43351 | Y12: 413 | Z12: 637 | AA12: 472
Q13: 42622 | R13: 42256 | S13: 432 | T13: 42622 | U13: 739 | V13: 42987 | W13: 466 | X13: 43352 | Y13: 592 | Z13: 938 | AA13: 711
Q14: 42623 | R14: 42257 | S14: 591 | T14: 42623 | U14: 580 | V14: 42988 | W14: 188 | X14: 43353 | Y14: 769 | Z14: 405 | AA14: 327
Q15: 42624 | R15: 42258 | S15: 519 | T15: 42624 | U15: 656 | V15: 42989 | W15: 485 | X15: 43354 | Y15: 650 | Z15: 1102 | AA15: 844
Q16: 42625 | R16: 42259 | S16: 243 | T16: 42625 | U16: 722 | V16: 42990 | W16: 544 | X16: 43355 | Y16: 642 | Z16: 1067 | AA16: 741
... Q34: 42643 | R34: 42277 | S34: 464 | T34: 42643 | U34: 466 | V34: 43008 | W34: 364 | X34: 43373 | Y34: 265 | Z34: 377 | AA34: 317
Q36: Razem | S36: =SUM(S5:S34) -> 13428 | U36: =SUM(U5:U34) -> 16686 | W36: =SUM(W5:W34) -> 11162 | Y36: =SUM(Y5:Y34) -> 16495 | AA36: =SUM(AA5:AA34) -> 16620

Sheet październik
Q3: Data | S3: 2015 | U3: 2016 | W3: 2017 | Y3: 2018 | AA3: 2019
Q5: 42644 | R5: 42278 | S5: 478 | T5: 42644 | U5: 332 | V5: 43009 | W5: 420 | X5: 43374 | Y5: 529 | Z5: 43739 | AA5: 300
Q6: 42645 | R6: 42279 | S6: 462 | T6: 42645 | U6: 390 | V6: 43010 | W6: 354 | X6: 43375 | Y6: 421 | Z6: 43740 | AA6: 394
Q7: 42646 | R7: 42280 | S7: 467 | T7: 42646 | U7: 275 | V7: 43011 | W7: 327 | X7: 43376 | Y7: 238 | Z7: 43741 | AA7: 476
Q8: 42647 | R8: 42281 | S8: 447 | T8: 42647 | U8: 336 | V8: 43012 | W8: 293 | X8: 43377 | Y8: 468 | Z8: 43742 | AA8: 432
Q9: 42648 | R9: 42282 | S9: 429 | T9: 42648 | U9: 185 | V9: 43013 | W9: 182 | X9: 43378 | Y9: 462 | Z9: 43743 | AA9: 245
Q10: 42649 | R10: 42283 | S10: 373 | T10: 42649 | U10: 160 | V10: 43014 | W10: 346 | X10: 43379 | Y10: 456 | Z10: 43744 | AA10: 154
Q11: 42650 | R11: 42284 | S11: 363 | T11: 42650 | U11: 168 | V11: 43015 | W11: 207 | X11: 43380 | Y11: 184 | Z11: 43745 | AA11: 388
Q12: 42651 | R12: 42285 | S12: 303 | T12: 42651 | U12: 141 | V12: 43016 | W12: 244 | X12: 43381 | Y12: 435 | Z12: 43746 | AA12: 295
Q13: 42652 | R13: 42286 | S13: 284 | T13: 42652 | U13: 122 | V13: 43017 | W13: 192 | X13: 43382 | Y13: 543 | Z13: 43747 | AA13: 427
Q14: 42653 | R14: 42287 | S14: 191 | T14: 42653 | U14: 251 | V14: 43018 | W14: 301 | X14: 43383 | Y14: 646 | Z14: 43748 | AA14: 342
Q15: 42654 | R15: 42288 | S15: 204 | T15: 42654 | U15: 306 | V15: 43019 | W15: 297 | X15: 43384 | Y15: 587 | Z15: 43749 | AA15: 429
Q16: 42655 | R16: 42289 | S16: 260 | T16: 42655 | U16: 342 | V16: 43020 | W16: 275 | X16: 43385 | Y16: 551 | Z16: 43750 | AA16: 186
... Q35: 42674 | R35: 42308 | S35: 355 | T35: 42674 | U35: 289 | V35: 43039 | W35: 346 | X35: 43404 | Y35: 481 | Z35: 43769 | AA35: 349
Q37: Razem | S37: =SUM(S5:S35) -> 9295 | U37: =SUM(U5:U35) -> 7568 | W37: =SUM(W5:W35) -> 8468 | Y37: =SUM(Y5:Y35) -> 12768 | AA37: =SUM(AA5:AA35) -> 12527

Sheet listopad
Q3: Data | S3: 2015 | U3: 2016 | V3: Data | W3: 2017 | Y3: 2018 | AA3: 2019
Q5: 42675 | R5: 42309 | S5: 279 | T5: 42675 | U5: 93 | V5: 43040 | W5: 147 | X5: 43405 | Y5: 379 | Z5: 43770 | AA5: 238
Q6: 42676 | R6: 42310 | S6: 305 | T6: 42676 | U6: 157 | V6: 43041 | W6: 161 | X6: 43406 | Y6: 401 | Z6: 43771 | AA6: 78
Q7: 42677 | R7: 42311 | S7: 272 | T7: 42677 | U7: 138 | V7: 43042 | W7: 267 | X7: 43407 | Y7: 260 | Z7: 43772 | AA7: 147
Q8: 42678 | R8: 42312 | S8: 275 | T8: 42678 | U8: 166 | V8: 43043 | W8: 241 | X8: 43408 | Y8: 232 | Z8: 43773 | AA8: 153
Q9: 42679 | R9: 42313 | S9: 206 | T9: 42679 | U9: 97 | V9: 43044 | W9: 249 | X9: 43409 | Y9: 326 | Z9: 43774 | AA9: 263
Q10: 42680 | R10: 42314 | S10: 180 | T10: 42680 | U10: 134 | V10: 43045 | W10: 245 | X10: 43410 | Y10: 443 | Z10: 43775 | AA10: 284
Q11: 42681 | R11: 42315 | S11: 173 | T11: 42681 | U11: 156 | V11: 43046 | W11: 300 | X11: 43411 | Y11: 387 | Z11: 43776 | AA11: 314
Q12: 42682 | R12: 42316 | S12: 73 | T12: 42682 | U12: 221 | V12: 43047 | W12: 258 | X12: 43412 | Y12: 407 | Z12: 43777 | AA12: 293
Q13: 42683 | R13: 42317 | S13: 139 | T13: 42683 | U13: 146 | V13: 43048 | W13: 251 | X13: 43413 | Y13: 266 | Z13: 43778 | AA13: 127
Q14: 42684 | R14: 42318 | S14: 107 | T14: 42684 | U14: 181 | V14: 43049 | W14: 204 | X14: 43414 | Y14: 204 | Z14: 43779 | AA14: 188
Q15: 42685 | R15: 42319 | S15: 142 | T15: 42685 | U15: 56 | V15: 43050 | W15: 28 | X15: 43415 | Y15: 126 | Z15: 43780 | AA15: 132
Q16: 42686 | R16: 42320 | S16: 150 | T16: 42686 | U16: 71 | V16: 43051 | W16: 111 | X16: 43416 | Y16: 185 | Z16: 43781 | AA16: 196
... Q34: 42704 | R34: 42338 | S34: 92 | T34: 42704 | U34: 134 | V34: 43069 | W34: 165 | X34: 43434 | Y34: 145 | Z34: 43799 | AA34: 121
Q36: Razem | S36: =SUM(S5:S34) -> 4763 | U36: =SUM(U5:U34) -> 4435 | V36: Razem | W36: =SUM(W5:W34) -> 5577 | Y36: =SUM(Y5:Y34) -> 7106 | AA36: =SUM(AA5:AA34) -> 5997

Sheet grudzień
Q3: Data | S3: 2014 | U3: 2015 | W3: 2016 | X3: Data | Y3: 2017 | AA3: 2018 | AC3: 2019
Q5: 42705 | R5: 41974 | S5: 94 | T5: 42339 | U5: 102 | V5: 42705 | W5: 129 | X5: 43070 | Y5: 107 | Z5: 43435 | AA5: 82 | AB5: 43800 | AC5: 98
Q6: 42706 | R6: 41975 | S6: 121 | T6: 42340 | U6: 135 | V6: 42706 | W6: 100 | X6: 43071 | Y6: 117 | Z6: 43436 | AA6: 73 | AB6: 43801 | AC6: 155
Q7: 42707 | R7: 41976 | S7: 135 | T7: 42341 | U7: 139 | V7: 42707 | W7: 54 | X7: 43072 | Y7: 71 | Z7: 43437 | AA7: 178 | AB7: 43802 | AC7: 183
Q8: 42708 | R8: 41977 | S8: 123 | T8: 42342 | U8: 121 | V8: 42708 | W8: 46 | X8: 43073 | Y8: 143 | Z8: 43438 | AA8: 201 | AB8: 43803 | AC8: 179
Q9: 42709 | R9: 41978 | S9: 110 | T9: 42343 | U9: 128 | V9: 42709 | W9: 122 | X9: 43074 | Y9: 151 | Z9: 43439 | AA9: 210 | AB9: 43804 | AC9: 225
Q10: 42710 | R10: 41979 | S10: 98 | T10: 42344 | U10: 121 | V10: 42710 | W10: 151 | X10: 43075 | Y10: 113 | Z10: 43440 | AA10: 134 | AB10: 43805 | AC10: 189
Q11: 42711 | R11: 41980 | S11: 70 | T11: 42345 | U11: 161 | V11: 42711 | W11: 132 | X11: 43076 | Y11: 176 | Z11: 43441 | AA11: 152 | AB11: 43806 | AC11: 104
Q12: 42712 | R12: 41981 | S12: 120 | T12: 42346 | U12: 165 | V12: 42712 | W12: 99 | X12: 43077 | Y12: 139 | Z12: 43442 | AA12: 117 | AB12: 43807 | AC12: 79
Q13: 42713 | R13: 41982 | S13: 147 | T13: 42347 | U13: 165 | V13: 42713 | W13: 137 | X13: 43078 | Y13: 91 | Z13: 43443 | AA13: 52 | AB13: 43808 | AC13: 202
Q14: 42714 | R14: 41983 | S14: 110 | T14: 42348 | U14: 176 | V14: 42714 | W14: 56 | X14: 43079 | Y14: 70 | Z14: 43444 | AA14: 182 | AB14: 43809 | AC14: 174
Q15: 42715 | R15: 41984 | S15: 123 | T15: 42349 | U15: 116 | V15: 42715 | W15: 39 | X15: 43080 | Y15: 126 | Z15: 43445 | AA15: 165 | AB15: 43810 | AC15: 165
Q16: 42716 | R16: 41985 | S16: 99 | T16: 42350 | U16: 69 | V16: 42716 | W16: 97 | X16: 43081 | Y16: 159 | Z16: 43446 | AA16: 151 | AB16: 43811 | AC16: 167
... Q35: 42735 | R35: 42004 | S35: 41 | T35: 42369 | U35: 65 | V35: 42735 | W35: 87 | X35: 43100 | Y35: 31 | Z35: 43465 | AA35: 116 | AB35: 43830 | AC35: 110
Q37: Razem | S37: =SUM(S5:S35) -> 2720 | U37: =SUM(U5:U35) -> 3471 | W37: =SUM(W5:W35) -> 3055 | X37: Razem | Y37: =SUM(Y5:Y35) -> 3302 | AA37: =SUM(AA5:AA35) -> 3207 | AC37: =SUM(AC5:AC35) -> 4210
